Uber Exif Photo
Keywords : Japan, Kobe, Nikkor 50 1.2, Nikon D200, bokeh, city, flowers, green, life, urban, verdant, verde, 日本, 木, 神戸, 緑, 花
Make : NIKON CORPORATION
Camera Model Name : NIKON D200
Software : Adobe Photoshop Lightroom 3.4.1
Modify Date : 2011:06:05 16:49:41
Exposure Time : 1/80
F Number : 4.0
Exposure Program : Aperture-priority AE
ISO : 200
Date/Time Original : 2011:06:04 05:20:52
Create Date : 2011:06:04 05:20:52
Shutter Speed Value : 1/80
Aperture Value : 4.0
Exposure Compensation : +1/3
Max Aperture Value : 1.0
Metering Mode : Multi-segment
Light Source : Unknown
Flash : No Flash
Focal Length : 50.0 mm
Sensing Method : One-chip color area
Scene Type : Directly photographed
CFA Pattern : [Green,Red][Blue,Green]
Custom Rendered : Normal
Exposure Mode : Auto
White Balance : Auto
Digital Zoom Ratio : 1
Focal Length In 35mm Format : 75 mm
Scene Capture Type : Standard
Gain Control : None
Contrast : Normal
Saturation : Normal
Sharpness : Hard
Subject Distance Range : Unknown
Lens Info : 0mm f/0
Lens Model : 0.0 mm f/0.0
Profile Description : sRGB IEC61966-2.1
Creator Tool : Adobe Photoshop Lightroom 3.4.1
Lens : 0.0 mm f/0.0
Image Number : 59507
Date Created : 2011:06:04 05:20:52.90
Version : 6.4.1
Process Version : 5.7
Color Temperature : 4950
Tint : -7
Exposure : +0.33
Shadows : 39
Brightness : +61
Luminance Smoothing : 0
Color Noise Reduction : 25
Chromatic Aberration R : 0
Chromatic Aberration B : 0
Vignette Amount : 0
Shadow Tint : -27
Red Hue : +11
Red Saturation : +11
Green Hue : 0
Green Saturation : 0
Blue Hue : 0
Blue Saturation : 0
Fill Light : 42
Vibrance : +11
Highlight Recovery : 0
Clarity : +15
Defringe : 0
Hue Adjustment Red : +8
Hue Adjustment Orange : 0
Hue Adjustment Yellow : 0
Hue Adjustment Green : +63
Hue Adjustment Aqua : 0
Hue Adjustment Blue : 0
Hue Adjustment Purple : 0
Hue Adjustment Magenta : 0
Saturation Adjustment Red : 0
Saturation Adjustment Orange : 0
Saturation Adjustment Yellow : 0
Saturation Adjustment Green : 0
Saturation Adjustment Aqua : 0
Saturation Adjustment Blue : 0
Saturation Adjustment Purple : 0
Saturation Adjustment Magenta : 0
Luminance Adjustment Red : +2
Luminance Adjustment Orange : 0
Luminance Adjustment Yellow : +2
Luminance Adjustment Green : +54
Luminance Adjustment Aqua : 0
Luminance Adjustment Blue : 0
Luminance Adjustment Purple : 0
Luminance Adjustment Magenta : 0
Split Toning Shadow Hue : 0
Split Toning Shadow Saturation : 0
Split Toning Highlight Hue : 58
Split Toning Highlight Saturation : 31
Split Toning Balance : +45
Parametric Shadows : 0
Parametric Darks : 0
Parametric Lights : 0
Parametric Highlights : 0
Parametric Shadow Split : 25
Parametric Midtone Split : 50
Parametric Highlight Split : 75
Sharpen Radius : +1.0
Sharpen Detail : 25
Sharpen Edge Masking : 0
Post Crop Vignette Amount : -23
Post Crop Vignette Midpoint : 20
Post Crop Vignette Feather : 50
Post Crop Vignette Roundness : 0
Post Crop Vignette Style : Highlight Priority
Post Crop Vignette Highlight Contrast : 100
Grain Amount : 0
Color Noise Reduction Detail : 50
Lens Profile Enable : 0
Lens Manual Distortion Amount : 0
Perspective Vertical : 0
Perspective Horizontal : 0
Perspective Rotate : 0.0
Perspective Scale : 100
Convert To Grayscale : False
Tone Curve Name : Custom
Camera Profile : Camera D2X Mode 3
Lens Profile Setup : LensDefaults
Has Settings : True
Crop Top : 0.180474
Crop Left : 0.160181
Crop Bottom : 0.935929
Crop Right : 1
Crop Angle : -2.7438
Crop Constrain To Warp : 0
Crop Width : 640
Crop Height : 428
Crop Unit : pixels
Has Crop : True
Already Applied : True
Subject : Japan, Kobe, Nikkor 50 1.2, Nikon D200, bokeh, city, flowers, green, life, urban, verdant, verde, 日本, 木, 神戸, 緑, 花
Tone Curve : 0, 0, 30, 16, 44, 29, 64, 56, 128, 128, 222, 248, 255, 255
Image Width : 201
Image Height : 300
Bits Per Sample : 8
Color Components : 3
Aperture : 4.0
Image Size : 201x300
Megapixels : 0.060
Scale Factor To 35 mm Equivalent : 1.5
Shutter Speed : 1/80
Create Date : 2011:06:04 05:20:52.90
Date/Time Original : 2011:06:04 05:20:52.90
Circle Of Confusion : 0.020 mm
Field Of View : 27.0 deg
Focal Length : 50.0 mm (35 mm equivalent: 75.0 mm)
Hyperfocal Distance : 31.20 m
Light Value : 9.3
Lens ID : 0.0mm f/0.0