Uber Exif Photo
Copyright Notice : RC COPELAND
Make : NIKON CORPORATION
Camera Model Name : NIKON D700
Orientation : Horizontal (normal)
Software : Adobe Photoshop Elements 8.0 Macintosh
Modify Date : 2011:06:13 13:19:19
Copyright : RC COPELAND
Exposure Time : 1/60
F Number : 5.6
Exposure Program : Aperture-priority AE
ISO : 1600
Date/Time Original : 2011:06:11 11:02:18
Create Date : 2011:06:11 11:02:18
Shutter Speed Value : 1/60
Aperture Value : 5.6
Exposure Compensation : 0
Max Aperture Value : 4.0
Subject Distance : 2.37 m
Metering Mode : Multi-segment
Light Source : Unknown
Focal Length : 52.0 mm
Color Space : sRGB
Exif Image Width : 5320
Exif Image Height : 3540
Sensing Method : One-chip color area
Scene Type : Directly photographed
CFA Pattern : [Red,Green][Green,Blue]
Custom Rendered : Normal
Exposure Mode : Auto
White Balance : Auto
Digital Zoom Ratio : 1
Focal Length In 35mm Format : 52 mm
Scene Capture Type : Standard
Gain Control : High gain up
Contrast : Normal
Saturation : Normal
Sharpness : Normal
Subject Distance Range : Unknown
Profile Description : sRGB IEC61966-2.1
Date/Time Digitized : 2011:06:11 11:02:18.15+01:00
Creator Tool : Ver.1.02
Rating : 0
Format : image/jpeg
Serial Number : 2174842
Lens Info : 24-120mm f/4
Lens : 24.0-120.0 mm f/4.0
Image Number : 8921
Raw File Name : _RCC8092.NEF
Version : 5.5
Color Temperature : 3550
Tint : -12
Exposure : -0.35
Shadows : 1
Brightness : +20
Luminance Smoothing : 0
Color Noise Reduction : 25
Chromatic Aberration R : 0
Chromatic Aberration B : 0
Vignette Amount : 0
Shadow Tint : 0
Red Hue : 0
Red Saturation : 0
Green Hue : 0
Green Saturation : 0
Blue Hue : 0
Blue Saturation : 0
Fill Light : 0
Vibrance : 0
Highlight Recovery : 43
Clarity : +19
Defringe : 0
Hue Adjustment Red : 0
Hue Adjustment Orange : 0
Hue Adjustment Yellow : 0
Hue Adjustment Green : 0
Hue Adjustment Aqua : 0
Hue Adjustment Blue : 0
Hue Adjustment Purple : 0
Hue Adjustment Magenta : 0
Saturation Adjustment Red : 0
Saturation Adjustment Orange : 0
Saturation Adjustment Yellow : 0
Saturation Adjustment Green : 0
Saturation Adjustment Aqua : 0
Saturation Adjustment Blue : 0
Saturation Adjustment Purple : 0
Saturation Adjustment Magenta : 0
Luminance Adjustment Red : 0
Luminance Adjustment Orange : 0
Luminance Adjustment Yellow : 0
Luminance Adjustment Green : 0
Luminance Adjustment Aqua : 0
Luminance Adjustment Blue : 0
Luminance Adjustment Purple : 0
Luminance Adjustment Magenta : 0
Split Toning Shadow Hue : 0
Split Toning Shadow Saturation : 0
Split Toning Highlight Hue : 0
Split Toning Highlight Saturation : 0
Split Toning Balance : 0
Parametric Shadows : 0
Parametric Darks : 0
Parametric Lights : 0
Parametric Highlights : 0
Parametric Shadow Split : 25
Parametric Midtone Split : 50
Parametric Highlight Split : 75
Sharpen Radius : +1.0
Sharpen Detail : 25
Sharpen Edge Masking : 0
Post Crop Vignette Amount : 0
Convert To Grayscale : False
Tone Curve Name : Medium Contrast
Camera Profile : Adobe Standard
Has Settings : True
Has Crop : False
Already Applied : True
Sidecar For Extension : NEF
Color Mode : RGB
ICC Profile Name : sRGB IEC61966-2.1
Flash Fired : False
Flash Return : No return detection
Flash Mode : Unknown
Flash Function : False
Flash Red Eye Mode : False
Rights : RC COPELAND
Tone Curve : 0, 0, 32, 22, 64, 56, 128, 128, 192, 196, 255, 255
Image Width : 300
Image Height : 200
Bits Per Sample : 8
Color Components : 3
Aperture : 5.6
Image Size : 300x200
Megapixels : 0.060
Scale Factor To 35 mm Equivalent : 1.0
Shutter Speed : 1/60
Create Date : 2011:06:11 11:02:18.15
Date/Time Original : 2011:06:11 11:02:18.15
Modify Date : 2011:06:13 13:19:19.15
Flash : No Flash
Circle Of Confusion : 0.030 mm
Depth Of Field : 0.70 m (2.07 - 2.77 m)
Field Of View : 38.2 deg
Focal Length : 52.0 mm (35 mm equivalent: 52.0 mm)
Hyperfocal Distance : 16.07 m
Light Value : 6.9
Lens ID : AF-S Nikkor 24-120mm f/4G ED VR