Uber Exif Photo
Make : NIKON CORPORATION
Camera Model Name : NIKON D3S
Software : Adobe Photoshop Lightroom 3.4
Modify Date : 2011:06:22 18:11:21
Exposure Time : 1/640
F Number : 4.0
Exposure Program : Aperture-priority AE
ISO : 200
Date/Time Original : 2011:06:22 05:39:45
Create Date : 2011:06:22 05:39:45
Shutter Speed Value : 1/640
Aperture Value : 4.0
Exposure Compensation : 0
Max Aperture Value : 1.0
Metering Mode : Multi-segment
Light Source : Unknown
Flash : No Flash
Focal Length : 105.0 mm
Sensing Method : One-chip color area
Scene Type : Directly photographed
CFA Pattern : [Red,Green][Green,Blue]
Custom Rendered : Normal
Exposure Mode : Auto
White Balance : Auto
Digital Zoom Ratio : 1
Focal Length In 35mm Format : 105 mm
Scene Capture Type : Standard
Gain Control : None
Contrast : Normal
Saturation : Normal
Sharpness : Normal
Subject Distance Range : Unknown
Serial Number : 2052563
Lens Info : 0mm f/0
Lens Model : 0.0 mm f/0.0
Creator Tool : Adobe Photoshop Lightroom 3.4
Lens : 0.0 mm f/0.0
Image Number : 808
Date Created : 2011:06:22 05:39:45.08
Version : 6.4
Process Version : 5.7
Color Temperature : 4023
Tint : -99
Exposure : +1.40
Shadows : 26
Brightness : +34
Luminance Smoothing : 0
Color Noise Reduction : 10
Chromatic Aberration R : 0
Chromatic Aberration B : 0
Vignette Amount : 0
Shadow Tint : 0
Red Hue : 0
Red Saturation : 0
Green Hue : 0
Green Saturation : 0
Blue Hue : 0
Blue Saturation : 0
Fill Light : 25
Vibrance : 0
Highlight Recovery : 54
Clarity : 0
Defringe : 0
Hue Adjustment Red : 0
Hue Adjustment Orange : 0
Hue Adjustment Yellow : 0
Hue Adjustment Green : 0
Hue Adjustment Aqua : 0
Hue Adjustment Blue : 0
Hue Adjustment Purple : 0
Hue Adjustment Magenta : 0
Saturation Adjustment Red : -7
Saturation Adjustment Orange : -10
Saturation Adjustment Yellow : 0
Saturation Adjustment Green : 0
Saturation Adjustment Aqua : 0
Saturation Adjustment Blue : 0
Saturation Adjustment Purple : 0
Saturation Adjustment Magenta : 0
Luminance Adjustment Red : 0
Luminance Adjustment Orange : -1
Luminance Adjustment Yellow : 0
Luminance Adjustment Green : 0
Luminance Adjustment Aqua : 0
Luminance Adjustment Blue : 0
Luminance Adjustment Purple : 0
Luminance Adjustment Magenta : 0
Split Toning Shadow Hue : 0
Split Toning Shadow Saturation : 0
Split Toning Highlight Hue : 0
Split Toning Highlight Saturation : 0
Split Toning Balance : 0
Parametric Shadows : +33
Parametric Darks : -24
Parametric Lights : -3
Parametric Highlights : +92
Parametric Shadow Split : 25
Parametric Midtone Split : 50
Parametric Highlight Split : 75
Sharpen Radius : +1.0
Sharpen Detail : 25
Sharpen Edge Masking : 0
Post Crop Vignette Amount : -15
Post Crop Vignette Midpoint : 50
Post Crop Vignette Feather : 50
Post Crop Vignette Roundness : 0
Post Crop Vignette Style : Highlight Priority
Post Crop Vignette Highlight Contrast : 0
Grain Amount : 0
Color Noise Reduction Detail : 50
Lens Profile Enable : 0
Lens Manual Distortion Amount : 0
Perspective Vertical : 0
Perspective Horizontal : 0
Perspective Rotate : 0.0
Perspective Scale : 100
Convert To Grayscale : False
Tone Curve Name : Medium Contrast
Camera Profile : Adobe Standard
Lens Profile Setup : LensDefaults
Has Settings : True
Crop Top : 0.051287
Crop Left : 0.056564
Crop Bottom : 0.993657
Crop Right : 0.998933
Crop Angle : 0
Crop Constrain To Warp : 0
Crop Width : 1280
Crop Height : 852
Crop Unit : pixels
Has Crop : True
Already Applied : True
Tone Curve : 0, 0, 32, 22, 64, 56, 128, 128, 192, 196, 255, 255
Paint Correction What : Correction
Paint Correction Amount : 1.000000
Paint Correction Active : true
Paint Correction Exposure : 0.059829
Paint Correction Saturation : 0.000000
Paint Correction Contrast : 0.000000
Paint Correction Clarity : 0.000000
Paint Correction Sharpness : 0.000000
Paint Correction Brightness : 0.000000
Paint Correction Toning Hue : 358.000000
Paint Correction Toning Saturation : 0.000000
Paint Correction Mask What : Mask/Paint
Paint Correction Mask Value : 1.000000
Paint Correction Mask Radius : 0.129131
Paint Correction Mask Flow : 0.923846
Paint Correction Mask Center Weight : 0.090059
Image Width : 200
Image Height : 300
Bits Per Sample : 8
Color Components : 1
Aperture : 4.0
Image Size : 200x300
Megapixels : 0.060
Scale Factor To 35 mm Equivalent : 1.0
Shutter Speed : 1/640
Create Date : 2011:06:22 05:39:45.08
Date/Time Original : 2011:06:22 05:39:45.08
Circle Of Confusion : 0.030 mm
Field Of View : 19.5 deg
Focal Length : 105.0 mm (35 mm equivalent: 105.0 mm)
Hyperfocal Distance : 91.73 m
Light Value : 12.3
Lens ID : 0.0mm f/0.0