Uber Exif Photo
Keywords : B&W, Black & White, Japan, Kyoto, Nikon D200, bokeh, city, people, street, urban, ポートレート, 京都, 京都駅, 人, 日本, 町, 白黒, 顔, 駅
Make : NIKON CORPORATION
Camera Model Name : NIKON D200
Software : Adobe Photoshop Lightroom 3.4.1
Modify Date : 2011:07:04 20:45:09
Exposure Time : 1/160
F Number : 5.6
Exposure Program : Aperture-priority AE
ISO : 400
Date/Time Original : 2011:07:04 04:20:51
Create Date : 2011:07:04 04:20:51
Shutter Speed Value : 1/160
Aperture Value : 5.6
Exposure Compensation : +1/3
Max Aperture Value : 1.0
Metering Mode : Multi-segment
Light Source : Unknown
Flash : No Flash
Focal Length : 105.0 mm
Sensing Method : One-chip color area
Scene Type : Directly photographed
CFA Pattern : [Green,Red][Blue,Green]
Custom Rendered : Normal
Exposure Mode : Auto
White Balance : Auto
Digital Zoom Ratio : 1
Focal Length In 35mm Format : 157 mm
Scene Capture Type : Standard
Gain Control : Low gain up
Contrast : Normal
Saturation : Normal
Sharpness : Normal
Subject Distance Range : Unknown
Lens Info : 0mm f/0
Lens Model : 0.0 mm f/0.0
Creator Tool : Adobe Photoshop Lightroom 3.4.1
Lens : 0.0 mm f/0.0
Image Number : 61013
Date Created : 2011:07:04 04:20:51.73
Version : 6.4.1
Process Version : 5.7
Color Temperature : 5450
Tint : +4
Exposure : 0.00
Shadows : 15
Brightness : +50
Luminance Smoothing : 0
Color Noise Reduction : 25
Chromatic Aberration R : 0
Chromatic Aberration B : 0
Vignette Amount : 0
Shadow Tint : 0
Red Hue : 0
Red Saturation : 0
Green Hue : 0
Green Saturation : 0
Blue Hue : 0
Blue Saturation : 0
Fill Light : 8
Highlight Recovery : 0
Clarity : 0
Defringe : 0
Gray Mixer Red : -7
Gray Mixer Orange : -17
Gray Mixer Yellow : -21
Gray Mixer Green : -26
Gray Mixer Aqua : -19
Gray Mixer Blue : +8
Gray Mixer Purple : +15
Gray Mixer Magenta : +5
Split Toning Shadow Hue : 0
Split Toning Shadow Saturation : 0
Split Toning Highlight Hue : 0
Split Toning Highlight Saturation : 0
Split Toning Balance : 0
Parametric Shadows : 0
Parametric Darks : 0
Parametric Lights : 0
Parametric Highlights : 0
Parametric Shadow Split : 25
Parametric Midtone Split : 50
Parametric Highlight Split : 75
Sharpen Radius : +1.0
Sharpen Detail : 25
Sharpen Edge Masking : 0
Post Crop Vignette Amount : 0
Grain Amount : 0
Color Noise Reduction Detail : 50
Lens Profile Enable : 0
Lens Manual Distortion Amount : 0
Perspective Vertical : 0
Perspective Horizontal : 0
Perspective Rotate : 0.0
Perspective Scale : 100
Convert To Grayscale : True
Tone Curve Name : Medium Contrast
Camera Profile : Adobe Standard
Lens Profile Setup : LensDefaults
Has Settings : True
Crop Top : 0.19244
Crop Left : 0.078233
Crop Bottom : 0.989755
Crop Right : 0.827738
Crop Angle : 1.65634
Crop Constrain To Warp : 0
Crop Width : 800
Crop Height : 536
Crop Unit : pixels
Has Crop : True
Already Applied : True
Subject : B&W, Black & White, Japan, Kyoto, Nikon D200, bokeh, city, people, street, urban, ポートレート, 京都, 京都駅, 人, 日本, 町, 白黒, 顔, 駅
Tone Curve : 0, 0, 32, 22, 64, 56, 128, 128, 192, 196, 255, 255
Image Width : 300
Image Height : 201
Bits Per Sample : 8
Color Components : 1
Aperture : 5.6
Image Size : 300x201
Megapixels : 0.060
Scale Factor To 35 mm Equivalent : 1.5
Shutter Speed : 1/160
Create Date : 2011:07:04 04:20:51.73
Date/Time Original : 2011:07:04 04:20:51.73
Circle Of Confusion : 0.020 mm
Field Of View : 13.1 deg
Focal Length : 105.0 mm (35 mm equivalent: 157.0 mm)
Hyperfocal Distance : 97.97 m
Light Value : 10.3
Lens ID : 0.0mm f/0.0