Uber Exif Photo
Keywords : Amber Valley, Heage, windmill
Copyright Notice : David Guyler
Copyright Flag : True
Camera Model Name : NIKON D200
Software : Adobe Photoshop Lightroom 3.4.1
Modify Date : 2011:07:09 11:24:15
Copyright : David Guyler
Exposure Time : 1/100
F Number : 8.0
ISO : 200
Date/Time Original : 2011:03:06 18:09:02
Create Date : 2011:03:06 18:09:02
Shutter Speed Value : 1/100
Aperture Value : 8.0
Focal Length : 26.0 mm
Profile Description : sRGB IEC61966-2.1
Method : Details Enhancer
Strength : 70.0
Color Saturation : 46.0
Luminosity : 0.0
White Clip : 0.249550
Black Clip : 0.000000
Smoothing Mode : Slider
Smoothing : 4.4
Microcontrast : 1.8
Microsmoothing : 2.0
Gamma : 1.0
Highlights Smoothing : 0.0
Shadows Smoothing : 0.0
Shadows Clipping : 0.0
Color Temperature : 0.0
Saturation Highlights : 0.0
Saturation Shadows : 0.0
Rating : 1
Creator Tool : Adobe Photoshop Lightroom 3.4.1
Marked : True
Version : 6.4.1
Process Version : 5.7
White Balance : Custom
Incremental Temperature : +3
Incremental Tint : -10
Exposure : -0.60
Shadows : 0
Brightness : 0
Contrast : 0
Saturation : 0
Sharpness : 26
Luminance Smoothing : 0
Color Noise Reduction : 0
Chromatic Aberration R : 0
Chromatic Aberration B : 0
Vignette Amount : 0
Shadow Tint : 0
Red Hue : 0
Red Saturation : 0
Green Hue : 0
Green Saturation : 0
Blue Hue : 0
Blue Saturation : 0
Fill Light : 0
Vibrance : +26
Highlight Recovery : 0
Clarity : +29
Defringe : 0
Hue Adjustment Red : 0
Hue Adjustment Orange : 0
Hue Adjustment Yellow : -20
Hue Adjustment Green : 0
Hue Adjustment Aqua : 0
Hue Adjustment Blue : 0
Hue Adjustment Purple : 0
Hue Adjustment Magenta : 0
Saturation Adjustment Red : 0
Saturation Adjustment Orange : 0
Saturation Adjustment Yellow : -2
Saturation Adjustment Green : -20
Saturation Adjustment Aqua : 0
Saturation Adjustment Blue : +18
Saturation Adjustment Purple : 0
Saturation Adjustment Magenta : 0
Luminance Adjustment Red : 0
Luminance Adjustment Orange : 0
Luminance Adjustment Yellow : 0
Luminance Adjustment Green : 0
Luminance Adjustment Aqua : 0
Luminance Adjustment Blue : 0
Luminance Adjustment Purple : 0
Luminance Adjustment Magenta : 0
Split Toning Shadow Hue : 0
Split Toning Shadow Saturation : 0
Split Toning Highlight Hue : 0
Split Toning Highlight Saturation : 0
Split Toning Balance : 0
Parametric Shadows : -37
Parametric Darks : -18
Parametric Lights : +12
Parametric Highlights : +35
Parametric Shadow Split : 25
Parametric Midtone Split : 50
Parametric Highlight Split : 75
Sharpen Radius : +0.8
Sharpen Detail : 25
Sharpen Edge Masking : 0
Post Crop Vignette Amount : -3
Post Crop Vignette Midpoint : 50
Post Crop Vignette Feather : 50
Post Crop Vignette Roundness : 0
Post Crop Vignette Style : Highlight Priority
Post Crop Vignette Highlight Contrast : 0
Grain Amount : 0
Lens Profile Enable : 0
Lens Manual Distortion Amount : 0
Perspective Vertical : 0
Perspective Horizontal : 0
Perspective Rotate : 0.0
Perspective Scale : 100
Convert To Grayscale : False
Tone Curve Name : Linear
Camera Profile : Embedded
Lens Profile Setup : LensDefaults
Has Settings : True
Crop Top : 0.01165
Crop Left : 0.01165
Crop Bottom : 0.989583
Crop Right : 0.989583
Crop Angle : 0
Crop Constrain To Warp : 0
Crop Width : 3812
Crop Height : 2557
Crop Unit : pixels
Has Crop : True
Already Applied : True
Date Created : 2011:03:06 18:09:02Z
Rights : David Guyler
Subject : Amber Valley, Heage, windmill
Tone Curve : 0, 0, 255, 255
Image Width : 300
Image Height : 201
Bits Per Sample : 8
Color Components : 3
Aperture : 8.0
Image Size : 300x201
Megapixels : 0.060
Shutter Speed : 1/100
Light Value : 11.6