Uber Exif Photo
Make : NIKON CORPORATION
Camera Model Name : NIKON D300
Orientation : Horizontal (normal)
Software : Adobe Photoshop Elements 9.0 Macintosh
Modify Date : 2011:07:12 08:51:35
Exposure Time : 1/800
F Number : 5.6
Exposure Program : Aperture-priority AE
ISO : 200
Date/Time Original : 2011:04:23 09:43:32
Create Date : 2011:04:23 09:43:32
Shutter Speed Value : 1/800
Aperture Value : 5.6
Exposure Compensation : -1/3
Max Aperture Value : 5.3
Subject Distance : 18.8 m
Metering Mode : Multi-segment
Light Source : Unknown
Focal Length : 260.0 mm
Color Space : sRGB
Exif Image Width : 3142
Exif Image Height : 2514
Sensing Method : One-chip color area
Scene Type : Directly photographed
CFA Pattern : [Red,Green][Green,Blue]
Custom Rendered : Normal
Exposure Mode : Auto
White Balance : Auto
Digital Zoom Ratio : 1
Focal Length In 35mm Format : 390 mm
Scene Capture Type : Standard
Gain Control : None
Contrast : Normal
Saturation : Normal
Sharpness : Hard
Subject Distance Range : Unknown
Profile Description : sRGB IEC61966-2.1
Rating Percent : 0
Date/Time Digitized : 2011:04:23 09:43:32.14-05:00
Creator Tool : Nikon Transfer 1.5 M
Rating : 0
Serial Number : 6055215
Lens Info : 80-400mm f/4.5-5.6
Lens : 80.0-400.0 mm f/4.5-5.6
Image Number : 12231
Raw File Name : DSC_2161.NEF
Version : 6.1
Process Version : 5.7
Color Temperature : 4450
Tint : +4
Exposure : +0.70
Shadows : 16
Brightness : +50
Luminance Smoothing : 52
Color Noise Reduction : 50
Chromatic Aberration R : 0
Chromatic Aberration B : 0
Vignette Amount : 0
Shadow Tint : 0
Red Hue : 0
Red Saturation : 0
Green Hue : 0
Green Saturation : 0
Blue Hue : 0
Blue Saturation : 0
Fill Light : 84
Vibrance : +19
Highlight Recovery : 22
Clarity : +100
Defringe : 0
Hue Adjustment Red : 0
Hue Adjustment Orange : 0
Hue Adjustment Yellow : 0
Hue Adjustment Green : 0
Hue Adjustment Aqua : 0
Hue Adjustment Blue : 0
Hue Adjustment Purple : 0
Hue Adjustment Magenta : 0
Saturation Adjustment Red : 0
Saturation Adjustment Orange : 0
Saturation Adjustment Yellow : 0
Saturation Adjustment Green : 0
Saturation Adjustment Aqua : 0
Saturation Adjustment Blue : 0
Saturation Adjustment Purple : 0
Saturation Adjustment Magenta : 0
Luminance Adjustment Red : 0
Luminance Adjustment Orange : 0
Luminance Adjustment Yellow : 0
Luminance Adjustment Green : 0
Luminance Adjustment Aqua : 0
Luminance Adjustment Blue : 0
Luminance Adjustment Purple : 0
Luminance Adjustment Magenta : 0
Split Toning Shadow Hue : 0
Split Toning Shadow Saturation : 0
Split Toning Highlight Hue : 0
Split Toning Highlight Saturation : 0
Split Toning Balance : 0
Parametric Shadows : 0
Parametric Darks : 0
Parametric Lights : 0
Parametric Highlights : 0
Parametric Shadow Split : 25
Parametric Midtone Split : 50
Parametric Highlight Split : 75
Sharpen Radius : +0.7
Sharpen Detail : 6
Sharpen Edge Masking : 0
Post Crop Vignette Amount : 0
Grain Amount : 0
Luminance Noise Reduction Detail : 50
Color Noise Reduction Detail : 50
Luminance Noise Reduction Contrast : 0
Lens Profile Enable : 0
Lens Manual Distortion Amount : 0
Perspective Vertical : 0
Perspective Horizontal : 0
Perspective Rotate : 0.0
Perspective Scale : 100
Convert To Grayscale : False
Tone Curve Name : Medium Contrast
Camera Profile : Camera Vivid
Lens Profile Setup : LensDefaults
Has Settings : True
Crop Top : 0.004267
Crop Left : 0.006616
Crop Bottom : 0.896159
Crop Right : 0.758034
Crop Angle : 0
Crop Constrain To Warp : 1
Has Crop : True
Already Applied : True
Sidecar For Extension : NEF
Color Mode : RGB
ICC Profile Name : sRGB IEC61966-2.1
Format : image/jpeg
Flash Fired : False
Flash Return : No return detection
Flash Mode : Unknown
Flash Function : False
Flash Red Eye Mode : False
Tone Curve : 0, 0, 32, 22, 64, 56, 128, 128, 192, 196, 255, 255
Image Width : 300
Image Height : 240
Bits Per Sample : 8
Color Components : 3
Aperture : 5.6
Image Size : 300x240
Megapixels : 0.072
Scale Factor To 35 mm Equivalent : 1.5
Shutter Speed : 1/800
Create Date : 2011:04:23 09:43:32.14
Date/Time Original : 2011:04:23 09:43:32.14
Modify Date : 2011:07:12 08:51:35.14
Flash : No Flash
Circle Of Confusion : 0.020 mm
Depth Of Field : 1.16 m (18.24 - 19.40 m)
Field Of View : 5.3 deg
Focal Length : 260.0 mm (35 mm equivalent: 390.0 mm)
Hyperfocal Distance : 602.64 m
Light Value : 13.6
Lens ID : AF VR Zoom-Nikkor 80-400mm f/4.5-5.6D ED