Uber Exif Photo
Object Name : Buenos Aires
By-line : Raul G. Padron N.
By-line Title : BAIRES DIGITAL
Copyright Notice : copyright©Raul G. Padron N.
Caption-Abstract : Nikon D2Xs
Writer-Editor : RGPN
Copyright Flag : True
Image Description : Nikon D2Xs
Make : NIKON CORPORATION
Camera Model Name : NIKON D2Xs
Software : Ver.1.00
Modify Date : 2011:07:16 14:12:04
Artist : Raul G. Padron N.
Exposure Time : 1/125
F Number : 7.1
Exposure Program : Aperture-priority AE
ISO : 100
Date/Time Original : 2008:07:23 13:01:40
Create Date : 2008:07:23 13:01:40
Shutter Speed Value : 1/125
Aperture Value : 7.1
Exposure Compensation : 0
Max Aperture Value : 5.1
Metering Mode : Multi-segment
Light Source : Unknown
Focal Length : 62.0 mm
Sensing Method : One-chip color area
Scene Type : Directly photographed
CFA Pattern : [Red,Green][Green,Blue]
Custom Rendered : Normal
Exposure Mode : Auto
White Balance : Auto
Digital Zoom Ratio : 1
Focal Length In 35mm Format : 93 mm
Scene Capture Type : Standard
Gain Control : None
Contrast : High
Saturation : Normal
Sharpness : Hard
Subject Distance Range : Unknown
Profile Description : ColorMatch RGB
Date/Time Digitized : 2008:07:23 13:01:40.90-05:00
Exif Image Width : 1024
Exif Image Height : 1542
Creator Tool : Ver.1.00
Rating : 0
Serial Number : 6007108
Lens Info : 24-120mm f/3.5-5.6
Lens : 24.0-120.0 mm f/3.5-5.6
Image Number : 22239
Preserved File Name : _DSC0029.NEF
Authors Position : BAIRES DIGITAL
Caption Writer : RGPN
Marked : True
Raw File Name : Buenos Aires_229136.dng
Version : 4.6
Color Temperature : 4750
Tint : -1
Exposure : 0.00
Shadows : 12
Brightness : +53
Luminance Smoothing : 0
Color Noise Reduction : 25
Chromatic Aberration R : 0
Chromatic Aberration B : 0
Vignette Amount : 0
Shadow Tint : 0
Red Hue : 0
Red Saturation : 0
Green Hue : 0
Green Saturation : 0
Blue Hue : 0
Blue Saturation : 0
Fill Light : 0
Vibrance : +10
Highlight Recovery : 0
Clarity : +4
Defringe : 0
Hue Adjustment Red : 0
Hue Adjustment Orange : 0
Hue Adjustment Yellow : 0
Hue Adjustment Green : 0
Hue Adjustment Aqua : 0
Hue Adjustment Blue : 0
Hue Adjustment Purple : 0
Hue Adjustment Magenta : 0
Saturation Adjustment Red : 0
Saturation Adjustment Orange : 0
Saturation Adjustment Yellow : 0
Saturation Adjustment Green : 0
Saturation Adjustment Aqua : 0
Saturation Adjustment Blue : 0
Saturation Adjustment Purple : 0
Saturation Adjustment Magenta : 0
Luminance Adjustment Red : 0
Luminance Adjustment Orange : 0
Luminance Adjustment Yellow : 0
Luminance Adjustment Green : 0
Luminance Adjustment Aqua : 0
Luminance Adjustment Blue : 0
Luminance Adjustment Purple : 0
Luminance Adjustment Magenta : 0
Split Toning Shadow Hue : 0
Split Toning Shadow Saturation : 0
Split Toning Highlight Hue : 0
Split Toning Highlight Saturation : 0
Split Toning Balance : 0
Parametric Shadows : 0
Parametric Darks : 0
Parametric Lights : 0
Parametric Highlights : 0
Parametric Shadow Split : 25
Parametric Midtone Split : 50
Parametric Highlight Split : 75
Sharpen Radius : +1.0
Sharpen Detail : 25
Sharpen Edge Masking : 0
Post Crop Vignette Amount : 0
Convert To Grayscale : False
Tone Curve Name : Medium Contrast
Camera Profile : ACR 4.4
Has Settings : True
Has Crop : False
Already Applied : True
Flash Fired : False
Flash Return : No return detection
Flash Mode : Unknown
Flash Function : False
Flash Red Eye Mode : False
Title : Buenos Aires
Creator : Raul G. Padron N.
Description : Nikon D2Xs
Rights : copyright©Raul G. Padron N.
Tone Curve : 0, 0, 32, 22, 64, 56, 128, 128, 192, 196, 255, 255
Image Width : 199
Image Height : 300
Bits Per Sample : 8
Color Components : 3
Aperture : 7.1
Image Size : 199x300
Megapixels : 0.060
Scale Factor To 35 mm Equivalent : 1.5
Shutter Speed : 1/125
Create Date : 2008:07:23 13:01:40.90
Date/Time Original : 2008:07:23 13:01:40.90
Flash : No Flash
Circle Of Confusion : 0.020 mm
Field Of View : 21.9 deg
Focal Length : 62.0 mm (35 mm equivalent: 93.0 mm)
Hyperfocal Distance : 27.03 m
Light Value : 12.6
Lens ID : 24.0-120.0mm f/3.5-5.6