Uber Exif Photo
Make : NIKON CORPORATION
Camera Model Name : NIKON D2Xs
Software : Ver.1.00
Modify Date : 2011:07:16 14:29:53
Exposure Time : 1/160
F Number : 8.0
Exposure Program : Aperture-priority AE
ISO : 100
Date/Time Original : 2009:08:13 16:21:53
Create Date : 2009:08:13 16:21:53
Shutter Speed Value : 1/160
Aperture Value : 8.0
Exposure Compensation : 0
Max Aperture Value : 2.8
Metering Mode : Multi-segment
Light Source : Unknown
Focal Length : 150.0 mm
User Comment : Copyright Raul G Padron N
Sensing Method : One-chip color area
Scene Type : Directly photographed
CFA Pattern : [Red,Green][Green,Blue]
Custom Rendered : Normal
Exposure Mode : Auto
White Balance : Auto
Digital Zoom Ratio : 1
Focal Length In 35mm Format : 225 mm
Scene Capture Type : Standard
Gain Control : None
Contrast : High
Saturation : Normal
Sharpness : Hard
Subject Distance Range : Unknown
Profile Description : ColorMatch RGB
Date/Time Digitized : 2009:08:13 16:21:53.32-05:00
Exif Image Width : 1542
Exif Image Height : 1024
Creator Tool : Ver.1.00
Serial Number : 6007108
Lens Info : 50-150mm f/2.8
Lens : 50.0-150.0 mm f/2.8
Image Number : 22983
Raw File Name : Ensenada Ago 0974.dng
Version : 4.6
Color Temperature : 4750
Tint : -1
Exposure : -0.10
Shadows : 15
Brightness : +54
Luminance Smoothing : 0
Color Noise Reduction : 25
Chromatic Aberration R : 0
Chromatic Aberration B : 0
Vignette Amount : 0
Shadow Tint : 0
Red Hue : 0
Red Saturation : 0
Green Hue : 0
Green Saturation : 0
Blue Hue : 0
Blue Saturation : 0
Fill Light : 0
Vibrance : +9
Highlight Recovery : 0
Clarity : +10
Defringe : 0
Hue Adjustment Red : 0
Hue Adjustment Orange : 0
Hue Adjustment Yellow : 0
Hue Adjustment Green : 0
Hue Adjustment Aqua : 0
Hue Adjustment Blue : 0
Hue Adjustment Purple : 0
Hue Adjustment Magenta : 0
Saturation Adjustment Red : 0
Saturation Adjustment Orange : 0
Saturation Adjustment Yellow : 0
Saturation Adjustment Green : 0
Saturation Adjustment Aqua : 0
Saturation Adjustment Blue : 0
Saturation Adjustment Purple : 0
Saturation Adjustment Magenta : 0
Luminance Adjustment Red : 0
Luminance Adjustment Orange : 0
Luminance Adjustment Yellow : 0
Luminance Adjustment Green : 0
Luminance Adjustment Aqua : 0
Luminance Adjustment Blue : 0
Luminance Adjustment Purple : 0
Luminance Adjustment Magenta : 0
Split Toning Shadow Hue : 0
Split Toning Shadow Saturation : 0
Split Toning Highlight Hue : 0
Split Toning Highlight Saturation : 0
Split Toning Balance : 0
Parametric Shadows : 0
Parametric Darks : 0
Parametric Lights : 0
Parametric Highlights : 0
Parametric Shadow Split : 25
Parametric Midtone Split : 50
Parametric Highlight Split : 75
Sharpen Radius : +1.0
Sharpen Detail : 25
Sharpen Edge Masking : 0
Post Crop Vignette Amount : 0
Convert To Grayscale : False
Tone Curve Name : Medium Contrast
Camera Profile : ACR 4.4
Has Settings : True
Has Crop : False
Already Applied : True
Flash Fired : False
Flash Return : No return detection
Flash Mode : Unknown
Flash Function : False
Flash Red Eye Mode : False
Tone Curve : 0, 0, 32, 22, 64, 56, 128, 128, 192, 196, 255, 255
Image Width : 300
Image Height : 199
Bits Per Sample : 8
Color Components : 3
Aperture : 8.0
Image Size : 300x199
Megapixels : 0.060
Scale Factor To 35 mm Equivalent : 1.5
Shutter Speed : 1/160
Create Date : 2009:08:13 16:21:53.32
Date/Time Original : 2009:08:13 16:21:53.32
Flash : No Flash
Circle Of Confusion : 0.020 mm
Field Of View : 9.1 deg
Focal Length : 150.0 mm (35 mm equivalent: 225.0 mm)
Hyperfocal Distance : 140.41 m
Light Value : 13.3
Lens ID : 50.0-150.0mm f/2.8