Uber Exif Photo
Make : NIKON CORPORATION
Camera Model Name : NIKON D200
Orientation : Horizontal (normal)
Software : Adobe Photoshop CS4 Windows
Modify Date : 2011:03:22 15:00:44
Exposure Time : 1/180
F Number : 5.6
Exposure Program : Aperture-priority AE
ISO : 200
Date/Time Original : 2011:03:21 15:28:01
Create Date : 2011:03:21 15:28:01
Shutter Speed Value : 1/180
Aperture Value : 5.6
Exposure Compensation : 0
Max Aperture Value : 5.7
Metering Mode : Multi-segment
Light Source : Unknown
Focal Length : 200.0 mm
User Comment : (C) Judith Whitelaw
Color Space : Uncalibrated
Exif Image Width : 762
Exif Image Height : 550
Sensing Method : One-chip color area
Scene Type : Directly photographed
CFA Pattern : [Green,Red][Blue,Green]
Custom Rendered : Normal
Exposure Mode : Auto
White Balance : Auto
Digital Zoom Ratio : 1
Focal Length In 35mm Format : 300 mm
Scene Capture Type : Standard
Gain Control : None
Contrast : Normal
Saturation : Normal
Sharpness : Normal
Subject Distance Range : Unknown
Profile Description : Adobe RGB (1998)
Date/Time Digitized : 2011:03:21 15:28:01.65+01:00
Creator Tool : Ver.2.01
Rating : 0
Lens Info : 28-200mm f/3.5-5.6
Lens : 28.0-200.0 mm f/3.5-5.6
Image Number : 14297
Raw File Name : _DSC3239.NEF
Version : 5.0
Color Temperature : 4500
Tint : -9
Exposure : 0.00
Shadows : 4
Brightness : +79
Luminance Smoothing : 0
Color Noise Reduction : 25
Chromatic Aberration R : 0
Chromatic Aberration B : 0
Vignette Amount : 0
Shadow Tint : 0
Red Hue : 0
Red Saturation : 0
Green Hue : 0
Green Saturation : 0
Blue Hue : 0
Blue Saturation : 0
Fill Light : 0
Vibrance : +45
Highlight Recovery : 6
Clarity : 0
Defringe : 0
Hue Adjustment Red : 0
Hue Adjustment Orange : 0
Hue Adjustment Yellow : 0
Hue Adjustment Green : 0
Hue Adjustment Aqua : 0
Hue Adjustment Blue : 0
Hue Adjustment Purple : 0
Hue Adjustment Magenta : 0
Saturation Adjustment Red : 0
Saturation Adjustment Orange : 0
Saturation Adjustment Yellow : -3
Saturation Adjustment Green : -28
Saturation Adjustment Aqua : 0
Saturation Adjustment Blue : 0
Saturation Adjustment Purple : 0
Saturation Adjustment Magenta : 0
Luminance Adjustment Red : 0
Luminance Adjustment Orange : 0
Luminance Adjustment Yellow : 0
Luminance Adjustment Green : 0
Luminance Adjustment Aqua : 0
Luminance Adjustment Blue : 0
Luminance Adjustment Purple : 0
Luminance Adjustment Magenta : 0
Split Toning Shadow Hue : 0
Split Toning Shadow Saturation : 0
Split Toning Highlight Hue : 0
Split Toning Highlight Saturation : 0
Split Toning Balance : 0
Parametric Shadows : 0
Parametric Darks : 0
Parametric Lights : +9
Parametric Highlights : -3
Parametric Shadow Split : 25
Parametric Midtone Split : 50
Parametric Highlight Split : 75
Sharpen Radius : +1.0
Sharpen Detail : 25
Sharpen Edge Masking : 0
Post Crop Vignette Amount : 0
Convert To Grayscale : False
Tone Curve Name : Medium Contrast
Camera Profile : ACR 4.4
Has Settings : True
Crop Top : 0.084225
Crop Left : 0.128021
Crop Bottom : 1
Crop Right : 0.98299
Crop Angle : 0
Has Crop : True
Already Applied : True
Sidecar For Extension : NEF
Color Mode : RGB
ICC Profile Name : Adobe RGB (1998)
Format : image/jpeg
Flash Fired : False
Flash Return : No return detection
Flash Mode : Unknown
Flash Function : False
Flash Red Eye Mode : False
Tone Curve : 0, 0, 32, 22, 64, 56, 128, 128, 192, 196, 255, 255
Image Width : 300
Image Height : 217
Bits Per Sample : 8
Color Components : 3
Aperture : 5.6
Image Size : 300x217
Megapixels : 0.065
Scale Factor To 35 mm Equivalent : 1.5
Shutter Speed : 1/180
Create Date : 2011:03:21 15:28:01.65
Date/Time Original : 2011:03:21 15:28:01.65
Modify Date : 2011:03:22 15:00:44.65
Flash : No Flash
Circle Of Confusion : 0.020 mm
Field Of View : 6.9 deg
Focal Length : 200.0 mm (35 mm equivalent: 300.0 mm)
Hyperfocal Distance : 356.59 m
Light Value : 11.5
Lens ID : 28.0-200.0mm f/3.5-5.6