Uber Exif Photo
Make : NIKON CORPORATION
Camera Model Name : NIKON D90
Software : Adobe Photoshop Lightroom 3.4.1
Modify Date : 2011:06:25 16:40:33
Exposure Time : 20
F Number : 16.0
Exposure Program : Manual
ISO : 200
Date/Time Original : 2011:04:28 22:31:15
Create Date : 2011:04:28 22:31:15
Shutter Speed Value : 20
Aperture Value : 16.0
Exposure Compensation : 0
Max Aperture Value : 4.4
Subject Distance : 4294967295 m
Metering Mode : Multi-segment
Light Source : Unknown
Flash : No Flash
Focal Length : 24.0 mm
User Comment : Copyright 2011 Jose Santos
Sensing Method : One-chip color area
Scene Type : Directly photographed
CFA Pattern : [Green,Blue][Red,Green]
Custom Rendered : Normal
Exposure Mode : Manual
White Balance : Auto
Digital Zoom Ratio : 1
Focal Length In 35mm Format : 36 mm
Scene Capture Type : Standard
Gain Control : None
Contrast : Normal
Saturation : Normal
Sharpness : Normal
Subject Distance Range : Unknown
Serial Number : 6529149
Lens Info : 10-24mm f/3.5-4.5
Lens Model : 10.0-24.0 mm f/3.5-4.5
Creator Tool : Adobe Photoshop Lightroom 3.4.1
Lens : 10.0-24.0 mm f/3.5-4.5
Image Number : 3510
Approximate Focus Distance : 4294967295
Date Created : 2011:04:28 22:31:15.00
Version : 6.4.1
Process Version : 5.7
Color Temperature : 3750
Tint : -8
Exposure : -0.99
Shadows : 5
Brightness : +50
Luminance Smoothing : 0
Color Noise Reduction : 25
Chromatic Aberration R : 0
Chromatic Aberration B : 0
Vignette Amount : 0
Shadow Tint : 0
Red Hue : 0
Red Saturation : 0
Green Hue : 0
Green Saturation : 0
Blue Hue : 0
Blue Saturation : 0
Fill Light : 0
Highlight Recovery : 0
Clarity : 0
Defringe : 0
Gray Mixer Red : +8
Gray Mixer Orange : -1
Gray Mixer Yellow : -5
Gray Mixer Green : -17
Gray Mixer Aqua : -23
Gray Mixer Blue : -3
Gray Mixer Purple : +10
Gray Mixer Magenta : +11
Split Toning Shadow Hue : 0
Split Toning Shadow Saturation : 0
Split Toning Highlight Hue : 0
Split Toning Highlight Saturation : 0
Split Toning Balance : 0
Parametric Shadows : 0
Parametric Darks : 0
Parametric Lights : -92
Parametric Highlights : 0
Parametric Shadow Split : 25
Parametric Midtone Split : 50
Parametric Highlight Split : 75
Sharpen Radius : +1.0
Sharpen Detail : 25
Sharpen Edge Masking : 0
Post Crop Vignette Amount : 0
Grain Amount : 0
Color Noise Reduction Detail : 50
Lens Profile Enable : 0
Lens Manual Distortion Amount : 0
Perspective Vertical : 0
Perspective Horizontal : 0
Perspective Rotate : 0.0
Perspective Scale : 100
Convert To Grayscale : True
Tone Curve Name : Medium Contrast
Camera Profile : Adobe Standard
Lens Profile Setup : LensDefaults
Has Settings : True
Has Crop : False
Already Applied : True
Tone Curve : 0, 0, 32, 22, 64, 56, 128, 128, 192, 196, 255, 255
Image Width : 300
Image Height : 199
Bits Per Sample : 8
Color Components : 1
Aperture : 16.0
Image Size : 300x199
Megapixels : 0.060
Scale Factor To 35 mm Equivalent : 1.5
Shutter Speed : 20
Create Date : 2011:04:28 22:31:15.00
Date/Time Original : 2011:04:28 22:31:15.00
Circle Of Confusion : 0.020 mm
Depth Of Field : inf (1.80 m - inf)
Field Of View : 53.1 deg
Focal Length : 24.0 mm (35 mm equivalent: 36.0 mm)
Hyperfocal Distance : 1.80 m
Light Value : 2.7
Lens ID : AF-S DX Nikkor 10-24mm f/3.5-4.5G ED