Uber Exif Photo
Make : NIKON CORPORATION
Camera Model Name : NIKON D5000
Software : ViewNX 2.1 W
Modify Date : 2011:08:21 11:26:19
Exposure Time : 2
F Number : 11.0
Exposure Program : Manual
ISO : 200
Date/Time Original : 2011:08:20 20:43:33
Create Date : 2011:08:20 20:43:33
Shutter Speed Value : 2
Aperture Value : 11.0
Exposure Compensation : 0
Max Aperture Value : 1.7
Subject Distance : 4294967295 m
Metering Mode : Spot
Light Source : Unknown
Focal Length : 35.0 mm
Exif Image Width : 3368
Exif Image Height : 1895
Related Image Width : 3368
Related Image Height : 1895
Sensing Method : One-chip color area
Scene Type : Directly photographed
Custom Rendered : Normal
Exposure Mode : Manual
White Balance : Auto
Digital Zoom Ratio : 1
Focal Length In 35mm Format : 52 mm
Scene Capture Type : Standard
Gain Control : None
Contrast : Normal
Saturation : Normal
Sharpness : Normal
Subject Distance Range : Unknown
Sensitivity Type : Unknown
Serial Number : 6477187
Lens Info : 35mm f/1.8
Lens Model : 35.0 mm f/1.8
Rating Percent : 0
Creator Tool : Adobe Photoshop Lightroom 3.3
Lens : 35.0 mm f/1.8
Image Number : 6536
Approximate Focus Distance : 4294967295
Version : 6.3
Process Version : 5.7
Color Temperature : 5200
Tint : 0
Exposure : -0.65
Shadows : 5
Brightness : +3
Luminance Smoothing : 26
Color Noise Reduction : 23
Chromatic Aberration R : 0
Chromatic Aberration B : 0
Vignette Amount : 0
Shadow Tint : 0
Red Hue : 0
Red Saturation : 0
Green Hue : 0
Green Saturation : 0
Blue Hue : 0
Blue Saturation : 0
Fill Light : 40
Vibrance : +54
Highlight Recovery : 13
Clarity : +100
Defringe : 0
Hue Adjustment Red : 0
Hue Adjustment Orange : 0
Hue Adjustment Yellow : 0
Hue Adjustment Green : 0
Hue Adjustment Aqua : 0
Hue Adjustment Blue : 0
Hue Adjustment Purple : 0
Hue Adjustment Magenta : 0
Saturation Adjustment Red : 0
Saturation Adjustment Orange : 0
Saturation Adjustment Yellow : 0
Saturation Adjustment Green : 0
Saturation Adjustment Aqua : 0
Saturation Adjustment Blue : 0
Saturation Adjustment Purple : 0
Saturation Adjustment Magenta : 0
Luminance Adjustment Red : 0
Luminance Adjustment Orange : 0
Luminance Adjustment Yellow : 0
Luminance Adjustment Green : 0
Luminance Adjustment Aqua : 0
Luminance Adjustment Blue : 0
Luminance Adjustment Purple : 0
Luminance Adjustment Magenta : 0
Split Toning Shadow Hue : 0
Split Toning Shadow Saturation : 0
Split Toning Highlight Hue : 8
Split Toning Highlight Saturation : 30
Split Toning Balance : 0
Parametric Shadows : 0
Parametric Darks : 0
Parametric Lights : 0
Parametric Highlights : 0
Parametric Shadow Split : 25
Parametric Midtone Split : 50
Parametric Highlight Split : 75
Sharpen Radius : +2.8
Sharpen Detail : 61
Sharpen Edge Masking : 55
Post Crop Vignette Amount : 0
Grain Amount : 0
Luminance Noise Reduction Detail : 50
Color Noise Reduction Detail : 50
Luminance Noise Reduction Contrast : 24
Lens Profile Enable : 1
Lens Manual Distortion Amount : 0
Perspective Vertical : 0
Perspective Horizontal : 0
Perspective Rotate : 0.0
Perspective Scale : 100
Convert To Grayscale : False
Tone Curve Name : Medium Contrast
Camera Profile : Adobe Standard
Lens Profile Setup : LensDefaults
Lens Profile Name : Adobe (Nikon AF-S DX NIKKOR 35mm f/1.8G)
Lens Profile Filename : NIKON D90 (Nikon AF-S DX NIKKOR 35mm f1.8G) - RAW.lcp
Lens Profile Distortion Scale : 100
Lens Profile Chromatic Aberration Scale : 100
Lens Profile Vignetting Scale : 100
Has Settings : True
Has Crop : False
Already Applied : True
Flash Fired : False
Flash Return : No return detection
Flash Mode : Unknown
Flash Function : False
Flash Red Eye Mode : False
Tone Curve : 0, 0, 32, 22, 64, 56, 128, 128, 192, 196, 255, 255
Image Width : 300
Image Height : 169
Bits Per Sample : 8
Color Components : 3
Aperture : 11.0
Image Size : 300x169
Megapixels : 0.051
Scale Factor To 35 mm Equivalent : 1.5
Shutter Speed : 2
Create Date : 2011:08:20 20:43:33.00
Date/Time Original : 2011:08:20 20:43:33.00
Flash : No Flash
Circle Of Confusion : 0.020 mm
Depth Of Field : inf (5.51 m - inf)
Field Of View : 38.2 deg
Focal Length : 35.0 mm (35 mm equivalent: 52.0 mm)
Hyperfocal Distance : 5.51 m
Light Value : 4.9
Lens ID : AF-S DX Nikkor 35mm f/1.8G