Uber Exif Photo
Caption-Abstract : Family
By-line : M.C.Liu
Keywords : Family photos
Copyright Notice : Copyrighted
Copyright Flag : True
Photometric Interpretation : RGB
Image Description : Family
Make : NIKON CORPORATION
Camera Model Name : NIKON D300
Orientation : Horizontal (normal)
Samples Per Pixel : 3
Planar Configuration : Chunky
Software : Adobe Photoshop CS5 (12.0x20100115 [20100115.m.998 2010/01/15:02:00:00 cutoff; m branch]) Windows
Modify Date : 2011:08:28 19:30:06
Artist : M.C.Liu
Copyright : Copyrighted
Exposure Time : 1/60
F Number : 11.0
Exposure Program : Manual
ISO : 320
Date/Time Original : 2011:08:23 18:07:55
Create Date : 2011:08:23 18:07:55
Shutter Speed Value : 1/60
Aperture Value : 11.0
Exposure Compensation : 0
Max Aperture Value : 3.4
Subject Distance : 0.27 m
Metering Mode : Spot
Light Source : Cloudy
Flash : No Flash
Focal Length : 60.0 mm
Color Space : Uncalibrated
Exif Image Width : 680
Exif Image Height : 1024
Sensing Method : One-chip color area
Scene Type : Directly photographed
CFA Pattern : [Red,Green][Green,Blue]
Custom Rendered : Normal
Exposure Mode : Manual
White Balance : Manual
Digital Zoom Ratio : 1
Focal Length In 35mm Format : 90 mm
Scene Capture Type : Standard
Gain Control : None
Contrast : Normal
Saturation : Normal
Sharpness : Normal
Subject Distance Range : Unknown
Profile Description : Adobe RGB (1998)
Creator Tool : Ver.1.03
Label : Family
Serial Number : 6050632
Lens Info : 60mm f/2.8
Lens : 60.0 mm f/2.8
Image Number : 12760
Marked : True
Date Created : 2011:01:01
Color Mode : RGB
ICC Profile Name : Adobe RGB (1998)
Format : image/jpeg
Version : 6.1
Process Version : 5.7
Color Temperature : 4299
Tint : +19
Exposure : -0.05
Shadows : 30
Brightness : +50
Luminance Smoothing : 57
Color Noise Reduction : 16
Chromatic Aberration R : 0
Chromatic Aberration B : 0
Vignette Amount : -45
Vignette Midpoint : 50
Shadow Tint : 0
Red Hue : 0
Red Saturation : 0
Green Hue : 0
Green Saturation : 0
Blue Hue : 0
Blue Saturation : 0
Fill Light : 15
Vibrance : +31
Highlight Recovery : 37
Clarity : +8
Defringe : 0
Hue Adjustment Red : 0
Hue Adjustment Orange : 0
Hue Adjustment Yellow : 0
Hue Adjustment Green : 0
Hue Adjustment Aqua : 0
Hue Adjustment Blue : 0
Hue Adjustment Purple : 0
Hue Adjustment Magenta : 0
Saturation Adjustment Red : -7
Saturation Adjustment Orange : -13
Saturation Adjustment Yellow : 0
Saturation Adjustment Green : 0
Saturation Adjustment Aqua : 0
Saturation Adjustment Blue : 0
Saturation Adjustment Purple : 0
Saturation Adjustment Magenta : 0
Luminance Adjustment Red : -16
Luminance Adjustment Orange : -19
Luminance Adjustment Yellow : 0
Luminance Adjustment Green : 0
Luminance Adjustment Aqua : 0
Luminance Adjustment Blue : 0
Luminance Adjustment Purple : 0
Luminance Adjustment Magenta : 0
Split Toning Shadow Hue : 0
Split Toning Shadow Saturation : 0
Split Toning Highlight Hue : 0
Split Toning Highlight Saturation : 0
Split Toning Balance : 0
Parametric Shadows : -5
Parametric Darks : -41
Parametric Lights : +28
Parametric Highlights : 0
Parametric Shadow Split : 25
Parametric Midtone Split : 50
Parametric Highlight Split : 75
Sharpen Radius : +1.2
Sharpen Detail : 44
Sharpen Edge Masking : 66
Post Crop Vignette Amount : 0
Grain Amount : 0
Luminance Noise Reduction Detail : 50
Color Noise Reduction Detail : 50
Luminance Noise Reduction Contrast : 0
Lens Profile Enable : 0
Lens Manual Distortion Amount : 0
Perspective Vertical : 0
Perspective Horizontal : 0
Perspective Rotate : 0.0
Perspective Scale : 100
Convert To Grayscale : False
Tone Curve Name : Medium Contrast
Camera Profile : ACR 4.4
Lens Profile Setup : LensDefaults
Has Settings : True
Has Crop : False
Already Applied : True
Creator Postal Code : 769001
Creator Country : India
Creator Work Email : minxliu@live.com
Creator Work Telephone : 9937590100
Creator Region : Orissa
Creator City : Rourkela
Creator Address : Liu's Dental Cilinc , Bisra Road
Usage Terms : Permission reqiured
Creator : M.C.Liu
Rights : Copyrighted
Subject : Family photos
Description : Family
Tone Curve : 0, 0, 32, 22, 64, 56, 128, 128, 192, 196, 255, 255
Image Width : 199
Image Height : 300
Bits Per Sample : 8
Color Components : 3
Aperture : 11.0
Image Size : 199x300
Megapixels : 0.060
Scale Factor To 35 mm Equivalent : 1.5
Shutter Speed : 1/60
Create Date : 2011:08:23 18:07:55.07
Date/Time Original : 2011:08:23 18:07:55.07
Circle Of Confusion : 0.020 mm
Depth Of Field : 0.007 m (0.267 - 0.274 m)
Field Of View : 22.6 deg
Focal Length : 60.0 mm (35 mm equivalent: 90.0 mm)
Hyperfocal Distance : 16.34 m
Light Value : 11.1
Lens ID : AF-S Micro Nikkor 60mm f/2.8G ED