Uber Exif Photo
By-line : William Anderson
Copyright Notice : 2011 All Rights RESERVED
Make : NIKON CORPORATION
Camera Model Name : NIKON D7000
Software : Adobe Photoshop Lightroom 3.4.1
Modify Date : 2011:08:28 15:25:20
Artist : William Anderson
Copyright : 2011 All Rights RESERVED
Exposure Time : 1/500
F Number : 11.0
Exposure Program : Program AE
ISO : 250
Sensitivity Type : Recommended Exposure Index
Date/Time Original : 2011:08:28 13:32:01
Create Date : 2011:08:28 13:32:01
Shutter Speed Value : 1/500
Aperture Value : 11.0
Exposure Compensation : 0
Max Aperture Value : 4.0
Metering Mode : Multi-segment
Light Source : Unknown
Flash : Off, Did not fire
Focal Length : 12.0 mm
Sensing Method : One-chip color area
Scene Type : Directly photographed
CFA Pattern : [Red,Green][Green,Blue]
Custom Rendered : Normal
Exposure Mode : Auto
White Balance : Auto
Digital Zoom Ratio : 1
Focal Length In 35mm Format : 18 mm
Scene Capture Type : Standard
Gain Control : None
Contrast : Normal
Saturation : Normal
Sharpness : Normal
Subject Distance Range : Unknown
Serial Number : 3009475
Lens Info : 12-24mm f/4
Lens Model : 12.0-24.0 mm f/4.0
Creator Tool : Adobe Photoshop Lightroom 3.4.1
Lens : 12.0-24.0 mm f/4.0
Image Number : 11451
Date Created : 2011:08:28 13:32:01.20
Version : 6.4.1
Process Version : 5.7
Color Temperature : 5000
Tint : +9
Exposure : +1.15
Shadows : 14
Brightness : 0
Luminance Smoothing : 0
Color Noise Reduction : 25
Chromatic Aberration R : 0
Chromatic Aberration B : 0
Vignette Amount : 0
Shadow Tint : 0
Red Hue : 0
Red Saturation : 0
Green Hue : 0
Green Saturation : 0
Blue Hue : 0
Blue Saturation : 0
Fill Light : 0
Highlight Recovery : 25
Clarity : 0
Defringe : 0
Gray Mixer Red : -21
Gray Mixer Orange : -29
Gray Mixer Yellow : -38
Gray Mixer Green : -28
Gray Mixer Aqua : -17
Gray Mixer Blue : +4
Gray Mixer Purple : +29
Gray Mixer Magenta : +4
Split Toning Shadow Hue : 0
Split Toning Shadow Saturation : 0
Split Toning Highlight Hue : 0
Split Toning Highlight Saturation : 0
Split Toning Balance : 0
Parametric Shadows : -60
Parametric Darks : -20
Parametric Lights : +10
Parametric Highlights : +60
Parametric Shadow Split : 25
Parametric Midtone Split : 50
Parametric Highlight Split : 75
Sharpen Radius : +1.0
Sharpen Detail : 25
Sharpen Edge Masking : 0
Post Crop Vignette Amount : 0
Grain Amount : 0
Color Noise Reduction Detail : 50
Lens Profile Enable : 0
Lens Manual Distortion Amount : 0
Perspective Vertical : 0
Perspective Horizontal : 0
Perspective Rotate : 0.0
Perspective Scale : 100
Convert To Grayscale : True
Tone Curve Name : Linear
Camera Profile : Adobe Standard
Lens Profile Setup : LensDefaults
Has Settings : True
Has Crop : False
Already Applied : True
Creator : William Anderson
Rights : 2011 All Rights RESERVED
Tone Curve : 0, 0, 255, 255
Image Width : 300
Image Height : 199
Bits Per Sample : 8
Color Components : 1
Aperture : 11.0
Image Size : 300x199
Megapixels : 0.060
Scale Factor To 35 mm Equivalent : 1.5
Shutter Speed : 1/500
Create Date : 2011:08:28 13:32:01.20
Date/Time Original : 2011:08:28 13:32:01.20
Circle Of Confusion : 0.020 mm
Field Of View : 90.0 deg
Focal Length : 12.0 mm (35 mm equivalent: 18.0 mm)
Hyperfocal Distance : 0.65 m
Light Value : 14.6
Lens ID : 12.0-24.0mm f/4.0