Uber Exif Photo
By-line : LeMuse photography
Copyright Notice : LeMuse photography, inc.
Copyright Flag : True
Photometric Interpretation : RGB
Make : NIKON CORPORATION
Camera Model Name : NIKON D3
Orientation : Horizontal (normal)
Samples Per Pixel : 3
Software : Adobe Photoshop CS5 Macintosh
Modify Date : 2011:08:04 16:05:15
Artist : LeMuse photography
Copyright : LeMuse photography, inc.
Exposure Time : 1/800
F Number : 3.5
Exposure Program : Aperture-priority AE
ISO : 800
Date/Time Original : 2011:07:03 12:05:47
Create Date : 2011:07:03 12:05:47
Shutter Speed Value : 1/800
Aperture Value : 3.5
Exposure Compensation : 0
Max Aperture Value : 2.8
Subject Distance : 2 m
Metering Mode : Center-weighted average
Light Source : Unknown
Focal Length : 29.0 mm
Color Space : Uncalibrated
Exif Image Width : 2647
Exif Image Height : 3978
Sensing Method : One-chip color area
Scene Type : Directly photographed
CFA Pattern : [Red,Green][Green,Blue]
Custom Rendered : Normal
Exposure Mode : Auto
White Balance : Auto
Digital Zoom Ratio : 1
Focal Length In 35mm Format : 29 mm
Scene Capture Type : Standard
Gain Control : Low gain up
Contrast : Normal
Saturation : Normal
Sharpness : Normal
Subject Distance Range : Unknown
Serial Number : 2064668
Lens Info : 24-70mm f/2.8
Lens Model : 24.0-70.0 mm f/2.8
Creator Tool : Adobe Photoshop CS5 Macintosh
Lens : 24.0-70.0 mm f/2.8
Image Number : 14589
Approximate Focus Distance : 2
Date Created : 2011:07:03 12:05:47.084
Color Mode : RGB
ICC Profile Name :
Marked : True
Version : 6.4.1
Process Version : 5.7
Color Temperature : 4947
Tint : -2
Exposure : +0.95
Shadows : 0
Brightness : +50
Luminance Smoothing : 0
Color Noise Reduction : 25
Chromatic Aberration R : 0
Chromatic Aberration B : 0
Vignette Amount : 0
Shadow Tint : 0
Red Hue : 0
Red Saturation : 0
Green Hue : 0
Green Saturation : 0
Blue Hue : 0
Blue Saturation : 0
Fill Light : 51
Vibrance : +26
Highlight Recovery : 9
Clarity : +33
Defringe : 0
Hue Adjustment Red : 0
Hue Adjustment Orange : 0
Hue Adjustment Yellow : 0
Hue Adjustment Green : 0
Hue Adjustment Aqua : 0
Hue Adjustment Blue : 0
Hue Adjustment Purple : 0
Hue Adjustment Magenta : 0
Saturation Adjustment Red : 0
Saturation Adjustment Orange : 0
Saturation Adjustment Yellow : 0
Saturation Adjustment Green : 0
Saturation Adjustment Aqua : 0
Saturation Adjustment Blue : 0
Saturation Adjustment Purple : 0
Saturation Adjustment Magenta : 0
Luminance Adjustment Red : 0
Luminance Adjustment Orange : 0
Luminance Adjustment Yellow : 0
Luminance Adjustment Green : 0
Luminance Adjustment Aqua : 0
Luminance Adjustment Blue : 0
Luminance Adjustment Purple : 0
Luminance Adjustment Magenta : 0
Split Toning Shadow Hue : 0
Split Toning Shadow Saturation : 0
Split Toning Highlight Hue : 0
Split Toning Highlight Saturation : 0
Split Toning Balance : 0
Parametric Shadows : 0
Parametric Darks : 0
Parametric Lights : 0
Parametric Highlights : 0
Parametric Shadow Split : 25
Parametric Midtone Split : 50
Parametric Highlight Split : 75
Sharpen Radius : +1.0
Sharpen Detail : 25
Sharpen Edge Masking : 0
Post Crop Vignette Amount : 0
Grain Amount : 0
Color Noise Reduction Detail : 50
Lens Profile Enable : 0
Lens Manual Distortion Amount : 0
Perspective Vertical : 0
Perspective Horizontal : 0
Perspective Rotate : 0.0
Perspective Scale : 100
Convert To Grayscale : False
Tone Curve Name : Medium Contrast
Camera Profile : Adobe Standard
Lens Profile Setup : LensDefaults
Has Settings : True
Has Crop : False
Already Applied : True
Format : image/jpeg
Date/Time Digitized : 2011:07:03 12:05:47.84-04:00
Tone Curve : 0, 0, 32, 22, 64, 56, 128, 128, 192, 196, 255, 255
Creator : LeMuse photography, inc.
Rights : LeMuse photography, inc.
Flash Fired : False
Flash Return : No return detection
Flash Mode : Unknown
Flash Function : False
Flash Red Eye Mode : False
Creator Postal Code : 11223
Creator Work Telephone : 888.353.6873
Creator Region : NY
Creator Country : USA
Creator City : Brooklyn
Creator Address : 367 Avenue U, 2nd floor
Creator Work Email : lemuse@gmail.com
Creator Work URL : www.lemusephotography.com
Image Width : 200
Image Height : 300
Bits Per Sample : 8
Color Components : 1
Aperture : 3.5
Image Size : 200x300
Megapixels : 0.060
Scale Factor To 35 mm Equivalent : 1.0
Shutter Speed : 1/800
Create Date : 2011:07:03 12:05:47.84
Date/Time Original : 2011:07:03 12:05:47.84
Flash : No Flash
Circle Of Confusion : 0.030 mm
Depth Of Field : 1.05 m (1.60 - 2.65 m)
Field Of View : 63.7 deg
Focal Length : 29.0 mm (35 mm equivalent: 29.0 mm)
Hyperfocal Distance : 8.00 m
Light Value : 10.3
Lens ID : AF-S Zoom-Nikkor 24-70mm f/2.8G ED