Uber Exif Photo
Make : Panasonic
Camera Model Name : DMC-LX5
Software : Adobe Photoshop Lightroom 3.4
Modify Date : 2011:09:11 23:48:06
Exposure Time : 1/8
F Number : 3.5
Exposure Program : Aperture-priority AE
ISO : 800
Date/Time Original : 2011:09:10 18:22:20
Create Date : 2011:09:10 18:22:20
Shutter Speed Value : 1/8
Aperture Value : 3.5
Exposure Compensation : 0
Max Aperture Value : 2.0
Metering Mode : Multi-segment
Light Source : Unknown
Flash : Off, Did not fire
Focal Length : 11.7 mm
Sensing Method : One-chip color area
Scene Type : Directly photographed
Custom Rendered : Normal
Exposure Mode : Auto
White Balance : Auto
Digital Zoom Ratio : 0
Focal Length In 35mm Format : 55 mm
Scene Capture Type : Standard
Gain Control : High gain up
Contrast : Normal
Saturation : Normal
Sharpness : Normal
Creator Tool : Adobe Photoshop Lightroom 3.4
Date Created : 2011:09:10 18:22:20
Version : 6.4
Process Version : 5.7
Color Temperature : 3450
Tint : +14
Exposure : 0.00
Shadows : 38
Brightness : -3
Luminance Smoothing : 100
Color Noise Reduction : 34
Chromatic Aberration R : 0
Chromatic Aberration B : 0
Vignette Amount : 0
Shadow Tint : 0
Red Hue : 0
Red Saturation : 0
Green Hue : 0
Green Saturation : 0
Blue Hue : 0
Blue Saturation : 0
Fill Light : 20
Highlight Recovery : 0
Clarity : 0
Defringe : 0
Gray Mixer Red : -7
Gray Mixer Orange : -16
Gray Mixer Yellow : -20
Gray Mixer Green : -25
Gray Mixer Aqua : -19
Gray Mixer Blue : +7
Gray Mixer Purple : +14
Gray Mixer Magenta : +5
Split Toning Shadow Hue : 0
Split Toning Shadow Saturation : 0
Split Toning Highlight Hue : 0
Split Toning Highlight Saturation : 0
Split Toning Balance : 0
Parametric Shadows : +47
Parametric Darks : +1
Parametric Lights : 0
Parametric Highlights : -7
Parametric Shadow Split : 25
Parametric Midtone Split : 50
Parametric Highlight Split : 75
Sharpen Radius : +1.0
Sharpen Detail : 25
Sharpen Edge Masking : 0
Post Crop Vignette Amount : 0
Grain Amount : 0
Luminance Noise Reduction Detail : 100
Color Noise Reduction Detail : 0
Luminance Noise Reduction Contrast : 100
Lens Profile Enable : 0
Lens Manual Distortion Amount : 0
Perspective Vertical : 0
Perspective Horizontal : 0
Perspective Rotate : 0.0
Perspective Scale : 100
Convert To Grayscale : True
Tone Curve Name : Medium Contrast
Camera Profile : Adobe Standard
Lens Profile Setup : LensDefaults
Has Settings : True
Crop Top : 0.247611
Crop Left : 0.017864
Crop Bottom : 1
Crop Right : 0.720632
Crop Angle : 1.89306
Crop Constrain To Warp : 0
Crop Width : 2630
Crop Height : 1973
Crop Unit : pixels
Has Crop : True
Already Applied : True
Tone Curve : 0, 0, 32, 22, 64, 56, 128, 128, 192, 196, 255, 255
Paint Correction What : Correction
Paint Correction Amount : 1.000000
Paint Correction Active : true
Paint Correction Exposure : -0.223529
Paint Correction Saturation : 0.000000
Paint Correction Contrast : -1.000000
Paint Correction Clarity : -1.000000
Paint Correction Sharpness : -1.000000
Paint Correction Brightness : 0.000000
Paint Correction Toning Hue : 242.000000
Paint Correction Toning Saturation : 0.000000
Paint Correction Mask What : Mask/Paint
Paint Correction Mask Value : 0.229885
Paint Correction Mask Radius : 0.013406
Paint Correction Mask Flow : 1.000000
Paint Correction Mask Center Weight : 0.000000
Image Width : 300
Image Height : 225
Bits Per Sample : 8
Color Components : 1
Aperture : 3.5
Image Size : 300x225
Megapixels : 0.068
Scale Factor To 35 mm Equivalent : 4.7
Shutter Speed : 1/8
Circle Of Confusion : 0.006 mm
Field Of View : 36.2 deg
Focal Length : 11.7 mm (35 mm equivalent: 55.0 mm)
Hyperfocal Distance : 6.12 m
Light Value : 3.6