Uber Exif Photo
By-line : PHILIP.F.HIGGINS
Copyright Notice : PHILIP.F.HIGGINS@ PHIGGYS.COM
Make : NIKON CORPORATION
Camera Model Name : NIKON D3
Orientation : Horizontal (normal)
Software : Adobe Photoshop CS4 Windows
Modify Date : 2010:06:13 21:50:27
Artist : PHILIP.F.HIGGINS
Copyright : PHILIP.F.HIGGINS@ PHIGGYS.COM
Exposure Time : 1/200
F Number : 10.0
Exposure Program : Aperture-priority AE
ISO : 200
Date/Time Original : 2010:05:13 10:52:15
Create Date : 2010:05:13 10:52:15
Shutter Speed Value : 1/200
Aperture Value : 10.0
Exposure Compensation : -1/3
Max Aperture Value : 6.3
Metering Mode : Multi-segment
Light Source : Unknown
Focal Length : 300.0 mm
Color Space : Uncalibrated
Exif Image Width : 1451
Exif Image Height : 1770
Sensing Method : One-chip color area
Scene Type : Directly photographed
CFA Pattern : [Red,Green][Green,Blue]
Custom Rendered : Normal
Exposure Mode : Auto
White Balance : Auto
Digital Zoom Ratio : 1
Focal Length In 35mm Format : 300 mm
Scene Capture Type : Standard
Gain Control : None
Contrast : Normal
Saturation : Normal
Sharpness : Soft
Subject Distance Range : Unknown
Profile Description : Adobe RGB (1998)
Date/Time Digitized : 2010:05:13 10:52:15.84+01:00
Creator Tool : Ver.2.01
Rating : 0
Format : image/jpeg
Serial Number : 2051426
Lens Info : 28-300mm f/3.5-6.3
Lens : 28.0-300.0 mm f/3.5-6.3
Image Number : 24866
Sidecar For Extension : NEF
Color Mode : RGB
ICC Profile Name : Adobe RGB (1998)
Raw File Name : PH3_0003.jpg
Version : 5.5
Incremental Temperature : 0
Incremental Tint : 0
Exposure : -0.05
Shadows : 1
Brightness : 0
Luminance Smoothing : 0
Color Noise Reduction : 0
Chromatic Aberration R : 0
Chromatic Aberration B : 0
Vignette Amount : 0
Shadow Tint : 0
Red Hue : 0
Red Saturation : 0
Green Hue : 0
Green Saturation : 0
Blue Hue : 0
Blue Saturation : 0
Fill Light : 21
Vibrance : 0
Highlight Recovery : 0
Clarity : 0
Defringe : 0
Hue Adjustment Red : 0
Hue Adjustment Orange : 0
Hue Adjustment Yellow : 0
Hue Adjustment Green : 0
Hue Adjustment Aqua : 0
Hue Adjustment Blue : 0
Hue Adjustment Purple : 0
Hue Adjustment Magenta : 0
Saturation Adjustment Red : 0
Saturation Adjustment Orange : 0
Saturation Adjustment Yellow : 0
Saturation Adjustment Green : 0
Saturation Adjustment Aqua : 0
Saturation Adjustment Blue : 0
Saturation Adjustment Purple : 0
Saturation Adjustment Magenta : 0
Luminance Adjustment Red : 0
Luminance Adjustment Orange : 0
Luminance Adjustment Yellow : 0
Luminance Adjustment Green : 0
Luminance Adjustment Aqua : 0
Luminance Adjustment Blue : 0
Luminance Adjustment Purple : 0
Luminance Adjustment Magenta : 0
Split Toning Shadow Hue : 0
Split Toning Shadow Saturation : 0
Split Toning Highlight Hue : 0
Split Toning Highlight Saturation : 0
Split Toning Balance : 0
Parametric Shadows : 0
Parametric Darks : 0
Parametric Lights : 0
Parametric Highlights : 0
Parametric Shadow Split : 25
Parametric Midtone Split : 50
Parametric Highlight Split : 75
Sharpen Radius : +1.0
Sharpen Detail : 25
Sharpen Edge Masking : 0
Post Crop Vignette Amount : 0
Convert To Grayscale : False
Tone Curve Name : Linear
Camera Profile : Embedded
Has Settings : True
Has Crop : False
Already Applied : True
Flash Fired : False
Flash Return : No return detection
Flash Mode : Unknown
Flash Function : False
Flash Red Eye Mode : False
Creator : PHILIP.F.HIGGINS
Rights : PHILIP.F.HIGGINS@ PHIGGYS.COM
Tone Curve : 0, 0, 255, 255
Image Width : 246
Image Height : 300
Bits Per Sample : 8
Color Components : 3
Aperture : 10.0
Image Size : 246x300
Megapixels : 0.074
Scale Factor To 35 mm Equivalent : 1.0
Shutter Speed : 1/200
Create Date : 2010:05:13 10:52:15.84
Date/Time Original : 2010:05:13 10:52:15.84
Flash : No Flash
Circle Of Confusion : 0.030 mm
Field Of View : 6.9 deg
Focal Length : 300.0 mm (35 mm equivalent: 300.0 mm)
Hyperfocal Distance : 299.54 m
Light Value : 13.3
Lens ID : 28.0-300.0mm f/3.5-6.3