Uber Exif Photo
By-line : Randy Giesbrecht
Keywords : Black Knight Holdings © 2011, Randy Giesbrecht © 2011
Copyright Notice : Randy Giesbrecht © 2011
Copyright Flag : True
URL : www.randygiesbrecht.com
Photometric Interpretation : RGB
Make : NIKON CORPORATION
Camera Model Name : NIKON D2Xs
Orientation : Horizontal (normal)
Samples Per Pixel : 3
Software : Adobe Photoshop CS5 Windows
Modify Date : 2011:10:04 11:32:24
Artist : Randy Giesbrecht
Copyright : Randy Giesbrecht © 2011
Exposure Time : 1/60
F Number : 22.0
Exposure Program : Manual
ISO : 320
Date/Time Original : 2011:09:23 09:32:38
Create Date : 2011:09:23 09:32:38
Shutter Speed Value : 1/60
Aperture Value : 22.0
Exposure Compensation : 0
Max Aperture Value : 2.8
Subject Distance : 4294967295 m
Metering Mode : Multi-segment
Light Source : Unknown
Flash : No Flash
Focal Length : 26.0 mm
Color Space : Uncalibrated
Exif Image Width : 467
Exif Image Height : 310
Sensing Method : One-chip color area
Scene Type : Directly photographed
CFA Pattern : [Red,Green][Green,Blue]
Custom Rendered : Normal
Exposure Mode : Manual
White Balance : Auto
Digital Zoom Ratio : 1
Focal Length In 35mm Format : 39 mm
Scene Capture Type : Standard
Gain Control : None
Contrast : Normal
Saturation : Normal
Sharpness : Soft
Subject Distance Range : Unknown
Profile Description : ProPhoto RGB
Rating : 5
Label :
Creator Tool : Adobe Photoshop CS5 Windows
Approximate Focus Distance : 4294967295
Image Number : 20973
Lens : 24.0-70.0 mm f/2.8
Lens Info : 24-70mm f/2.8
Serial Number : 6005993
Web Statement : www.randygiesbrecht.com
Marked : True
Digital Source Type : http://cv.iptc.org/newscodes/digitalsourcetype/digitalCapture
Format : image/jpeg
Date Created : 2011:09:23 09:32:38.067
Color Mode : RGB
ICC Profile Name : ProPhoto RGB
Raw File Name : BKH_0929.JPG
Version : 6.0
Process Version : 5.7
Incremental Temperature : +2
Incremental Tint : -1
Exposure : 0.00
Shadows : 0
Brightness : 0
Luminance Smoothing : 0
Color Noise Reduction : 0
Chromatic Aberration R : 0
Chromatic Aberration B : 0
Vignette Amount : 0
Shadow Tint : 0
Red Hue : 0
Red Saturation : 0
Green Hue : 0
Green Saturation : 0
Blue Hue : 0
Blue Saturation : 0
Fill Light : 20
Vibrance : +34
Highlight Recovery : 46
Clarity : +100
Defringe : 0
Hue Adjustment Red : 0
Hue Adjustment Orange : 0
Hue Adjustment Yellow : 0
Hue Adjustment Green : 0
Hue Adjustment Aqua : 0
Hue Adjustment Blue : 0
Hue Adjustment Purple : 0
Hue Adjustment Magenta : 0
Saturation Adjustment Red : 0
Saturation Adjustment Orange : 0
Saturation Adjustment Yellow : 0
Saturation Adjustment Green : 0
Saturation Adjustment Aqua : 0
Saturation Adjustment Blue : 0
Saturation Adjustment Purple : 0
Saturation Adjustment Magenta : 0
Luminance Adjustment Red : 0
Luminance Adjustment Orange : 0
Luminance Adjustment Yellow : 0
Luminance Adjustment Green : 0
Luminance Adjustment Aqua : 0
Luminance Adjustment Blue : 0
Luminance Adjustment Purple : 0
Luminance Adjustment Magenta : 0
Split Toning Shadow Hue : 0
Split Toning Shadow Saturation : 0
Split Toning Highlight Hue : 0
Split Toning Highlight Saturation : 0
Split Toning Balance : 0
Parametric Shadows : -20
Parametric Darks : +18
Parametric Lights : 0
Parametric Highlights : +26
Parametric Shadow Split : 25
Parametric Midtone Split : 50
Parametric Highlight Split : 75
Sharpen Radius : +1.0
Sharpen Detail : 25
Sharpen Edge Masking : 0
Post Crop Vignette Amount : 0
Grain Amount : 0
Convert To Grayscale : False
Tone Curve Name : Linear
Camera Profile : Embedded
Has Settings : True
Crop Top : 0
Crop Left : 0
Crop Bottom : 1
Crop Right : 1
Crop Angle : 0
Has Crop : True
Already Applied : True
Subject : Black Knight Holdings © 2011, Randy Giesbrecht © 2011
Rights : Randy Giesbrecht © 2011
Creator : Randy Giesbrecht
Tone Curve : 0, 0, 255, 255
Creator Postal Code : V2S 3L7
Creator Work Telephone : 604-309-1738
Creator Region : BC
Creator Country : Canada
Creator Work Email : randybkh@shaw.ca
Creator City : Abbotsford
Creator Address : 2764 Mountview Street
Creator Work URL : randygiesbrecht.com
Hierarchical Subject : Black Knight Holdings © 2011, Randy Giesbrecht © 2011
Image Width : 300
Image Height : 199
Bits Per Sample : 8
Color Components : 3
Aperture : 22.0
Image Size : 300x199
Megapixels : 0.060
Scale Factor To 35 mm Equivalent : 1.5
Shutter Speed : 1/60
Create Date : 2011:09:23 09:32:38.67
Date/Time Original : 2011:09:23 09:32:38.67
Modify Date : 2011:10:04 11:32:24.67
Circle Of Confusion : 0.020 mm
Depth Of Field : inf (1.53 m - inf)
Field Of View : 49.6 deg
Focal Length : 26.0 mm (35 mm equivalent: 39.0 mm)
Hyperfocal Distance : 1.53 m
Light Value : 13.1
Lens ID : AF-S Zoom-Nikkor 24-70mm f/2.8G ED