Uber Exif Photo
By-line : Phiggys.com
Copyright Notice : PHILIP.F.HIGGINS
Make : NIKON CORPORATION
Camera Model Name : NIKON D3
Orientation : Horizontal (normal)
Software : Adobe Photoshop CS5 Windows
Modify Date : 2011:09:20 17:39:26
White Point : 0 0
Primary Chromaticities : 0 0 0 0 0 0
Reference Black White : 0 0 0 0 0 0
Copyright : PHILIP.F.HIGGINS
Exposure Time : 10
F Number : 8.0
Exposure Program : Aperture-priority AE
ISO : 400, 400
Date/Time Original : 2009:09:26 20:05:43
Create Date : 2009:09:26 20:05:43
Compressed Bits Per Pixel : 0
Shutter Speed Value : 10
Aperture Value : 8.0
Brightness Value : 0
Exposure Compensation : -1
Max Aperture Value : 4.1
Subject Distance : 4293.967296 m
Metering Mode : Multi-segment
Light Source : Unknown
Flash : No Flash
Focal Length : 46.0 mm
Color Space : Uncalibrated
Exif Image Width : 4256
Exif Image Height : 2832
Exposure Index : 0
Sensing Method : One-chip color area
Scene Type : Directly photographed
Profile Description : Adobe RGB (1998)
Creator Tool : Ver.2.01
Rating : 0
Format : image/jpeg
Serial Number : 2051426
Lens Info : 28-300mm f/3.5-6.3
Lens : 28.0-300.0 mm f/3.5-6.3
Image Number : 18806
Raw File Name : PH3_8710.NEF
Version : 6.0
Process Version : 5.7
White Balance : As Shot
Color Temperature : 4100
Tint : +31
Exposure : -2.25
Shadows : 0
Brightness : +110
Contrast : +21
Saturation : 0
Sharpness : 25
Luminance Smoothing : 0
Color Noise Reduction : 25
Chromatic Aberration R : 0
Chromatic Aberration B : 0
Vignette Amount : 0
Shadow Tint : 0
Red Hue : 0
Red Saturation : 0
Green Hue : 0
Green Saturation : 0
Blue Hue : 0
Blue Saturation : 0
Fill Light : 36
Vibrance : 0
Highlight Recovery : 0
Clarity : 0
Defringe : 0
Hue Adjustment Red : 0
Hue Adjustment Orange : 0
Hue Adjustment Yellow : 0
Hue Adjustment Green : 0
Hue Adjustment Aqua : 0
Hue Adjustment Blue : 0
Hue Adjustment Purple : 0
Hue Adjustment Magenta : 0
Saturation Adjustment Red : 0
Saturation Adjustment Orange : 0
Saturation Adjustment Yellow : 0
Saturation Adjustment Green : 0
Saturation Adjustment Aqua : 0
Saturation Adjustment Blue : 0
Saturation Adjustment Purple : 0
Saturation Adjustment Magenta : 0
Luminance Adjustment Red : 0
Luminance Adjustment Orange : 0
Luminance Adjustment Yellow : 0
Luminance Adjustment Green : 0
Luminance Adjustment Aqua : 0
Luminance Adjustment Blue : 0
Luminance Adjustment Purple : 0
Luminance Adjustment Magenta : 0
Split Toning Shadow Hue : 0
Split Toning Shadow Saturation : 0
Split Toning Highlight Hue : 0
Split Toning Highlight Saturation : 0
Split Toning Balance : 0
Parametric Shadows : 0
Parametric Darks : 0
Parametric Lights : 0
Parametric Highlights : 0
Parametric Shadow Split : 25
Parametric Midtone Split : 50
Parametric Highlight Split : 75
Sharpen Radius : +1.0
Sharpen Detail : 25
Sharpen Edge Masking : 0
Post Crop Vignette Amount : 0
Grain Amount : 0
Color Noise Reduction Detail : 50
Convert To Grayscale : False
Tone Curve Name : Medium Contrast
Camera Profile : Adobe Standard
Has Settings : True
Has Crop : False
Already Applied : True
Sidecar For Extension : NEF
Color Mode : RGB
ICC Profile Name : Adobe RGB (1998)
Date Created : 2009:09:26 20:05:43.075
Creator : Phiggys.com
Rights : PHILIP.F.HIGGINS
Tone Curve : 0, 0, 32, 22, 64, 56, 128, 128, 192, 196, 255, 255
Image Width : 300
Image Height : 200
Bits Per Sample : 8
Color Components : 3
Aperture : 8.0
Image Size : 300x200
Megapixels : 0.060
Shutter Speed : 10
Light Value : 0.7
Lens ID : Tamron AF 28-300mm f/3.5-6.3 XR LD Aspherical (IF) (185D) or Tamron AF 28-300mm f/3.5-6.3 XR Di LD Aspherical (IF) (A061)