Uber Exif Photo
By-line : Gilles Sanchez
By-line Title : Photographer
Copyright Notice : (C)2011 Gilles Sanchez, all rights reserved
Make : NIKON CORPORATION
Camera Model Name : NIKON D300S
Orientation : Horizontal (normal)
Software : ViewNX 2.1 W
Modify Date : 2011:10:23 13:47:06
Artist : Gilles Sanchez
Copyright : (C)2011 Gilles Sanchez, all rights reserved
Exposure Time : 1/80
F Number : 4.5
Exposure Program : Manual
ISO : 100
Date/Time Original : 2011:10:16 07:08:35
Create Date : 2011:10:16 07:08:35
Shutter Speed Value : 0.3
Aperture Value : 4.5
Exposure Compensation : 0
Max Aperture Value : 3.9
Subject Distance : 0.75 m
Metering Mode : Multi-segment
Light Source : Cloudy
Flash : On, Return not detected
Focal Length : 30.0 mm
Maker Note Version : 2.10
Image Data Size : 167266
Nikon Capture Version : ViewNX 2.1 W
IFD0 Offset : 1324
Preview IFD Offset : 1224
NEF Bit Depth : n/a (JPEG)
User Comment : Gilles Sanchez
Color Space : Uncalibrated
Exif Image Width : 1600
Exif Image Height : 1475
Sensing Method : One-chip color area
Scene Type : Directly photographed
CFA Pattern : [Red,Green][Green,Blue]
Custom Rendered : Normal
Exposure Mode : Manual
White Balance : Manual
Digital Zoom Ratio : 1
Focal Length In 35mm Format : 45 mm
Scene Capture Type : Standard
Gain Control : None
Contrast : Normal
Saturation : Normal
Sharpness : Hard
Subject Distance Range : Unknown
Serial Number : 6087821
Lens Info : 24-120mm f/3.5-5.6
Lens Model : 24.0-120.0 mm f/3.5-5.6
Profile Description : Nikon sRGB 4.0.0.3002
Format : image/jpeg
Authors Position : Photographer
Source : Gilles Sanchez
Date Created : 2011:10:16 07:08:35.048
Color Mode : RGB
ICC Profile Name : Adobe RGB (1998)
Rating Percent : 0
Creator Tool : Adobe Photoshop CS5 Windows
Rating : 0
Lens : 24.0-120.0 mm f/3.5-5.6
Image Number : 4935
Approximate Focus Distance : 0.75
Raw File Name : _DSC4635.NEF
Version : 6.5
Process Version : 5.7
Color Temperature : 5650
Tint : -1
Exposure : +0.50
Shadows : 5
Brightness : +41
Luminance Smoothing : 0
Color Noise Reduction : 25
Chromatic Aberration R : 0
Chromatic Aberration B : 0
Vignette Amount : 0
Shadow Tint : 0
Red Hue : 0
Red Saturation : 0
Green Hue : 0
Green Saturation : 0
Blue Hue : 0
Blue Saturation : 0
Fill Light : 69
Vibrance : 0
Highlight Recovery : 0
Clarity : -12
Defringe : 0
Hue Adjustment Red : 0
Hue Adjustment Orange : 0
Hue Adjustment Yellow : 0
Hue Adjustment Green : 0
Hue Adjustment Aqua : 0
Hue Adjustment Blue : 0
Hue Adjustment Purple : 0
Hue Adjustment Magenta : 0
Saturation Adjustment Red : 0
Saturation Adjustment Orange : 0
Saturation Adjustment Yellow : 0
Saturation Adjustment Green : 0
Saturation Adjustment Aqua : 0
Saturation Adjustment Blue : 0
Saturation Adjustment Purple : 0
Saturation Adjustment Magenta : 0
Luminance Adjustment Red : 0
Luminance Adjustment Orange : 0
Luminance Adjustment Yellow : 0
Luminance Adjustment Green : 0
Luminance Adjustment Aqua : 0
Luminance Adjustment Blue : 0
Luminance Adjustment Purple : 0
Luminance Adjustment Magenta : 0
Split Toning Shadow Hue : 0
Split Toning Shadow Saturation : 0
Split Toning Highlight Hue : 0
Split Toning Highlight Saturation : 0
Split Toning Balance : 0
Parametric Shadows : 0
Parametric Darks : 0
Parametric Lights : 0
Parametric Highlights : 0
Parametric Shadow Split : 25
Parametric Midtone Split : 50
Parametric Highlight Split : 75
Sharpen Radius : +1.0
Sharpen Detail : 25
Sharpen Edge Masking : 0
Post Crop Vignette Amount : 0
Grain Amount : 0
Color Noise Reduction Detail : 50
Lens Profile Enable : 1
Lens Manual Distortion Amount : 0
Perspective Vertical : 0
Perspective Horizontal : 0
Perspective Rotate : 0.0
Perspective Scale : 100
Convert To Grayscale : False
Tone Curve Name : Medium Contrast
Camera Profile : Camera Vivid
Lens Profile Setup : Custom
Lens Profile Name : Adobe (Nikon AF-S VR Zoom-Nikkor 70-200mm f/2.8G IF-ED)
Lens Profile Filename : NIKON D3X (Nikon FX 70-200mm f2.8 G IF ED) - RAW.lcp
Lens Profile Distortion Scale : 100
Lens Profile Chromatic Aberration Scale : 100
Lens Profile Vignetting Scale : 100
Has Settings : True
Crop Top : 0
Crop Left : 0.117692
Crop Bottom : 0.878858
Crop Right : 0.750949
Crop Angle : 0
Crop Constrain To Warp : 1
Has Crop : True
Already Applied : True
Creator : Gilles Sanchez
Rights : (C)2011 Gilles Sanchez, all rights reserved
Creator City : Brno
Usage Terms : For consideration only, no reproduction without prior permission
Tone Curve : 0, 0, 32, 22, 64, 56, 128, 128, 192, 196, 255, 255
Image Width : 300
Image Height : 277
Bits Per Sample : 8
Color Components : 3
Aperture : 4.5
Image Size : 300x277
Megapixels : 0.083
Scale Factor To 35 mm Equivalent : 1.5
Shutter Speed : 1/80
Create Date : 2011:10:16 07:08:35.48
Date/Time Original : 2011:10:16 07:08:35.48
Modify Date : 2011:10:23 13:47:06.48
Circle Of Confusion : 0.020 mm
Depth Of Field : 0.11 m (0.70 - 0.81 m)
Field Of View : 43.6 deg
Focal Length : 30.0 mm (35 mm equivalent: 45.0 mm)
Hyperfocal Distance : 9.98 m
Light Value : 10.7
Lens ID : AF Zoom-Nikkor 24-120mm f/3.5-5.6D IF