Uber Exif Photo
Make : NIKON CORPORATION
Camera Model Name : NIKON D90
Software : Adobe Photoshop Lightroom 3.5 (Windows)
Modify Date : 2011:10:31 18:24:05
Exposure Time : 2
F Number : 22.0
Exposure Program : Shutter speed priority AE
ISO : 200
Date/Time Original : 2011:09:24 17:31:24
Create Date : 2011:09:24 17:31:24
Shutter Speed Value : 2
Aperture Value : 22.0
Exposure Compensation : 0
Max Aperture Value : 3.5
Subject Distance : 1.19 m
Metering Mode : Multi-segment
Light Source : Unknown
Flash : No Flash
Focal Length : 16.0 mm
User Comment : Copyright 2011 Jose Santos
Sensing Method : One-chip color area
Scene Type : Directly photographed
CFA Pattern : [Green,Blue][Red,Green]
Custom Rendered : Normal
Exposure Mode : Auto
White Balance : Auto
Digital Zoom Ratio : 1
Focal Length In 35mm Format : 24 mm
Scene Capture Type : Standard
Gain Control : None
Contrast : Normal
Saturation : High
Sharpness : Normal
Subject Distance Range : Unknown
Serial Number : 6529149
Lens Info : 16-85mm f/3.5-5.6
Lens Model : 16.0-85.0 mm f/3.5-5.6
Profile Description : Adobe RGB (1998)
Aux : http://ns.adobe.com/exif/1.0/aux/
Lens : 16.0-85.0 mm f/3.5-5.6
Image Number : 5063
Approximate Focus Distance : 1.19
Creator Tool : Adobe Photoshop Lightroom 3.5 (Windows)
Date Created : 2011:09:24 17:31:24.00
Version : 6.5
Process Version : 5.7
Incremental Temperature : 0
Incremental Tint : 0
Exposure : -2.14
Shadows : 9
Brightness : 0
Luminance Smoothing : 0
Color Noise Reduction : 0
Chromatic Aberration R : 0
Chromatic Aberration B : 0
Vignette Amount : 0
Shadow Tint : 0
Red Hue : 0
Red Saturation : 0
Green Hue : 0
Green Saturation : 0
Blue Hue : 0
Blue Saturation : 0
Fill Light : 0
Vibrance : 0
Highlight Recovery : 16
Clarity : 0
Defringe : 0
Hue Adjustment Red : 0
Hue Adjustment Orange : 0
Hue Adjustment Yellow : 0
Hue Adjustment Green : 0
Hue Adjustment Aqua : 0
Hue Adjustment Blue : 0
Hue Adjustment Purple : 0
Hue Adjustment Magenta : 0
Saturation Adjustment Red : 0
Saturation Adjustment Orange : 0
Saturation Adjustment Yellow : 0
Saturation Adjustment Green : 0
Saturation Adjustment Aqua : 0
Saturation Adjustment Blue : 0
Saturation Adjustment Purple : 0
Saturation Adjustment Magenta : 0
Luminance Adjustment Red : 0
Luminance Adjustment Orange : 0
Luminance Adjustment Yellow : 0
Luminance Adjustment Green : 0
Luminance Adjustment Aqua : 0
Luminance Adjustment Blue : 0
Luminance Adjustment Purple : 0
Luminance Adjustment Magenta : 0
Split Toning Shadow Hue : 0
Split Toning Shadow Saturation : 0
Split Toning Highlight Hue : 0
Split Toning Highlight Saturation : 0
Split Toning Balance : 0
Parametric Shadows : 0
Parametric Darks : 0
Parametric Lights : 0
Parametric Highlights : 0
Parametric Shadow Split : 25
Parametric Midtone Split : 50
Parametric Highlight Split : 75
Sharpen Radius : +1.0
Sharpen Detail : 25
Sharpen Edge Masking : 0
Post Crop Vignette Amount : 0
Grain Amount : 0
Lens Profile Enable : 0
Lens Manual Distortion Amount : 0
Perspective Vertical : 0
Perspective Horizontal : 0
Perspective Rotate : 0.0
Perspective Scale : 100
Convert To Grayscale : False
Tone Curve Name : Linear
Camera Profile : Embedded
Lens Profile Setup : LensDefaults
Has Settings : True
Has Crop : False
Already Applied : True
Tone Curve : 0, 0, 255, 255
Image Width : 300
Image Height : 199
Bits Per Sample : 8
Color Components : 3
Aperture : 22.0
Image Size : 300x199
Megapixels : 0.060
Scale Factor To 35 mm Equivalent : 1.5
Shutter Speed : 2
Create Date : 2011:09:24 17:31:24.00
Date/Time Original : 2011:09:24 17:31:24.00
Circle Of Confusion : 0.020 mm
Depth Of Field : inf (0.39 m - inf)
Field Of View : 73.7 deg
Focal Length : 16.0 mm (35 mm equivalent: 24.0 mm)
Hyperfocal Distance : 0.58 m
Light Value : 6.9
Lens ID : AF-S DX VR Zoom-Nikkor 16-85mm f/3.5-5.6G ED