Uber Exif Photo
Copyright Flag : False
Make : FUJIFILM
Camera Model Name : FinePix S5Pro
Orientation : Horizontal (normal)
Software : Adobe Photoshop CS3 Windows
Modify Date : 2009:04:21 19:19:13
White Point : 0 0
Primary Chromaticities : 0 0 0 0 0 0
Reference Black White : 0 0 0 0 0 0
Exposure Time : 1/4
F Number : 8.0
Exposure Program : Aperture-priority AE
ISO : 100, 100
Date/Time Original : 2009:04:20 16:01:29
Create Date : 2009:04:20 16:01:29
Compressed Bits Per Pixel : 0
Shutter Speed Value : 1/4
Aperture Value : 8.0
Brightness Value : 1.91
Exposure Compensation : -1
Max Aperture Value : 3.6
Subject Distance : 0 m
Metering Mode : Multi-segment
Light Source : Unknown
Focal Length : 10.0 mm
Color Space : Uncalibrated
Exif Image Width : 2848
Exif Image Height : 4256
Exposure Index : 0
Sensing Method : One-chip color area
Scene Type : Directly photographed
Profile Description : Adobe RGB (1998)
Date/Time Digitized : 2009:04:20 16:01:29+01:00
Focal Length In 35mm Format : 15 mm
Custom Rendered : Normal
Exposure Mode : Auto
White Balance : Auto
Scene Capture Type : Standard
Contrast : Normal
Saturation : Normal
Sharpness : Hard
Subject Distance Range : Unknown
Creator Tool : Adobe Photoshop CS3 Windows
Rating : 0
Lens Info : 10-17mm f/3.5-4.5
Lens : 10.0-17.0 mm f/3.5-4.5
Raw File Name : DSCF4214.RAF
Version : 4.6
Color Temperature : 4250
Tint : +30
Exposure : +0.05
Shadows : 5
Brightness : +50
Luminance Smoothing : 0
Color Noise Reduction : 25
Chromatic Aberration R : 0
Chromatic Aberration B : 0
Vignette Amount : 0
Shadow Tint : 0
Red Hue : 0
Red Saturation : 0
Green Hue : 0
Green Saturation : 0
Blue Hue : 0
Blue Saturation : 0
Fill Light : 0
Vibrance : 0
Highlight Recovery : 100
Clarity : 0
Defringe : 0
Hue Adjustment Red : 0
Hue Adjustment Orange : 0
Hue Adjustment Yellow : 0
Hue Adjustment Green : 0
Hue Adjustment Aqua : 0
Hue Adjustment Blue : 0
Hue Adjustment Purple : 0
Hue Adjustment Magenta : 0
Saturation Adjustment Red : 0
Saturation Adjustment Orange : 0
Saturation Adjustment Yellow : 0
Saturation Adjustment Green : 0
Saturation Adjustment Aqua : 0
Saturation Adjustment Blue : 0
Saturation Adjustment Purple : 0
Saturation Adjustment Magenta : 0
Luminance Adjustment Red : 0
Luminance Adjustment Orange : 0
Luminance Adjustment Yellow : 0
Luminance Adjustment Green : 0
Luminance Adjustment Aqua : 0
Luminance Adjustment Blue : 0
Luminance Adjustment Purple : 0
Luminance Adjustment Magenta : 0
Split Toning Shadow Hue : 0
Split Toning Shadow Saturation : 0
Split Toning Highlight Hue : 0
Split Toning Highlight Saturation : 0
Split Toning Balance : 0
Parametric Shadows : 0
Parametric Darks : 0
Parametric Lights : 0
Parametric Highlights : 0
Parametric Shadow Split : 25
Parametric Midtone Split : 50
Parametric Highlight Split : 75
Sharpen Radius : +1.0
Sharpen Detail : 25
Sharpen Edge Masking : 0
Post Crop Vignette Amount : 0
Convert To Grayscale : False
Tone Curve Name : Medium Contrast
Camera Profile : ACR 4.4
Has Settings : True
Has Crop : False
Already Applied : True
Sidecar For Extension : RAF
Color Mode : RGB
ICC Profile Name : Adobe RGB (1998)
Format : image/jpeg
Flash Fired : False
Flash Return : No return detection
Flash Mode : Off
Flash Function : False
Flash Red Eye Mode : False
Tone Curve : 0, 0, 32, 22, 64, 56, 128, 128, 192, 196, 255, 255
Derived From :
Image Width : 201
Image Height : 300
Bits Per Sample : 8
Color Components : 3
Aperture : 8.0
Image Size : 201x300
Megapixels : 0.060
Scale Factor To 35 mm Equivalent : 1.5
Shutter Speed : 1/4
Flash : Off, Did not fire
Circle Of Confusion : 0.020 mm
Field Of View : 100.4 deg
Focal Length : 10.0 mm (35 mm equivalent: 15.0 mm)
Hyperfocal Distance : 0.62 m
Light Value : 8.0
Lens ID : 10.0-17.0mm f/3.5-4.5