Uber Exif Photo
Photometric Interpretation : RGB
Camera Model Name : NIKON D300
Orientation : Horizontal (normal)
Samples Per Pixel : 3
Software : Adobe Photoshop CS5 Windows
Modify Date : 2011:11:06 23:06:46
Exposure Time : 1/8000
F Number : 4.5
ISO : 900
Date/Time Original : 2011:10:04 15:44:39
Shutter Speed Value : 1/8000
Aperture Value : 4.5
Focal Length : 18.0 mm
Color Space : Uncalibrated
Exif Image Width : 3158
Exif Image Height : 2526
Profile Description : Adobe RGB (1998)
Method : Details Enhancer
Strength : 100.0
Color Saturation : 46.0
Luminosity : 5.4
White Clip : 2.057100
Black Clip : 0.074850
Smoothing Mode : Slider
Smoothing : 3.6
Microcontrast : 3.1
Microsmoothing : 3.2
Gamma : 1.00
Highlights Smoothing : 0.0
Shadows Smoothing : 58.0
Shadows Clipping : 0.0
Color Temperature : 0.0
Saturation Highlights : -2.4
Saturation Shadows : 0.0
Is Pano 360 : No
Rating : 0
Create Date : 2011:10:04 15:44:39
Creator Tool : Adobe Photoshop CS5 Windows
Date Created : 2011:10:04 15:44:39
Color Mode : RGB
ICC Profile Name : Adobe RGB (1998)
Format : image/jpeg
Raw File Name : Beach Bar.jpg
Version : 6.5
Process Version : 5.7
White Balance : As Shot
Incremental Temperature : 0
Incremental Tint : 0
Exposure : 0.00
Shadows : 2
Brightness : +20
Contrast : +8
Saturation : 0
Sharpness : 37
Luminance Smoothing : 0
Color Noise Reduction : 0
Chromatic Aberration R : 0
Chromatic Aberration B : 0
Vignette Amount : 0
Shadow Tint : 0
Red Hue : 0
Red Saturation : 0
Green Hue : 0
Green Saturation : 0
Blue Hue : 0
Blue Saturation : 0
Fill Light : 0
Vibrance : -2
Highlight Recovery : 0
Clarity : +29
Defringe : 0
Hue Adjustment Red : 0
Hue Adjustment Orange : 0
Hue Adjustment Yellow : 0
Hue Adjustment Green : 0
Hue Adjustment Aqua : 0
Hue Adjustment Blue : 0
Hue Adjustment Purple : 0
Hue Adjustment Magenta : 0
Saturation Adjustment Red : 0
Saturation Adjustment Orange : 0
Saturation Adjustment Yellow : 0
Saturation Adjustment Green : 0
Saturation Adjustment Aqua : 0
Saturation Adjustment Blue : 0
Saturation Adjustment Purple : 0
Saturation Adjustment Magenta : 0
Luminance Adjustment Red : 0
Luminance Adjustment Orange : 0
Luminance Adjustment Yellow : 0
Luminance Adjustment Green : 0
Luminance Adjustment Aqua : 0
Luminance Adjustment Blue : 0
Luminance Adjustment Purple : 0
Luminance Adjustment Magenta : 0
Split Toning Shadow Hue : 0
Split Toning Shadow Saturation : 0
Split Toning Highlight Hue : 0
Split Toning Highlight Saturation : 0
Split Toning Balance : 0
Parametric Shadows : +8
Parametric Darks : 0
Parametric Lights : 0
Parametric Highlights : -38
Parametric Shadow Split : 25
Parametric Midtone Split : 50
Parametric Highlight Split : 75
Sharpen Radius : +1.2
Sharpen Detail : 25
Sharpen Edge Masking : 0
Post Crop Vignette Amount : 0
Grain Amount : 0
Lens Profile Enable : 0
Lens Manual Distortion Amount : 0
Perspective Vertical : 0
Perspective Horizontal : 0
Perspective Rotate : 0.0
Perspective Scale : 100
Convert To Grayscale : False
Tone Curve Name : Linear
Camera Profile : Embedded
Lens Profile Setup : LensDefaults
Has Settings : True
Has Crop : False
Already Applied : True
Tone Curve : 0, 0, 255, 255
Image Width : 300
Image Height : 240
Bits Per Sample : 8
Color Components : 3
Aperture : 4.5
Image Size : 300x240
Megapixels : 0.072
Shutter Speed : 1/8000
Light Value : 14.1