Uber Exif Photo
By-line : Bjorn Olsson, bjornsphoto@gmail.
Copyright Notice : Bjorn Olsson
Make : NIKON CORPORATION
Camera Model Name : NIKON D7000
Orientation : Horizontal (normal)
Software : ViewNX 2.2 W
Modify Date : 2011:11:28 15:21:27
Artist : Bjorn Olsson, bjornsphoto@gmail.com
Copyright : Bjorn Olsson
Exposure Time : 1/60
F Number : 7.1
Exposure Program : Manual
ISO : 400
Date/Time Original : 2011:11:20 13:35:31
Create Date : 2011:11:20 13:35:31
Shutter Speed Value : 0.7
Aperture Value : 7.1
Exposure Compensation : 0
Max Aperture Value : 3.4
Subject Distance : inf
Metering Mode : Multi-segment
Light Source : Cloudy
Flash : Off, Did not fire
Focal Length : 32.0 mm
Maker Note Version : 2.10
Image Data Size : 590158
Nikon Capture Version : ViewNX 2.2 W
IFD0 Offset : 1244
Preview IFD Offset : 1144
NEF Bit Depth : n/a (JPEG)
Color Space : Uncalibrated
Exif Image Width : 1024
Exif Image Height : 678
Sensing Method : One-chip color area
Scene Type : Directly photographed
CFA Pattern : [Red,Green][Green,Blue]
Custom Rendered : Normal
Exposure Mode : Manual
White Balance : Manual
Digital Zoom Ratio : 1
Focal Length In 35mm Format : 48 mm
Scene Capture Type : Standard
Gain Control : Low gain up
Contrast : Normal
Saturation : Normal
Sharpness : Normal
Subject Distance Range : Unknown
Serial Number : 6004008
Lens Info : 17-70mm f/2.8-4
Profile Description : Adobe RGB (1998)
Format : image/jpeg
Creator Tool : Adobe Photoshop CS5 Windows
Rating : 0
Lens : 17.0-70.0 mm f/2.8-4.0
Image Number : 405
Approximate Focus Distance : 4294967295
Date Created : 2011:11:20 13:35:31.008
Color Mode : RGB
ICC Profile Name : Adobe RGB (1998)
Raw File Name : _BEO1529.NEF
Version : 6.4.1
Process Version : 5.7
Color Temperature : 6000
Tint : +8
Exposure : +1.45
Shadows : 5
Brightness : +50
Luminance Smoothing : 0
Color Noise Reduction : 25
Chromatic Aberration R : 0
Chromatic Aberration B : 0
Vignette Amount : 0
Shadow Tint : 0
Red Hue : 0
Red Saturation : 0
Green Hue : 0
Green Saturation : 0
Blue Hue : 0
Blue Saturation : 0
Fill Light : 0
Vibrance : +47
Highlight Recovery : 0
Clarity : +59
Defringe : 0
Hue Adjustment Red : 0
Hue Adjustment Orange : 0
Hue Adjustment Yellow : 0
Hue Adjustment Green : 0
Hue Adjustment Aqua : 0
Hue Adjustment Blue : 0
Hue Adjustment Purple : 0
Hue Adjustment Magenta : 0
Saturation Adjustment Red : 0
Saturation Adjustment Orange : 0
Saturation Adjustment Yellow : 0
Saturation Adjustment Green : 0
Saturation Adjustment Aqua : 0
Saturation Adjustment Blue : 0
Saturation Adjustment Purple : 0
Saturation Adjustment Magenta : 0
Luminance Adjustment Red : 0
Luminance Adjustment Orange : 0
Luminance Adjustment Yellow : 0
Luminance Adjustment Green : 0
Luminance Adjustment Aqua : 0
Luminance Adjustment Blue : 0
Luminance Adjustment Purple : 0
Luminance Adjustment Magenta : 0
Split Toning Shadow Hue : 107
Split Toning Shadow Saturation : 4
Split Toning Highlight Hue : 48
Split Toning Highlight Saturation : 78
Split Toning Balance : +34
Parametric Shadows : -25
Parametric Darks : -3
Parametric Lights : -60
Parametric Highlights : +18
Parametric Shadow Split : 25
Parametric Midtone Split : 50
Parametric Highlight Split : 75
Sharpen Radius : +1.0
Sharpen Detail : 25
Sharpen Edge Masking : 0
Post Crop Vignette Amount : -44
Post Crop Vignette Midpoint : 60
Post Crop Vignette Feather : 70
Post Crop Vignette Roundness : -65
Post Crop Vignette Style : Highlight Priority
Post Crop Vignette Highlight Contrast : 37
Grain Amount : 0
Color Noise Reduction Detail : 50
Lens Profile Enable : 0
Lens Manual Distortion Amount : 0
Perspective Vertical : 0
Perspective Horizontal : 0
Perspective Rotate : 0.0
Perspective Scale : 100
Convert To Grayscale : False
Tone Curve Name : Medium Contrast
Camera Profile : Adobe Standard
Lens Profile Setup : LensDefaults
Has Settings : True
Has Crop : False
Already Applied : True
Creator : Bjorn Olsson, bjornsphoto@gmail.com
Rights : Bjorn Olsson
Tone Curve : 0, 0, 32, 22, 64, 56, 128, 128, 192, 196, 255, 255
Image Width : 300
Image Height : 199
Bits Per Sample : 8
Color Components : 3
Aperture : 7.1
Image Size : 300x199
Megapixels : 0.060
Scale Factor To 35 mm Equivalent : 1.5
Shutter Speed : 1/60
Create Date : 2011:11:20 13:35:31.80
Date/Time Original : 2011:11:20 13:35:31.80
Modify Date : 2011:11:28 15:21:27.80
Circle Of Confusion : 0.020 mm
Depth Of Field : inf (7.20 m - inf)
Field Of View : 41.1 deg
Focal Length : 32.0 mm (35 mm equivalent: 48.0 mm)
Hyperfocal Distance : 7.20 m
Light Value : 9.6
Lens ID : Sigma 17-70mm F2.8-4 DC Macro OS HSM