Uber Exif Photo
By-line : Randy Giesbrecht
Keywords : Black Knight Holdings © 2011, Eagles at Ruskin BC, Randy Giesbrecht © 2011, Rapture
Copyright Notice : Randy Giesbrecht © 2011
Copyright Flag : True
URL : www.randygiesbrecht.com
Make : NIKON CORPORATION
Camera Model Name : NIKON D3
Orientation : Horizontal (normal)
Software : Adobe Photoshop CS5 Windows
Modify Date : 2011:12:27 08:01:30
Artist : Randy Giesbrecht
Copyright : Randy Giesbrecht © 2011
Exposure Time : 1/200
F Number : 4.0
Exposure Program : Manual
ISO : 1000
Date/Time Original : 2011:12:26 16:49:00
Create Date : 2011:12:26 16:49:00
Shutter Speed Value : 1/200
Aperture Value : 4.0
Exposure Compensation : 0
Max Aperture Value : 4.0
Subject Distance : 4294967295 m
Metering Mode : Multi-segment
Light Source : Unknown
Flash : No Flash
Focal Length : 600.0 mm
Color Space : Uncalibrated
Exif Image Width : 1005
Exif Image Height : 1500
Sensing Method : One-chip color area
Scene Type : Directly photographed
CFA Pattern : [Red,Green][Green,Blue]
Custom Rendered : Normal
Exposure Mode : Manual
White Balance : Manual
Digital Zoom Ratio : 1
Focal Length In 35mm Format : 600 mm
Scene Capture Type : Standard
Gain Control : High gain up
Contrast : Normal
Saturation : Normal
Sharpness : Normal
Subject Distance Range : Unknown
Serial Number : 2022320
Lens Info : 600mm f/4
Lens Model : 600.0 mm f/4.0
Profile Description : ProPhoto RGB
Rating : 5
Label : Red
Creator Tool : Ver.2.01
Lens : 600.0 mm f/4.0
Image Number : 54720
Approximate Focus Distance : 4294967295
Date Created : 2011:12:26 16:49:00.028
Color Mode : RGB
ICC Profile Name : ProPhoto RGB
Marked : True
Web Statement : www.randygiesbrecht.com
Digital Source Type : http://cv.iptc.org/newscodes/digitalsourcetype/digitalCapture
Format : image/jpeg
Raw File Name : BKD_8831.JPG
Version : 6.6
Process Version : 5.7
Incremental Temperature : +25
Incremental Tint : +4
Exposure : 0.00
Shadows : 0
Brightness : 0
Luminance Smoothing : 0
Color Noise Reduction : 0
Chromatic Aberration R : 0
Chromatic Aberration B : 0
Vignette Amount : 0
Shadow Tint : 0
Red Hue : 0
Red Saturation : 0
Green Hue : 0
Green Saturation : 0
Blue Hue : 0
Blue Saturation : 0
Fill Light : 49
Vibrance : +5
Highlight Recovery : 3
Clarity : +52
Defringe : 0
Hue Adjustment Red : 0
Hue Adjustment Orange : 0
Hue Adjustment Yellow : 0
Hue Adjustment Green : 0
Hue Adjustment Aqua : 0
Hue Adjustment Blue : 0
Hue Adjustment Purple : 0
Hue Adjustment Magenta : 0
Saturation Adjustment Red : 0
Saturation Adjustment Orange : 0
Saturation Adjustment Yellow : 0
Saturation Adjustment Green : 0
Saturation Adjustment Aqua : 0
Saturation Adjustment Blue : 0
Saturation Adjustment Purple : 0
Saturation Adjustment Magenta : 0
Luminance Adjustment Red : 0
Luminance Adjustment Orange : 0
Luminance Adjustment Yellow : 0
Luminance Adjustment Green : 0
Luminance Adjustment Aqua : 0
Luminance Adjustment Blue : 0
Luminance Adjustment Purple : 0
Luminance Adjustment Magenta : 0
Split Toning Shadow Hue : 0
Split Toning Shadow Saturation : 0
Split Toning Highlight Hue : 0
Split Toning Highlight Saturation : 0
Split Toning Balance : 0
Parametric Shadows : 0
Parametric Darks : 0
Parametric Lights : 0
Parametric Highlights : 0
Parametric Shadow Split : 25
Parametric Midtone Split : 50
Parametric Highlight Split : 75
Sharpen Radius : +2.0
Sharpen Detail : 34
Sharpen Edge Masking : 37
Post Crop Vignette Amount : 0
Grain Amount : 0
Lens Profile Enable : 0
Lens Manual Distortion Amount : 0
Perspective Vertical : 0
Perspective Horizontal : 0
Perspective Rotate : 0.0
Perspective Scale : 100
Convert To Grayscale : False
Tone Curve Name : Linear
Camera Profile : Embedded
Lens Profile Setup : LensDefaults
Has Settings : True
Crop Top : 0
Crop Left : 0
Crop Bottom : 1
Crop Right : 1
Crop Angle : 0
Crop Constrain To Warp : 0
Has Crop : True
Already Applied : True
Creator : Randy Giesbrecht
Rights : Randy Giesbrecht © 2011
Subject : Black Knight Holdings © 2011, Eagles at Ruskin BC, Randy Giesbrecht © 2011, Rapture
Creator Postal Code : V2S 3L7
Creator Work Telephone : 604-309-1738
Creator Region : BC
Creator Country : Canada
Creator Work Email : randybkh@shaw.ca
Creator City : Abbotsford
Creator Address : 2764 Mountview Street
Creator Work URL : randygiesbrecht.com
Hierarchical Subject : Black Knight Holdings © 2011, Eagles at Ruskin BC, Randy Giesbrecht © 2011, Rapture
Tone Curve : 0, 0, 255, 255
Image Width : 201
Image Height : 300
Bits Per Sample : 8
Color Components : 3
Aperture : 4.0
Image Size : 201x300
Megapixels : 0.060
Scale Factor To 35 mm Equivalent : 1.0
Shutter Speed : 1/200
Create Date : 2011:12:26 16:49:00.28
Date/Time Original : 2011:12:26 16:49:00.28
Modify Date : 2011:12:27 08:01:30.28
Circle Of Confusion : 0.030 mm
Depth Of Field : inf (2995.38 m - inf)
Field Of View : 3.4 deg
Focal Length : 600.0 mm (35 mm equivalent: 600.0 mm)
Hyperfocal Distance : 2995.38 m
Light Value : 8.3
Lens ID : AF-I Nikkor 600mm f/4D IF-ED + TC-17E or AF-I Nikkor 600mm f/4D IF-ED + TC-14E or AF-I Nikkor 600mm f/4D IF-ED + TC-20E or AF-I Nikkor 600mm f/4D IF-ED