Uber Exif Photo
By-line : Randy Irving 2011
Copyright Notice : Randy Irving 2011
Photometric Interpretation : RGB
Make : NIKON CORPORATION
Camera Model Name : NIKON D300S
Orientation : Horizontal (normal)
Samples Per Pixel : 3
Software : Adobe Photoshop CS5 Windows
Modify Date : 2012:01:02 20:17:37
Artist : Randy Irving 2011
Copyright : Randy Irving 2011
Exposure Time : 1/100
F Number : 5.6
Exposure Program : Aperture-priority AE
ISO : 200
Date/Time Original : 2011:06:26 14:27:11
Create Date : 2011:06:26 14:27:11
Shutter Speed Value : 1/100
Aperture Value : 5.6
Exposure Compensation : 0
Max Aperture Value : 4.0
Subject Distance : 1.78 m
Metering Mode : Spot
Light Source : Fine Weather
Flash : No Flash
Focal Length : 70.0 mm
Color Space : sRGB
Exif Image Width : 1372
Exif Image Height : 911
Sensing Method : One-chip color area
Scene Type : Directly photographed
CFA Pattern : [Red,Green][Green,Blue]
Custom Rendered : Normal
Exposure Mode : Auto
White Balance : Manual
Digital Zoom Ratio : 1
Focal Length In 35mm Format : 105 mm
Scene Capture Type : Standard
Gain Control : None
Contrast : Normal
Saturation : Normal
Sharpness : Normal
Subject Distance Range : Unknown
Serial Number : 5003326
Lens Info : 70-300mm f/4-5.6
Lens Model : 70.0-300.0 mm f/4.0-5.6
Profile Description : sRGB IEC61966-2.1
Rating : 0
Label :
Creator Tool : Adobe Photoshop CS5 Windows
Format : image/jpeg
Lens : 70.0-300.0 mm f/4.0-5.6
Image Number : 22471
Approximate Focus Distance : 1.78
Date Created : 2011:06:26 14:27:11.025
Color Mode : RGB
ICC Profile Name : sRGB IEC61966-2.1
Raw File Name : DSC_1835.NEF
Version : 6.4.1
Process Version : 5.7
Color Temperature : 5000
Tint : +1
Exposure : 0.00
Shadows : 5
Brightness : +8
Luminance Smoothing : 0
Color Noise Reduction : 25
Chromatic Aberration R : 0
Chromatic Aberration B : 0
Vignette Amount : 0
Shadow Tint : 0
Red Hue : 0
Red Saturation : 0
Green Hue : 0
Green Saturation : 0
Blue Hue : 0
Blue Saturation : 0
Fill Light : 3
Vibrance : 0
Highlight Recovery : 26
Clarity : 0
Defringe : 0
Hue Adjustment Red : 0
Hue Adjustment Orange : 0
Hue Adjustment Yellow : 0
Hue Adjustment Green : 0
Hue Adjustment Aqua : 0
Hue Adjustment Blue : 0
Hue Adjustment Purple : 0
Hue Adjustment Magenta : 0
Saturation Adjustment Red : 0
Saturation Adjustment Orange : 0
Saturation Adjustment Yellow : 0
Saturation Adjustment Green : 0
Saturation Adjustment Aqua : 0
Saturation Adjustment Blue : 0
Saturation Adjustment Purple : 0
Saturation Adjustment Magenta : 0
Luminance Adjustment Red : 0
Luminance Adjustment Orange : 0
Luminance Adjustment Yellow : 0
Luminance Adjustment Green : 0
Luminance Adjustment Aqua : 0
Luminance Adjustment Blue : 0
Luminance Adjustment Purple : 0
Luminance Adjustment Magenta : 0
Split Toning Shadow Hue : 0
Split Toning Shadow Saturation : 0
Split Toning Highlight Hue : 0
Split Toning Highlight Saturation : 0
Split Toning Balance : 0
Parametric Shadows : 0
Parametric Darks : 0
Parametric Lights : 0
Parametric Highlights : 0
Parametric Shadow Split : 25
Parametric Midtone Split : 50
Parametric Highlight Split : 75
Sharpen Radius : +1.0
Sharpen Detail : 25
Sharpen Edge Masking : 0
Post Crop Vignette Amount : 0
Grain Amount : 0
Color Noise Reduction Detail : 50
Lens Profile Enable : 0
Lens Manual Distortion Amount : 0
Perspective Vertical : 0
Perspective Horizontal : 0
Perspective Rotate : 0.0
Perspective Scale : 100
Convert To Grayscale : False
Tone Curve Name : Medium Contrast
Camera Profile : Adobe Standard
Lens Profile Setup : LensDefaults
Has Settings : True
Crop Top : 0
Crop Left : 0
Crop Bottom : 1
Crop Right : 1
Crop Angle : 0
Crop Constrain To Warp : 0
Has Crop : True
Already Applied : True
Creator : Randy Irving 2011
Rights : Randy Irving 2011
Tone Curve : 0, 0, 32, 22, 64, 56, 128, 128, 192, 196, 255, 255
Image Width : 300
Image Height : 199
Bits Per Sample : 8
Color Components : 3
Aperture : 5.6
Image Size : 300x199
Megapixels : 0.060
Scale Factor To 35 mm Equivalent : 1.5
Shutter Speed : 1/100
Create Date : 2011:06:26 14:27:11.25
Date/Time Original : 2011:06:26 14:27:11.25
Modify Date : 2012:01:02 20:17:37.25
Circle Of Confusion : 0.020 mm
Depth Of Field : 0.14 m (1.71 - 1.85 m)
Field Of View : 19.5 deg
Focal Length : 70.0 mm (35 mm equivalent: 105.0 mm)
Hyperfocal Distance : 43.68 m
Light Value : 10.6
Lens ID : Sigma 70-300mm F4-5.6 APO DG Macro HSM