Uber Exif Photo
Copyright Flag : False
Make : NIKON CORPORATION
Camera Model Name : NIKON D700
Orientation : Horizontal (normal)
Software : Adobe Photoshop CS3 Windows
Modify Date : 2012:01:08 09:57:55
Exposure Time : 1/160
F Number : 11.0
Exposure Program : Manual
ISO : 100
Date/Time Original : 2008:12:11 22:37:25
Create Date : 2008:12:11 22:37:25
Shutter Speed Value : 1/160
Aperture Value : 11.0
Exposure Compensation : 0
Max Aperture Value : 2.8
Metering Mode : Multi-segment
Light Source : Unknown
Focal Length : 140.0 mm
Color Space : sRGB
Exif Image Width : 2493
Exif Image Height : 2733
Sensing Method : One-chip color area
Scene Type : Directly photographed
CFA Pattern : [Red,Green][Green,Blue]
Custom Rendered : Normal
Exposure Mode : Manual
White Balance : Manual
Digital Zoom Ratio : 1
Focal Length In 35mm Format : 140 mm
Scene Capture Type : Standard
Gain Control : None
Contrast : Normal
Saturation : Normal
Sharpness : Normal
Subject Distance Range : Unknown
Profile Description : sRGB IEC61966-2.1
Date/Time Digitized : 2008:12:11 22:37:25.08+01:00
Creator Tool : Adobe Photoshop CS3 Windows
Rating : 0
Serial Number : 2042035
Lens Info : 70-200mm f/2.8
Lens : 70.0-200.0 mm f/2.8
Image Number : 2244
Raw File Name : _DSC2243.NEF
Version : 4.5
Color Temperature : 5000
Tint : -6
Exposure : 0.00
Shadows : 10
Brightness : +50
Luminance Smoothing : 0
Color Noise Reduction : 25
Chromatic Aberration R : 0
Chromatic Aberration B : 0
Vignette Amount : 0
Shadow Tint : 0
Red Hue : 0
Red Saturation : 0
Green Hue : 0
Green Saturation : 0
Blue Hue : 0
Blue Saturation : 0
Fill Light : 11
Vibrance : +12
Highlight Recovery : 10
Clarity : +12
Defringe : 0
Hue Adjustment Red : 0
Hue Adjustment Orange : 0
Hue Adjustment Yellow : 0
Hue Adjustment Green : 0
Hue Adjustment Aqua : 0
Hue Adjustment Blue : 0
Hue Adjustment Purple : 0
Hue Adjustment Magenta : 0
Saturation Adjustment Red : 0
Saturation Adjustment Orange : 0
Saturation Adjustment Yellow : 0
Saturation Adjustment Green : 0
Saturation Adjustment Aqua : 0
Saturation Adjustment Blue : 0
Saturation Adjustment Purple : 0
Saturation Adjustment Magenta : 0
Luminance Adjustment Red : 0
Luminance Adjustment Orange : 0
Luminance Adjustment Yellow : 0
Luminance Adjustment Green : 0
Luminance Adjustment Aqua : 0
Luminance Adjustment Blue : 0
Luminance Adjustment Purple : 0
Luminance Adjustment Magenta : 0
Split Toning Shadow Hue : 0
Split Toning Shadow Saturation : 0
Split Toning Highlight Hue : 0
Split Toning Highlight Saturation : 0
Split Toning Balance : 0
Parametric Shadows : 0
Parametric Darks : 0
Parametric Lights : 0
Parametric Highlights : 0
Parametric Shadow Split : 25
Parametric Midtone Split : 50
Parametric Highlight Split : 75
Sharpen Radius : +1.0
Sharpen Detail : 25
Sharpen Edge Masking : 0
Post Crop Vignette Amount : 0
Convert To Grayscale : False
Tone Curve Name : Medium Contrast
Camera Profile : Beta
Has Settings : True
Has Crop : False
Already Applied : True
Sidecar For Extension : NEF
Color Mode : RGB
ICC Profile Name : sRGB IEC61966-2.1
Format : image/jpeg
Flash Fired : False
Flash Return : No return detection
Flash Mode : Unknown
Flash Function : False
Flash Red Eye Mode : False
Tone Curve : 0, 0, 32, 22, 64, 56, 128, 128, 192, 196, 255, 255
Image Width : 274
Image Height : 300
Bits Per Sample : 8
Color Components : 3
Aperture : 11.0
Image Size : 274x300
Megapixels : 0.082
Scale Factor To 35 mm Equivalent : 1.0
Shutter Speed : 1/160
Create Date : 2008:12:11 22:37:25.08
Date/Time Original : 2008:12:11 22:37:25.08
Modify Date : 2012:01:08 09:57:55.08
Flash : No Flash
Circle Of Confusion : 0.030 mm
Field Of View : 14.7 deg
Focal Length : 140.0 mm (35 mm equivalent: 140.0 mm)
Hyperfocal Distance : 59.30 m
Light Value : 14.2
Lens ID : 70.0-200.0mm f/2.8