Uber Exif Photo
By-line : BUDI AFRIANTO
Copyright Notice : @BUDIBOYO
Photometric Interpretation : RGB
Make : NIKON CORPORATION
Camera Model Name : NIKON D700
Orientation : Horizontal (normal)
Samples Per Pixel : 3
Software : Adobe Photoshop CS5.1 Macintosh
Modify Date : 2012:01:18 19:27:44
Artist : BUDI AFRIANTO
Copyright : @BUDIBOYO
Exposure Time : 1/200
F Number : 7.1
Exposure Program : Program AE
ISO : 400
Sensitivity Type : Unknown
Date/Time Original : 2010:02:14 14:28:48
Create Date : 2010:02:14 14:28:48
Shutter Speed Value : 1/200
Aperture Value : 7.1
Exposure Compensation : -1/3
Max Aperture Value : 1.4
Subject Distance : 1.12 m
Metering Mode : Center-weighted average
Light Source : Fine Weather
Flash : No Flash
Focal Length : 50.0 mm
Color Space : sRGB
Exif Image Width : 786
Exif Image Height : 900
Sensing Method : One-chip color area
Scene Type : Directly photographed
CFA Pattern : [Red,Green][Green,Blue]
Custom Rendered : Normal
Exposure Mode : Auto
White Balance : Manual
Digital Zoom Ratio : 1
Focal Length In 35mm Format : 50 mm
Scene Capture Type : Standard
Gain Control : Low gain up
Contrast : Normal
Saturation : Normal
Sharpness : Normal
Subject Distance Range : Unknown
Serial Number : 2374238
Lens Info : 50mm f/1.4
Lens Model : 50.0 mm f/1.4
Profile Description : sRGB IEC61966-2.1
Creator Tool : Ver.1.02
Lens : 50.0 mm f/1.4
Image Number : 952
Approximate Focus Distance : 1.12
Version : 6.2
Process Version : 5.7
Incremental Temperature : 0
Incremental Tint : 0
Exposure : -0.25
Shadows : 11
Brightness : +34
Luminance Smoothing : 0
Color Noise Reduction : 0
Chromatic Aberration R : 0
Chromatic Aberration B : 0
Vignette Amount : 0
Shadow Tint : 0
Red Hue : 0
Red Saturation : 0
Green Hue : 0
Green Saturation : 0
Blue Hue : 0
Blue Saturation : 0
Fill Light : 0
Highlight Recovery : 6
Clarity : +100
Defringe : 0
Gray Mixer Red : 0
Gray Mixer Orange : -28
Gray Mixer Yellow : -21
Gray Mixer Green : -27
Gray Mixer Aqua : +18
Gray Mixer Blue : +36
Gray Mixer Purple : -11
Gray Mixer Magenta : +14
Split Toning Shadow Hue : 0
Split Toning Shadow Saturation : 0
Split Toning Highlight Hue : 0
Split Toning Highlight Saturation : 1
Split Toning Balance : 0
Parametric Shadows : -74
Parametric Darks : +11
Parametric Lights : +9
Parametric Highlights : +61
Parametric Shadow Split : 25
Parametric Midtone Split : 50
Parametric Highlight Split : 75
Sharpen Radius : +1.0
Sharpen Detail : 25
Sharpen Edge Masking : 0
Post Crop Vignette Amount : 0
Grain Amount : 0
Lens Profile Enable : 0
Lens Manual Distortion Amount : 0
Perspective Vertical : 0
Perspective Horizontal : 0
Perspective Rotate : 0.0
Perspective Scale : 100
Convert To Grayscale : True
Tone Curve Name : Linear
Camera Profile : Embedded
Lens Profile Setup : LensDefaults
Has Settings : True
Crop Top : 0.069745
Crop Left : 0.143912
Crop Bottom : 0.948782
Crop Right : 0.813808
Crop Angle : 0
Crop Constrain To Warp : 0
Crop Width : 2851
Crop Height : 2489
Crop Unit : pixels
Has Crop : True
Already Applied : True
Color Mode : RGB
ICC Profile Name : sRGB IEC61966-2.1
Date Created : 2010:02:14 14:28:48.075
Format : image/jpeg
Tone Curve : 0, 0, 255, 255
Paint Correction What : Correction
Paint Correction Amount : 1.000000
Paint Correction Active : true
Paint Correction Exposure : -0.233364
Paint Correction Saturation : 0.445588
Paint Correction Contrast : 0.336121
Paint Correction Clarity : 1.000000
Paint Correction Sharpness : 1.000000
Paint Correction Brightness : 0.299816
Paint Correction Toning Hue : 359.875000
Paint Correction Toning Saturation : 0.000000
Paint Correction Mask What : Mask/Paint
Paint Correction Mask Value : 0.758172
Paint Correction Mask Radius : 0.106290
Paint Correction Mask Flow : 0.692625
Paint Correction Mask Center Weight : 0.013337
Creator : BUDI AFRIANTO
Rights : @BUDIBOYO
Image Width : 262
Image Height : 300
Bits Per Sample : 8
Color Components : 3
Aperture : 7.1
Image Size : 262x300
Megapixels : 0.079
Scale Factor To 35 mm Equivalent : 1.0
Shutter Speed : 1/200
Create Date : 2010:02:14 14:28:48.75
Date/Time Original : 2010:02:14 14:28:48.75
Circle Of Confusion : 0.030 mm
Depth Of Field : 0.21 m (1.03 - 1.23 m)
Field Of View : 39.6 deg
Focal Length : 50.0 mm (35 mm equivalent: 50.0 mm)
Hyperfocal Distance : 11.72 m
Light Value : 11.3
Lens ID : AF Nikkor 50mm f/1.4D