Uber Exif Photo
By-line : PHILIP.F.HIGGINS
Copyright Notice : PHILIP.F.HIGGINS@ PHIGGYS.COM
Make : NIKON CORPORATION
Camera Model Name : NIKON D3
Orientation : Horizontal (normal)
Software : Adobe Photoshop CS5 Windows
Modify Date : 2012:01:20 15:29:26
Artist : PHILIP.F.HIGGINS
Copyright : PHILIP.F.HIGGINS@ PHIGGYS.COM
Exposure Time : 1/200
F Number : 8.0
Exposure Program : Manual
ISO : 200
Date/Time Original : 2011:11:19 12:31:04
Create Date : 2011:11:19 12:31:04
Shutter Speed Value : 1/200
Aperture Value : 8.0
Exposure Compensation : -1/3
Max Aperture Value : 5.7
Subject Distance : 2.24 m
Metering Mode : Multi-segment
Light Source : Unknown
Flash : On, Return detected
Focal Length : 110.0 mm
Color Space : Uncalibrated
Exif Image Width : 1195
Exif Image Height : 881
Sensing Method : One-chip color area
Scene Type : Directly photographed
CFA Pattern : [Red,Green][Green,Blue]
Custom Rendered : Normal
Exposure Mode : Manual
White Balance : Auto
Digital Zoom Ratio : 1
Focal Length In 35mm Format : 110 mm
Scene Capture Type : Standard
Gain Control : None
Contrast : Normal
Saturation : Normal
Sharpness : Soft
Subject Distance Range : Unknown
Creator Tool : Ver.2.02
Rating : 0
Format : image/jpeg
Serial Number : 2051426
Lens Info : 24-120mm f/3.5-5.6
Lens : 24.0-120.0 mm f/3.5-5.6
Image Number : 46070
Raw File Name : PH3_2143.NEF
Version : 6.0
Process Version : 5.7
Color Temperature : 7000
Tint : -10
Exposure : +0.65
Shadows : 0
Brightness : +50
Luminance Smoothing : 0
Color Noise Reduction : 25
Chromatic Aberration R : 0
Chromatic Aberration B : 0
Vignette Amount : 0
Shadow Tint : 0
Red Hue : 0
Red Saturation : 0
Green Hue : 0
Green Saturation : 0
Blue Hue : 0
Blue Saturation : 0
Fill Light : 0
Vibrance : 0
Highlight Recovery : 31
Clarity : 0
Defringe : 0
Hue Adjustment Red : 0
Hue Adjustment Orange : 0
Hue Adjustment Yellow : 0
Hue Adjustment Green : 0
Hue Adjustment Aqua : 0
Hue Adjustment Blue : 0
Hue Adjustment Purple : 0
Hue Adjustment Magenta : 0
Saturation Adjustment Red : 0
Saturation Adjustment Orange : 0
Saturation Adjustment Yellow : 0
Saturation Adjustment Green : 0
Saturation Adjustment Aqua : 0
Saturation Adjustment Blue : 0
Saturation Adjustment Purple : 0
Saturation Adjustment Magenta : 0
Luminance Adjustment Red : 0
Luminance Adjustment Orange : 0
Luminance Adjustment Yellow : 0
Luminance Adjustment Green : 0
Luminance Adjustment Aqua : 0
Luminance Adjustment Blue : 0
Luminance Adjustment Purple : 0
Luminance Adjustment Magenta : 0
Split Toning Shadow Hue : 0
Split Toning Shadow Saturation : 0
Split Toning Highlight Hue : 0
Split Toning Highlight Saturation : 0
Split Toning Balance : 0
Parametric Shadows : 0
Parametric Darks : 0
Parametric Lights : 0
Parametric Highlights : 0
Parametric Shadow Split : 25
Parametric Midtone Split : 50
Parametric Highlight Split : 75
Sharpen Radius : +1.0
Sharpen Detail : 25
Sharpen Edge Masking : 0
Post Crop Vignette Amount : 0
Grain Amount : 0
Color Noise Reduction Detail : 50
Convert To Grayscale : False
Tone Curve Name : Medium Contrast
Camera Profile : Adobe Standard
Has Settings : True
Has Crop : False
Already Applied : True
Sidecar For Extension : NEF
Color Mode : RGB
ICC Profile Name : Adobe RGB (1998)
Date Created : 2011:11:19 12:31:04.055
Creator : PHILIP.F.HIGGINS
Rights : PHILIP.F.HIGGINS@ PHIGGYS.COM
Tone Curve : 0, 0, 32, 22, 64, 56, 128, 128, 192, 196, 255, 255
Image Width : 300
Image Height : 221
Bits Per Sample : 8
Color Components : 1
Aperture : 8.0
Image Size : 300x221
Megapixels : 0.066
Scale Factor To 35 mm Equivalent : 1.0
Shutter Speed : 1/200
Create Date : 2011:11:19 12:31:04.55
Date/Time Original : 2011:11:19 12:31:04.55
Modify Date : 2012:01:20 15:29:26.55
Circle Of Confusion : 0.030 mm
Depth Of Field : 0.19 m (2.15 - 2.34 m)
Field Of View : 18.6 deg
Focal Length : 110.0 mm (35 mm equivalent: 110.0 mm)
Hyperfocal Distance : 50.34 m
Light Value : 12.6
Lens ID : AF-S VR Zoom-Nikkor 24-120mm f/3.5-5.6G IF-ED