Uber Exif Photo
Photometric Interpretation : RGB
Make : NIKON CORPORATION
Camera Model Name : NIKON D80
Orientation : Horizontal (normal)
Samples Per Pixel : 3
Software : Adobe Photoshop CS5 Windows
Modify Date : 2012:01:21 17:10:32
Exposure Time : 1/160
F Number : 14.0
Exposure Program : Manual
ISO : 125
Date/Time Original : 2012:01:15 16:30:03
Create Date : 2012:01:15 16:30:03
Shutter Speed Value : 1/160
Aperture Value : 14.0
Exposure Compensation : 0
Max Aperture Value : 5.5
Subject Distance : 1.68 m
Metering Mode : Multi-segment
Light Source : Unknown
Flash : No Flash
Focal Length : 86.0 mm
User Comment : (C)MILTON.MENESES.3158603709
Color Space : sRGB
Exif Image Width : 1200
Exif Image Height : 1680
Sensing Method : One-chip color area
Scene Type : Directly photographed
CFA Pattern : [Green,Blue][Red,Green]
Custom Rendered : Normal
Exposure Mode : Manual
White Balance : Manual
Digital Zoom Ratio : 1
Focal Length In 35mm Format : 129 mm
Scene Capture Type : Standard
Gain Control : None
Contrast : Normal
Saturation : Low
Sharpness : Normal
Subject Distance Range : Unknown
Serial Number : 4520392
Lens Info : 18-125mm f/3.8-5.6
Lens Model : 18.0-125.0 mm f/3.8-5.6
Profile Description : sRGB IEC61966-2.1
Creator Tool : Adobe Photoshop CS5 Windows
Lens : 18.0-125.0 mm f/3.8-5.6
Image Number : 27712
Approximate Focus Distance : 1.68
Date Created : 2012:01:15 16:30:03.008
Color Mode : RGB
ICC Profile Name : sRGB IEC61966-2.1
Format : image/jpeg
Version : 6.6
Process Version : 5.7
Color Temperature : 5450
Tint : -18
Exposure : 0.00
Shadows : 0
Brightness : +50
Luminance Smoothing : 0
Color Noise Reduction : 25
Chromatic Aberration R : 0
Chromatic Aberration B : 0
Vignette Amount : 0
Shadow Tint : 0
Red Hue : 0
Red Saturation : 0
Green Hue : 0
Green Saturation : 0
Blue Hue : 0
Blue Saturation : 0
Fill Light : 0
Vibrance : 0
Highlight Recovery : 0
Clarity : 0
Defringe : 0
Hue Adjustment Red : +4
Hue Adjustment Orange : +5
Hue Adjustment Yellow : 0
Hue Adjustment Green : 0
Hue Adjustment Aqua : 0
Hue Adjustment Blue : 0
Hue Adjustment Purple : 0
Hue Adjustment Magenta : 0
Saturation Adjustment Red : 0
Saturation Adjustment Orange : 0
Saturation Adjustment Yellow : 0
Saturation Adjustment Green : 0
Saturation Adjustment Aqua : 0
Saturation Adjustment Blue : 0
Saturation Adjustment Purple : 0
Saturation Adjustment Magenta : 0
Luminance Adjustment Red : +10
Luminance Adjustment Orange : +21
Luminance Adjustment Yellow : 0
Luminance Adjustment Green : 0
Luminance Adjustment Aqua : +6
Luminance Adjustment Blue : +14
Luminance Adjustment Purple : 0
Luminance Adjustment Magenta : 0
Split Toning Shadow Hue : 0
Split Toning Shadow Saturation : 0
Split Toning Highlight Hue : 0
Split Toning Highlight Saturation : 0
Split Toning Balance : 0
Parametric Shadows : 0
Parametric Darks : 0
Parametric Lights : 0
Parametric Highlights : 0
Parametric Shadow Split : 25
Parametric Midtone Split : 50
Parametric Highlight Split : 75
Sharpen Radius : +1.0
Sharpen Detail : 25
Sharpen Edge Masking : 0
Post Crop Vignette Amount : 0
Grain Amount : 0
Color Noise Reduction Detail : 50
Lens Profile Enable : 1
Lens Manual Distortion Amount : 0
Perspective Vertical : 0
Perspective Horizontal : 0
Perspective Rotate : 0.0
Perspective Scale : 100
Convert To Grayscale : False
Tone Curve Name : Medium Contrast
Camera Profile : ACR 4.4
Lens Profile Setup : LensDefaults
Lens Profile Name : Adobe (SIGMA 18-125mm F3.8-5.6 DC OS HSM, NIKON CORPORATION)
Lens Profile Filename : NIKON CORPORATION (Sigma_18-125mm_F3.8-5.6_DC_OS_HSM ) - RAW.lcp
Lens Profile Distortion Scale : 100
Lens Profile Chromatic Aberration Scale : 100
Lens Profile Vignetting Scale : 100
Has Settings : True
Has Crop : False
Already Applied : True
Raw File Name : _DSC7623-4.jpg
Tone Curve : 0, 0, 32, 22, 64, 56, 128, 128, 192, 196, 255, 255
Image Width : 214
Image Height : 300
Bits Per Sample : 8
Color Components : 3
Aperture : 14.0
Image Size : 214x300
Megapixels : 0.064
Scale Factor To 35 mm Equivalent : 1.5
Shutter Speed : 1/160
Create Date : 2012:01:15 16:30:03.8
Date/Time Original : 2012:01:15 16:30:03.8
Circle Of Confusion : 0.020 mm
Depth Of Field : 0.20 m (1.58 - 1.79 m)
Field Of View : 15.9 deg
Focal Length : 86.0 mm (35 mm equivalent: 129.0 mm)
Hyperfocal Distance : 26.37 m
Light Value : 14.6
Lens ID : Sigma 18-125mm F3.8-5.6 DC OS HSM