Uber Exif Photo
Make : NIKON CORPORATION
Camera Model Name : NIKON D200
Orientation : Horizontal (normal)
Software : Capture NX 2.2.8 M
Modify Date : 2012:05:04 16:32:32
Exposure Time : 1/60
F Number : 0
Exposure Program : Aperture-priority AE
ISO : 100
Date/Time Original : 2008:06:30 07:00:26
Create Date : 2008:06:30 07:00:26
Shutter Speed Value : 1.9
Aperture Value : 1.0
Brightness Value : 0
Exposure Compensation : 0
Max Aperture Value : 1.0
Subject Distance : 0 m
Metering Mode : Center-weighted average
Light Source : Unknown
Focal Length : 0.0 mm
Maker Note Version : 2.10
Image Data Size : 497142
Nikon Capture Version : Capture NX 2.2.8 M
IFD0 Offset : 1176
Preview IFD Offset : 1076
NEF Bit Depth : n/a (JPEG)
Color Space : Uncalibrated
Exif Image Width : 1280
Exif Image Height : 853
Exposure Index : 0
Sensing Method : One-chip color area
Scene Type : Directly photographed
Exposure Mode : Auto
White Balance : Auto
Digital Zoom Ratio : 1
Focal Length In 35mm Format : 0 mm
Scene Capture Type : Standard
Gain Control : None
Contrast : High
Saturation : High
Sharpness : Hard
Subject Distance Range : Unknown
JPEG Proc : Baseline
Profile Description : Adobe RGB (1998)
Date/Time Digitized : 2008:06:30 07:00:26.90+02:00
Custom Rendered : Normal
Creator Tool : Adobe Photoshop CS3 Windows
Rating : 0
Lens Info : 0mm f/0
Lens : 0.0 mm f/0.0
Image Number : 11478
Raw File Name : N99_0007.NEF
Version : 4.6
Color Temperature : 5650
Tint : -17
Exposure : +0.60
Shadows : 7
Brightness : +66
Luminance Smoothing : 0
Color Noise Reduction : 25
Chromatic Aberration R : 0
Chromatic Aberration B : 0
Vignette Amount : 0
Shadow Tint : 0
Red Hue : 0
Red Saturation : 0
Green Hue : 0
Green Saturation : 0
Blue Hue : 0
Blue Saturation : 0
Fill Light : 0
Vibrance : -3
Highlight Recovery : 46
Clarity : +2
Defringe : 0
Hue Adjustment Red : 0
Hue Adjustment Orange : 0
Hue Adjustment Yellow : 0
Hue Adjustment Green : 0
Hue Adjustment Aqua : 0
Hue Adjustment Blue : 0
Hue Adjustment Purple : 0
Hue Adjustment Magenta : 0
Saturation Adjustment Red : 0
Saturation Adjustment Orange : 0
Saturation Adjustment Yellow : 0
Saturation Adjustment Green : 0
Saturation Adjustment Aqua : 0
Saturation Adjustment Blue : 0
Saturation Adjustment Purple : 0
Saturation Adjustment Magenta : 0
Luminance Adjustment Red : 0
Luminance Adjustment Orange : 0
Luminance Adjustment Yellow : 0
Luminance Adjustment Green : 0
Luminance Adjustment Aqua : 0
Luminance Adjustment Blue : 0
Luminance Adjustment Purple : 0
Luminance Adjustment Magenta : 0
Split Toning Shadow Hue : 0
Split Toning Shadow Saturation : 0
Split Toning Highlight Hue : 0
Split Toning Highlight Saturation : 0
Split Toning Balance : 0
Parametric Shadows : 0
Parametric Darks : 0
Parametric Lights : 0
Parametric Highlights : 0
Parametric Shadow Split : 25
Parametric Midtone Split : 50
Parametric Highlight Split : 75
Sharpen Radius : +1.0
Sharpen Detail : 25
Sharpen Edge Masking : 0
Post Crop Vignette Amount : 0
Convert To Grayscale : False
Tone Curve Name : Medium Contrast
Camera Profile : ACR 4.4
Has Settings : True
Has Crop : False
Already Applied : True
Format : image/jpeg
Color Mode : RGB
ICC Profile Name : Adobe RGB (1998)
Flash Fired : True
Flash Return : Return not detected
Flash Mode : Unknown
Flash Function : False
Flash Red Eye Mode : False
Tone Curve : 0, 0, 32, 22, 64, 56, 128, 128, 192, 196, 255, 255
Derived From :
Image Width : 300
Image Height : 200
Bits Per Sample : 8
Color Components : 3
Image Size : 300x200
Megapixels : 0.060
Shutter Speed : 1/60
Create Date : 2008:06:30 07:00:26.90
Date/Time Original : 2008:06:30 07:00:26.90
Modify Date : 2012:05:04 16:32:32.90
Flash : Fired, Return not detected
Lens ID : 0.0mm f/0.0