Uber Exif Photo
By-line : Pim Nauta
Make : NIKON CORPORATION
Camera Model Name : NIKON D300
Orientation : Horizontal (normal)
Software : Capture NX 2.2.8 M
Modify Date : 2012:05:04 16:31:29
Artist : Pim Nauta
Exposure Time : 1/60
F Number : 90.0
Exposure Program : Aperture-priority AE
ISO : 100
Date/Time Original : 2009:05:15 09:06:13
Create Date : 2009:05:15 09:06:13
Shutter Speed Value : 1.9
Aperture Value : 90.0
Brightness Value : 0
Exposure Compensation : -1/3
Max Aperture Value : 1.0
Subject Distance : 0 m
Metering Mode : Multi-segment
Light Source : Unknown
Focal Length : 55.0 mm
Maker Note Version : 2.10
Image Data Size : 629952
Nikon Capture Version : Capture NX 2.2.8 M
IFD0 Offset : 1198
Preview IFD Offset : 1098
NEF Bit Depth : n/a (JPEG)
Color Space : Uncalibrated
Exif Image Width : 1280
Exif Image Height : 850
Exposure Index : 0
Sensing Method : One-chip color area
Scene Type : Directly photographed
Exposure Mode : Auto
White Balance : Auto
Digital Zoom Ratio : 1
Focal Length In 35mm Format : 82 mm
Scene Capture Type : Standard
Gain Control : None
Contrast : Normal
Saturation : Normal
Sharpness : Normal
Subject Distance Range : Unknown
JPEG Proc : Baseline
Profile Description : Adobe RGB (1998)
Date/Time Digitized : 2009:05:15 09:06:13.00+02:00
Custom Rendered : Normal
Creator Tool : Adobe Photoshop CS3 Windows
Rating : 0
Format : image/jpeg
Serial Number : 4128770
Lens Info : 0mm f/0
Lens : 0.0 mm f/0.0
Image Number : 12299
Raw File Name : _PWN2294.NEF
Version : 4.6
Color Temperature : 6300
Tint : -3
Exposure : -0.60
Shadows : 13
Brightness : +58
Luminance Smoothing : 0
Color Noise Reduction : 25
Chromatic Aberration R : 0
Chromatic Aberration B : 0
Vignette Amount : 0
Shadow Tint : 0
Red Hue : 0
Red Saturation : 0
Green Hue : 0
Green Saturation : 0
Blue Hue : 0
Blue Saturation : 0
Fill Light : 0
Vibrance : +16
Highlight Recovery : 0
Clarity : +20
Defringe : 0
Hue Adjustment Red : 0
Hue Adjustment Orange : 0
Hue Adjustment Yellow : 0
Hue Adjustment Green : 0
Hue Adjustment Aqua : 0
Hue Adjustment Blue : 0
Hue Adjustment Purple : 0
Hue Adjustment Magenta : 0
Saturation Adjustment Red : 0
Saturation Adjustment Orange : 0
Saturation Adjustment Yellow : 0
Saturation Adjustment Green : 0
Saturation Adjustment Aqua : 0
Saturation Adjustment Blue : 0
Saturation Adjustment Purple : 0
Saturation Adjustment Magenta : 0
Luminance Adjustment Red : 0
Luminance Adjustment Orange : 0
Luminance Adjustment Yellow : 0
Luminance Adjustment Green : 0
Luminance Adjustment Aqua : 0
Luminance Adjustment Blue : 0
Luminance Adjustment Purple : 0
Luminance Adjustment Magenta : 0
Split Toning Shadow Hue : 0
Split Toning Shadow Saturation : 0
Split Toning Highlight Hue : 0
Split Toning Highlight Saturation : 0
Split Toning Balance : 0
Parametric Shadows : 0
Parametric Darks : 0
Parametric Lights : 0
Parametric Highlights : 0
Parametric Shadow Split : 25
Parametric Midtone Split : 50
Parametric Highlight Split : 75
Sharpen Radius : +1.0
Sharpen Detail : 25
Sharpen Edge Masking : 0
Post Crop Vignette Amount : 0
Convert To Grayscale : False
Tone Curve Name : Medium Contrast
Camera Profile : ACR 4.4
Has Settings : True
Has Crop : False
Already Applied : True
Color Mode : RGB
ICC Profile Name : Adobe RGB (1998)
Flash Fired : True
Flash Return : Return not detected
Flash Mode : On
Flash Function : False
Flash Red Eye Mode : False
Creator : Pim Nauta
Tone Curve : 0, 0, 32, 22, 64, 56, 128, 128, 192, 196, 255, 255
Image Width : 300
Image Height : 199
Bits Per Sample : 8
Color Components : 3
Aperture : 90.0
Image Size : 300x199
Megapixels : 0.060
Scale Factor To 35 mm Equivalent : 1.5
Shutter Speed : 1/60
Create Date : 2009:05:15 09:06:13.00
Date/Time Original : 2009:05:15 09:06:13.00
Modify Date : 2012:05:04 16:31:29.00
Flash : On, Return not detected
Circle Of Confusion : 0.020 mm
Field Of View : 24.8 deg
Focal Length : 55.0 mm (35 mm equivalent: 82.0 mm)
Hyperfocal Distance : 1.67 m
Light Value : 18.9
Lens ID : 0.0mm f/0.0