Uber Exif Photo
By-line : Vidal Smith Jr
Copyright Notice : Copyright ©VidalSmithJrPhotography
Copyright Flag : True
Camera Model Name : NIKON D90
Software : Adobe Photoshop Lightroom 4.0 (Macintosh)
Modify Date : 2012:04:12 16:29:16
Artist : Vidal Smith Jr
Copyright : Copyright ©VidalSmithJrPhotography
Exposure Time : 1/125
F Number : 18.0
ISO : 200
Date/Time Original : 2011:02:27 07:21:58
Shutter Speed Value : 1/125
Aperture Value : 18.0
Focal Length : 32.0 mm
Profile Description : sRGB IEC61966-2.1
Format : image/jpeg
Date Created : 2011:02:27 07:21:58
Black Clip : 0.000000
Color Saturation : 60.0
Color Temperature : 0.0
Gamma : 1.1
Highlights Smoothing : 0.0
Luminosity : 0.0
Method : Details Enhancer
Microcontrast : 4.1
Microsmoothing : 2.0
Saturation Highlights : 4.0
Saturation Shadows : 4.0
Shadows Clipping : 0.0
Shadows Smoothing : 0.0
Smoothing : -5.0
Smoothing Mode : Slider
Strength : 100.0
White Clip : 0.250000
Creator Tool : Adobe Photoshop Lightroom 4.0 (Macintosh)
Marked : True
Version : 7.0
Process Version : 6.7
White Balance : As Shot
Incremental Temperature : 0
Incremental Tint : 0
Exposure : 0.00
Shadows : 0
Brightness : 0
Contrast : 0
Saturation : 0
Sharpness : 108
Luminance Smoothing : 47
Color Noise Reduction : 0
Vignette Amount : 0
Shadow Tint : 0
Red Hue : 0
Red Saturation : 0
Green Hue : 0
Green Saturation : 0
Blue Hue : 0
Blue Saturation : 0
Fill Light : 0
Vibrance : 0
Highlight Recovery : 0
Clarity : 0
Defringe : 0
Hue Adjustment Red : 0
Hue Adjustment Orange : 0
Hue Adjustment Yellow : 0
Hue Adjustment Green : 0
Hue Adjustment Aqua : 0
Hue Adjustment Blue : 0
Hue Adjustment Purple : 0
Hue Adjustment Magenta : 0
Saturation Adjustment Red : 0
Saturation Adjustment Orange : 0
Saturation Adjustment Yellow : 0
Saturation Adjustment Green : +100
Saturation Adjustment Aqua : 0
Saturation Adjustment Blue : 0
Saturation Adjustment Purple : 0
Saturation Adjustment Magenta : 0
Luminance Adjustment Red : 0
Luminance Adjustment Orange : 0
Luminance Adjustment Yellow : 0
Luminance Adjustment Green : 0
Luminance Adjustment Aqua : 0
Luminance Adjustment Blue : 0
Luminance Adjustment Purple : 0
Luminance Adjustment Magenta : 0
Split Toning Shadow Hue : 0
Split Toning Shadow Saturation : 0
Split Toning Highlight Hue : 0
Split Toning Highlight Saturation : 0
Split Toning Balance : 0
Parametric Shadows : 0
Parametric Darks : 0
Parametric Lights : 0
Parametric Highlights : 0
Parametric Shadow Split : 25
Parametric Midtone Split : 50
Parametric Highlight Split : 75
Sharpen Radius : +1.0
Sharpen Detail : 25
Sharpen Edge Masking : 0
Post Crop Vignette Amount : 0
Grain Amount : 0
Luminance Noise Reduction Detail : 50
Luminance Noise Reduction Contrast : 0
Lens Profile Enable : 0
Lens Manual Distortion Amount : 0
Perspective Vertical : 0
Perspective Horizontal : 0
Perspective Rotate : 0.0
Perspective Scale : 100
Auto Lateral CA : 0
Exposure 2012 : 0.00
Contrast 2012 : 0
Highlights 2012 : 0
Shadows 2012 : 0
Whites 2012 : -44
Blacks 2012 : 0
Clarity 2012 : +100
Convert To Grayscale : False
Tone Curve Name : Linear
Tone Curve Name 2012 : Linear
Camera Profile : Embedded
Lens Profile Setup : LensDefaults
Has Settings : True
Crop Top : 0.007116
Crop Left : 0.002026
Crop Bottom : 0.992884
Crop Right : 0.997974
Crop Angle : -0.269414
Crop Constrain To Warp : 0
Crop Width : 1000
Crop Height : 656
Crop Unit : pixels
Has Crop : True
Already Applied : True
Creator : Vidal Smith Jr
Rights : Copyright ©VidalSmithJrPhotography
Usage Terms : No reproduction of any kind without prior consent
Creator City : Port Antonio
Creator Country : Jamaica
Creator Address : PO Box 201
Creator Region : Portland
Creator Work Email : vidal.smith.jr@gmail.com
Creator Work Telephone : 876 383 1472
Creator Work URL : www.vidalsmithjrphotography.com
Tone Curve : 0, 0, 255, 255
Tone Curve Red : 0, 0, 255, 255
Tone Curve Green : 0, 0, 255, 255
Tone Curve Blue : 0, 0, 255, 255
Tone Curve PV2012 : 0, 0, 255, 255
Tone Curve PV2012 Red : 0, 0, 255, 255
Tone Curve PV2012 Green : 0, 0, 255, 255
Tone Curve PV2012 Blue : 0, 0, 255, 255
Image Width : 300
Image Height : 197
Bits Per Sample : 8
Color Components : 3
Aperture : 18.0
Image Size : 300x197
Megapixels : 0.059
Shutter Speed : 1/125
Light Value : 14.3