Uber Exif Photo
By-line : VidalSmithJr
Copyright Notice : VidalSmithJr
Make : NIKON CORPORATION
Camera Model Name : NIKON D7000
Software : Adobe Photoshop Lightroom 4.0 (Macintosh)
Modify Date : 2012:05:02 21:26:29
Artist : VidalSmithJr
Copyright : VidalSmithJr
Exposure Time : 30
F Number : 22.0
Exposure Program : Manual
ISO : 100
Date/Time Original : 2012:05:02 16:57:27
Create Date : 2012:05:02 16:57:27
Shutter Speed Value : 30
Aperture Value : 22.0
Exposure Compensation : 0
Max Aperture Value : 4.0
Metering Mode : Multi-segment
Light Source : Unknown
Flash : On, Did not fire
Focal Length : 19.0 mm
User Comment : A
Sensing Method : One-chip color area
Scene Type : Directly photographed
Exposure Mode : Manual
White Balance : Auto
Digital Zoom Ratio : 1
Focal Length In 35mm Format : 28 mm
Scene Capture Type : Standard
Gain Control : None
Contrast : Normal
Saturation : Normal
Sharpness : Normal
Subject Distance Range : Unknown
Serial Number : 3081225
Lens Info : 12-24mm f/4
Lens Model : 12.0-24.0 mm f/4.0
Profile Description : sRGB IEC61966-2.1
Image Number : 6912
Lens : 12.0-24.0 mm f/4.0
Format : image/jpeg
Creator Tool : Adobe Photoshop Lightroom 4.0 (Macintosh)
Rating : 5
Date Created : 2012:05:02 16:57:27.30
Version : 7.0
Process Version : 6.7
Incremental Temperature : 0
Incremental Tint : 0
Exposure : 0.00
Shadows : 0
Brightness : 0
Luminance Smoothing : 74
Color Noise Reduction : 0
Vignette Amount : 0
Shadow Tint : 0
Red Hue : 0
Red Saturation : 0
Green Hue : 0
Green Saturation : 0
Blue Hue : 0
Blue Saturation : 0
Fill Light : 0
Vibrance : 0
Highlight Recovery : 0
Clarity : 0
Defringe : 0
Hue Adjustment Red : 0
Hue Adjustment Orange : 0
Hue Adjustment Yellow : 0
Hue Adjustment Green : 0
Hue Adjustment Aqua : 0
Hue Adjustment Blue : 0
Hue Adjustment Purple : 0
Hue Adjustment Magenta : 0
Saturation Adjustment Red : 0
Saturation Adjustment Orange : 0
Saturation Adjustment Yellow : 0
Saturation Adjustment Green : 0
Saturation Adjustment Aqua : 0
Saturation Adjustment Blue : 0
Saturation Adjustment Purple : 0
Saturation Adjustment Magenta : 0
Luminance Adjustment Red : 0
Luminance Adjustment Orange : 0
Luminance Adjustment Yellow : 0
Luminance Adjustment Green : 0
Luminance Adjustment Aqua : 0
Luminance Adjustment Blue : 0
Luminance Adjustment Purple : 0
Luminance Adjustment Magenta : 0
Split Toning Shadow Hue : 0
Split Toning Shadow Saturation : 0
Split Toning Highlight Hue : 0
Split Toning Highlight Saturation : 0
Split Toning Balance : 0
Parametric Shadows : 0
Parametric Darks : 0
Parametric Lights : 0
Parametric Highlights : 0
Parametric Shadow Split : 25
Parametric Midtone Split : 50
Parametric Highlight Split : 75
Sharpen Radius : +1.0
Sharpen Detail : 34
Sharpen Edge Masking : 0
Post Crop Vignette Amount : +38
Post Crop Vignette Midpoint : 50
Post Crop Vignette Feather : 70
Post Crop Vignette Roundness : 0
Post Crop Vignette Style : Highlight Priority
Grain Amount : 0
Luminance Noise Reduction Detail : 50
Luminance Noise Reduction Contrast : 0
Lens Profile Enable : 0
Lens Manual Distortion Amount : 0
Perspective Vertical : 0
Perspective Horizontal : 0
Perspective Rotate : 0.0
Perspective Scale : 100
Auto Lateral CA : 0
Exposure 2012 : +0.65
Contrast 2012 : 0
Highlights 2012 : 0
Shadows 2012 : +69
Whites 2012 : 0
Blacks 2012 : +100
Clarity 2012 : +71
Convert To Grayscale : False
Tone Curve Name : Linear
Tone Curve Name 2012 : Linear
Camera Profile : Embedded
Lens Profile Setup : LensDefaults
Has Settings : True
Has Crop : False
Already Applied : True
Creator : VidalSmithJr
Rights : VidalSmithJr
Tone Curve : 0, 0, 255, 255
Tone Curve Red : 0, 0, 255, 255
Tone Curve Green : 0, 0, 255, 255
Tone Curve Blue : 0, 0, 255, 255
Tone Curve PV2012 : 0, 0, 255, 255
Tone Curve PV2012 Red : 0, 0, 255, 255
Tone Curve PV2012 Green : 0, 0, 255, 255
Tone Curve PV2012 Blue : 0, 0, 255, 255
Image Width : 300
Image Height : 118
Bits Per Sample : 8
Color Components : 3
Aperture : 22.0
Image Size : 300x118
Megapixels : 0.035
Scale Factor To 35 mm Equivalent : 1.5
Shutter Speed : 30
Create Date : 2012:05:02 16:57:27.30
Circle Of Confusion : 0.020 mm
Field Of View : 65.5 deg
Focal Length : 19.0 mm (35 mm equivalent: 28.0 mm)
Hyperfocal Distance : 0.80 m
Light Value : 4.0
Lens ID : 12.0-24.0mm f/4.0