Uber Exif Photo
By-line : {Geir Walmann}
By-line Title : Nikon digital camera user
Copyright Notice : (C)2009 {Geir Walmann}, all rights reserved
Make : NIKON CORPORATION
Camera Model Name : NIKON D7000
Software : Adobe Photoshop Lightroom 4.1 (Windows)
Modify Date : 2012:07:11 00:31:15
Artist : {Geir Walmann}
Copyright : (C)2009 {Geir Walmann}, all rights reserved
Exposure Time : 1.6
F Number : 22.0
Exposure Program : Manual
ISO : 100
Date/Time Original : 2012:07:10 21:53:08
Create Date : 2012:07:10 21:53:08
Shutter Speed Value : 1.6
Aperture Value : 22.0
Exposure Compensation : 0
Max Aperture Value : 2.8
Metering Mode : Center-weighted average
Light Source : Cloudy
Flash : Off, Did not fire
Focal Length : 14.0 mm
Sensing Method : One-chip color area
Scene Type : Directly photographed
CFA Pattern : [Red,Green][Green,Blue]
Custom Rendered : Normal
Exposure Mode : Manual
White Balance : Manual
Digital Zoom Ratio : 1
Focal Length In 35mm Format : 21 mm
Scene Capture Type : Standard
Gain Control : None
Contrast : Normal
Saturation : Normal
Sharpness : Hard
Subject Distance Range : Unknown
Serial Number : 6274951
Lens Info : 14mm f/2.8-1.4
Lens Model : 14.0 mm f/2.8
Profile Description : sRGB IEC61966-2.1
Format : image/jpeg
Authors Position : Nikon digital camera user
Date Created : 2012:07:10 21:53:08.20
Rating Percent : 0
Creator Tool : Adobe Photoshop Lightroom 4.1 (Windows)
Lens : 14.0 mm f/2.8
Image Number : 9192
Approximate Focus Distance : 4294967295
Version : 7.1
Process Version : 6.7
Color Temperature : 6000
Tint : +8
Luminance Smoothing : 0
Color Noise Reduction : 25
Vignette Amount : 0
Shadow Tint : 0
Red Hue : 0
Red Saturation : 0
Green Hue : 0
Green Saturation : 0
Blue Hue : 0
Blue Saturation : 0
Vibrance : 0
Hue Adjustment Red : 0
Hue Adjustment Orange : 0
Hue Adjustment Yellow : 0
Hue Adjustment Green : 0
Hue Adjustment Aqua : 0
Hue Adjustment Blue : 0
Hue Adjustment Purple : 0
Hue Adjustment Magenta : 0
Saturation Adjustment Red : 0
Saturation Adjustment Orange : 0
Saturation Adjustment Yellow : 0
Saturation Adjustment Green : 0
Saturation Adjustment Aqua : 0
Saturation Adjustment Blue : 0
Saturation Adjustment Purple : 0
Saturation Adjustment Magenta : 0
Luminance Adjustment Red : 0
Luminance Adjustment Orange : 0
Luminance Adjustment Yellow : 0
Luminance Adjustment Green : 0
Luminance Adjustment Aqua : 0
Luminance Adjustment Blue : 0
Luminance Adjustment Purple : 0
Luminance Adjustment Magenta : 0
Split Toning Shadow Hue : 0
Split Toning Shadow Saturation : 0
Split Toning Highlight Hue : 0
Split Toning Highlight Saturation : 0
Split Toning Balance : 0
Parametric Shadows : 0
Parametric Darks : 0
Parametric Lights : 0
Parametric Highlights : 0
Parametric Shadow Split : 25
Parametric Midtone Split : 50
Parametric Highlight Split : 75
Sharpen Radius : +1.0
Sharpen Detail : 25
Sharpen Edge Masking : 0
Post Crop Vignette Amount : 0
Grain Amount : 0
Color Noise Reduction Detail : 50
Lens Profile Enable : 0
Lens Manual Distortion Amount : 0
Perspective Vertical : 0
Perspective Horizontal : 0
Perspective Rotate : 0.0
Perspective Scale : 100
Auto Lateral CA : 0
Exposure 2012 : 0.00
Contrast 2012 : 0
Highlights 2012 : -95
Shadows 2012 : +67
Whites 2012 : 0
Blacks 2012 : 0
Clarity 2012 : 0
Defringe Purple Amount : 0
Defringe Purple Hue Lo : 30
Defringe Purple Hue Hi : 70
Defringe Green Amount : 0
Defringe Green Hue Lo : 40
Defringe Green Hue Hi : 60
Convert To Grayscale : False
Tone Curve Name 2012 : Linear
Camera Profile : Adobe Standard
Lens Profile Setup : LensDefaults
Has Settings : True
Has Crop : False
Already Applied : True
Creator : {Geir Walmann}
Rights : (C)2009 {Geir Walmann}, all rights reserved
Usage Terms : For consideration only, no reproduction without prior permission
Tone Curve PV2012 : 0, 0, 255, 255
Tone Curve PV2012 Red : 0, 0, 255, 255
Tone Curve PV2012 Green : 0, 0, 255, 255
Tone Curve PV2012 Blue : 0, 0, 255, 255
Image Width : 300
Image Height : 199
Bits Per Sample : 8
Color Components : 3
Aperture : 22.0
Image Size : 300x199
Megapixels : 0.060
Scale Factor To 35 mm Equivalent : 1.5
Shutter Speed : 1.6
Create Date : 2012:07:10 21:53:08.20
Date/Time Original : 2012:07:10 21:53:08.20
Circle Of Confusion : 0.020 mm
Depth Of Field : inf (0.44 m - inf)
Field Of View : 81.2 deg
Focal Length : 14.0 mm (35 mm equivalent: 21.0 mm)
Hyperfocal Distance : 0.44 m
Light Value : 8.2
Lens ID : Samyang AE 14mm f/2.8 ED AS IF UMC