Uber Exif Photo
By-line : Copyright_AlanEJones_2010
Keywords : Architecture
Make : NIKON CORPORATION
Camera Model Name : NIKON D300
Orientation : Horizontal (normal)
Software : Adobe Photoshop CS5 Windows
Modify Date : 2012:10:15 18:24:12
Artist : Copyright_AlanEJones_2010
Exposure Time : 1/800
F Number : 5.6
Exposure Program : Aperture-priority AE
ISO : 200
Date/Time Original : 2011:04:10 17:40:50
Create Date : 2011:04:10 17:40:50
Shutter Speed Value : 1/800
Aperture Value : 5.6
Exposure Compensation : 0
Max Aperture Value : 4.0
Subject Distance : 2 m
Metering Mode : Spot
Light Source : Fine Weather
Flash : No Flash
Focal Length : 10.0 mm
User Comment : Copyright 2008 Alan E Jones
Color Space : Uncalibrated
Exif Image Width : 1400
Exif Image Height : 980
Sensing Method : One-chip color area
Scene Type : Directly photographed
CFA Pattern : [Red,Green][Green,Blue]
Custom Rendered : Normal
Exposure Mode : Auto
White Balance : Manual
Digital Zoom Ratio : 1
Focal Length In 35mm Format : 15 mm
Scene Capture Type : Standard
Gain Control : None
Contrast : Normal
Saturation : Normal
Sharpness : Normal
Subject Distance Range : Unknown
Profile Description : ProPhoto RGB
Rating : 0
Label :
Creator Tool : Ver.1.10
Format : image/jpeg
Serial Number : 8009146
Lens Info : 10-20mm f/4-5.6
Lens : 10.0-20.0 mm f/4.0-5.6
Image Number : 9624
Approximate Focus Distance : 2
Date Created : 2011:04:10 17:40:50.008+01:00
Color Mode : RGB
ICC Profile Name : ProPhoto RGB
DNG Version : 1.3
DNG Backward Version : 1.1
Camera Raw Compatibility : 2.4
Lightroom Compatibility : 1.0
Has Mosaic Data : True
Lossy Compression : False
Floating Point : False
Has Transparency : False
Image Length : 2848
Original Image Width : 4288
Original Image Length : 2848
Preview Width : 1024
Preview Length : 680
Has Fast Load Data : False
Original Raw File Name : DSC_9598.NEF
Has Embedded Original Raw File : False
Raw File Name : Sian_Apr_11-10.dng
Version : 6.0
Process Version : 5.7
Color Temperature : 5000
Tint : +1
Exposure : 0.00
Shadows : 5
Brightness : +50
Luminance Smoothing : 0
Color Noise Reduction : 25
Chromatic Aberration R : 0
Chromatic Aberration B : 0
Vignette Amount : 0
Shadow Tint : 0
Red Hue : 0
Red Saturation : 0
Green Hue : 0
Green Saturation : 0
Blue Hue : 0
Blue Saturation : 0
Fill Light : 0
Vibrance : 0
Highlight Recovery : 0
Clarity : 0
Defringe : 0
Hue Adjustment Red : 0
Hue Adjustment Orange : 0
Hue Adjustment Yellow : 0
Hue Adjustment Green : 0
Hue Adjustment Aqua : 0
Hue Adjustment Blue : 0
Hue Adjustment Purple : 0
Hue Adjustment Magenta : 0
Saturation Adjustment Red : 0
Saturation Adjustment Orange : 0
Saturation Adjustment Yellow : 0
Saturation Adjustment Green : 0
Saturation Adjustment Aqua : 0
Saturation Adjustment Blue : +52
Saturation Adjustment Purple : 0
Saturation Adjustment Magenta : 0
Luminance Adjustment Red : 0
Luminance Adjustment Orange : 0
Luminance Adjustment Yellow : 0
Luminance Adjustment Green : 0
Luminance Adjustment Aqua : 0
Luminance Adjustment Blue : 0
Luminance Adjustment Purple : 0
Luminance Adjustment Magenta : 0
Split Toning Shadow Hue : 0
Split Toning Shadow Saturation : 0
Split Toning Highlight Hue : 0
Split Toning Highlight Saturation : 0
Split Toning Balance : 0
Parametric Shadows : 0
Parametric Darks : 0
Parametric Lights : 0
Parametric Highlights : 0
Parametric Shadow Split : 25
Parametric Midtone Split : 50
Parametric Highlight Split : 75
Sharpen Radius : +1.0
Sharpen Detail : 25
Sharpen Edge Masking : 0
Post Crop Vignette Amount : 0
Grain Amount : 0
Color Noise Reduction Detail : 50
Convert To Grayscale : False
Tone Curve Name : Medium Contrast
Camera Profile : Camera Vivid
Has Settings : True
Crop Top : 0
Crop Left : 0
Crop Bottom : 0.989011
Crop Right : 0.965937
Crop Angle : 0
Has Crop : True
Already Applied : True
Creator : Copyright_AlanEJones_2010
Subject : Architecture
Hierarchical Subject : Architecture
Tone Curve : 0, 0, 32, 22, 64, 56, 128, 128, 192, 196, 255, 255
Image Width : 300
Image Height : 210
Bits Per Sample : 8
Color Components : 3
Aperture : 5.6
Image Size : 300x210
Megapixels : 0.063
Scale Factor To 35 mm Equivalent : 1.5
Shutter Speed : 1/800
Create Date : 2011:04:10 17:40:50.08
Date/Time Original : 2011:04:10 17:40:50.08
Modify Date : 2012:10:15 18:24:12.08
Circle Of Confusion : 0.020 mm
Depth Of Field : inf (0.62 m - inf)
Field Of View : 100.4 deg
Focal Length : 10.0 mm (35 mm equivalent: 15.0 mm)
Hyperfocal Distance : 0.89 m
Light Value : 13.6
Lens ID : Sigma 10-20mm F4-5.6 EX DC HSM