Uber Exif Photo
By-line : Dariusz Kęsicki
By-line Title : Nikon digital camera user
Copyright Notice : (C)2011 Dariusz Kęsicki, all rights reserved
Make : NIKON CORPORATION
Camera Model Name : NIKON D90
Orientation : Horizontal (normal)
Software : Adobe Photoshop CS5 Windows
Modify Date : 2011:09:25 16:18:45
Artist : Dariusz Kęsicki
Copyright : (C)2011 Dariusz Kęsicki, all rights reserved
Exposure Time : 1/1500
F Number : 6.7
Exposure Program : Aperture-priority AE
ISO : 200
Date/Time Original : 2011:09:25 14:01:57
Create Date : 2011:09:25 14:01:57
Shutter Speed Value : 1/1500
Aperture Value : 6.7
Exposure Compensation : 0
Max Aperture Value : 2.8
Subject Distance : 0.35 m
Metering Mode : Multi-segment
Light Source : Unknown
Flash : No Flash
Focal Length : 60.0 mm
User Comment : 2011(C)Dariusz KESICKI
Color Space : sRGB
Exif Image Width : 4288
Exif Image Height : 2848
Sensing Method : One-chip color area
Scene Type : Directly photographed
CFA Pattern : [Green,Blue][Red,Green]
Custom Rendered : Normal
Exposure Mode : Auto
White Balance : Auto
Digital Zoom Ratio : 1
Focal Length In 35mm Format : 90 mm
Scene Capture Type : Standard
Gain Control : None
Contrast : Normal
Saturation : Normal
Sharpness : Soft
Subject Distance Range : Unknown
Serial Number : 6234233
Lens Info : 60mm f/2
Lens Model : 60.0 mm f/2.0
Profile Description : sRGB IEC61966-2.1
Format : image/jpeg
Authors Position : Nikon digital camera user
Date Created : 2011:09:25 14:01:57
Color Mode : RGB
ICC Profile Name : sRGB IEC61966-2.1
Rating Percent : 0
Creator Tool : Nikon Transfer 2.1 W
Rating : 0
Lens : 60.0 mm f/2.0
Image Number : 10353
Approximate Focus Distance : 0.35
Raw File Name : _DSC0016.NEF
Version : 6.4.1
Process Version : 5.7
Color Temperature : 4400
Tint : -13
Exposure : 0.00
Shadows : 5
Brightness : +50
Luminance Smoothing : 0
Color Noise Reduction : 25
Chromatic Aberration R : 0
Chromatic Aberration B : 0
Vignette Amount : 0
Shadow Tint : 0
Red Hue : 0
Red Saturation : 0
Green Hue : 0
Green Saturation : 0
Blue Hue : 0
Blue Saturation : 0
Fill Light : 20
Vibrance : 0
Highlight Recovery : 0
Clarity : +50
Defringe : 0
Hue Adjustment Red : 0
Hue Adjustment Orange : 0
Hue Adjustment Yellow : 0
Hue Adjustment Green : 0
Hue Adjustment Aqua : 0
Hue Adjustment Blue : 0
Hue Adjustment Purple : 0
Hue Adjustment Magenta : 0
Saturation Adjustment Red : 0
Saturation Adjustment Orange : 0
Saturation Adjustment Yellow : 0
Saturation Adjustment Green : 0
Saturation Adjustment Aqua : 0
Saturation Adjustment Blue : 0
Saturation Adjustment Purple : 0
Saturation Adjustment Magenta : 0
Luminance Adjustment Red : 0
Luminance Adjustment Orange : 0
Luminance Adjustment Yellow : 0
Luminance Adjustment Green : 0
Luminance Adjustment Aqua : 0
Luminance Adjustment Blue : 0
Luminance Adjustment Purple : 0
Luminance Adjustment Magenta : 0
Split Toning Shadow Hue : 0
Split Toning Shadow Saturation : 0
Split Toning Highlight Hue : 0
Split Toning Highlight Saturation : 0
Split Toning Balance : 0
Parametric Shadows : 0
Parametric Darks : 0
Parametric Lights : 0
Parametric Highlights : 0
Parametric Shadow Split : 25
Parametric Midtone Split : 50
Parametric Highlight Split : 75
Sharpen Radius : +1.0
Sharpen Detail : 25
Sharpen Edge Masking : 0
Post Crop Vignette Amount : 0
Grain Amount : 0
Color Noise Reduction Detail : 50
Lens Profile Enable : 1
Lens Manual Distortion Amount : 0
Perspective Vertical : 0
Perspective Horizontal : 0
Perspective Rotate : 0.0
Perspective Scale : 100
Convert To Grayscale : False
Tone Curve Name : Medium Contrast
Camera Profile : ACR 4.6
Lens Profile Setup : Custom
Lens Profile Name : Adobe (TAMRON SP 60mm F/2 DiII MACRO 1:1 G005N, NIKON CORPORATION)
Lens Profile Filename : NIKON CORPORATION (TAMRON SP 60mm F2 DiII MACRO G005N) - RAW.lcp
Lens Profile Distortion Scale : 100
Lens Profile Chromatic Aberration Scale : 100
Lens Profile Vignetting Scale : 100
Has Settings : True
Has Crop : False
Already Applied : True
Creator : Dariusz Kęsicki
Rights : (C)2011 Dariusz Kęsicki, all rights reserved
Creator City : Wroclaw
Creator Country : Poland
Creator Work Email : dkesicki@gmail.com
Usage Terms : For consideration only, no reproduction without prior permission
Tone Curve : 0, 0, 32, 22, 64, 56, 128, 128, 192, 196, 255, 255
Image Width : 300
Image Height : 199
Bits Per Sample : 8
Color Components : 3
Aperture : 6.7
Image Size : 300x199
Megapixels : 0.060
Scale Factor To 35 mm Equivalent : 1.5
Shutter Speed : 1/1500
Create Date : 2011:09:25 14:01:57.00
Date/Time Original : 2011:09:25 14:01:57.00
Modify Date : 2011:09:25 16:18:45.00
Circle Of Confusion : 0.020 mm
Depth Of Field : 0.008 m (0.346 - 0.354 m)
Field Of View : 22.6 deg
Focal Length : 60.0 mm (35 mm equivalent: 90.0 mm)
Hyperfocal Distance : 26.82 m
Light Value : 15.0
Lens ID : Tamron SP AF 60mm f/2.0 Di II Macro 1:1 (G005)