Uber Exif Photo
Make : Panasonic
Camera Model Name : DMC-LX3
Software : Adobe Photoshop Lightroom 4.2 (Windows)
Modify Date : 2012:10:28 20:03:27
Exposure Time : 1/1000
F Number : 6.3
Exposure Program : Landscape
ISO : 80
Date/Time Original : 2010:09:07 13:54:07
Create Date : 2010:09:07 13:54:07
Shutter Speed Value : 1/1000
Aperture Value : 6.3
Exposure Compensation : 0
Max Aperture Value : 2.0
Metering Mode : Multi-segment
Light Source : Unknown
Flash : Off, Did not fire
Focal Length : 5.1 mm
Sensing Method : One-chip color area
Scene Type : Directly photographed
Custom Rendered : Normal
Exposure Mode : Auto
White Balance : Auto
Digital Zoom Ratio : 0
Focal Length In 35mm Format : 24 mm
Scene Capture Type : Landscape
Gain Control : None
Contrast : Normal
Saturation : Normal
Sharpness : Normal
Creator Tool : Adobe Photoshop Lightroom 4.2 (Windows)
Date Created : 2010:09:07 13:54:07
Format : image/jpeg
Version : 7.2
Process Version : 6.7
Incremental Temperature : 0
Incremental Tint : 0
Luminance Smoothing : 0
Color Noise Reduction : 0
Vignette Amount : 0
Shadow Tint : 0
Red Hue : 0
Red Saturation : 0
Green Hue : 0
Green Saturation : 0
Blue Hue : 0
Blue Saturation : 0
Vibrance : +24
Hue Adjustment Red : -4
Hue Adjustment Orange : 0
Hue Adjustment Yellow : 0
Hue Adjustment Green : 0
Hue Adjustment Aqua : -4
Hue Adjustment Blue : -14
Hue Adjustment Purple : 0
Hue Adjustment Magenta : 0
Saturation Adjustment Red : +62
Saturation Adjustment Orange : 0
Saturation Adjustment Yellow : 0
Saturation Adjustment Green : 0
Saturation Adjustment Aqua : 0
Saturation Adjustment Blue : 0
Saturation Adjustment Purple : 0
Saturation Adjustment Magenta : 0
Luminance Adjustment Red : -11
Luminance Adjustment Orange : 0
Luminance Adjustment Yellow : 0
Luminance Adjustment Green : 0
Luminance Adjustment Aqua : 0
Luminance Adjustment Blue : 0
Luminance Adjustment Purple : 0
Luminance Adjustment Magenta : 0
Split Toning Shadow Hue : 0
Split Toning Shadow Saturation : 29
Split Toning Highlight Hue : 184
Split Toning Highlight Saturation : 0
Split Toning Balance : +12
Parametric Shadows : +84
Parametric Darks : 0
Parametric Lights : -19
Parametric Highlights : +47
Parametric Shadow Split : 25
Parametric Midtone Split : 50
Parametric Highlight Split : 75
Sharpen Radius : +1.0
Sharpen Detail : 25
Sharpen Edge Masking : 0
Post Crop Vignette Amount : 0
Grain Amount : 0
Lens Profile Enable : 0
Lens Manual Distortion Amount : 0
Perspective Vertical : 0
Perspective Horizontal : 0
Perspective Rotate : 0.0
Perspective Scale : 100
Auto Lateral CA : 0
Exposure 2012 : 0.00
Contrast 2012 : 0
Highlights 2012 : 0
Shadows 2012 : 0
Whites 2012 : 0
Blacks 2012 : 0
Clarity 2012 : +90
Defringe Purple Amount : 0
Defringe Purple Hue Lo : 30
Defringe Purple Hue Hi : 70
Defringe Green Amount : 0
Defringe Green Hue Lo : 40
Defringe Green Hue Hi : 60
Convert To Grayscale : False
Tone Curve Name 2012 : Linear
Camera Profile : Embedded
Lens Profile Setup : LensDefaults
Has Settings : True
Has Crop : False
Already Applied : True
Tone Curve PV2012 : 0, 0, 255, 255
Tone Curve PV2012 Red : 0, 0, 255, 255
Tone Curve PV2012 Green : 0, 0, 255, 255
Tone Curve PV2012 Blue : 0, 0, 255, 255
Gradient Based Corr What : Correction
Gradient Based Corr Amount : 1.000000
Gradient Based Corr Active : true
Gradient Based Corr Saturation : 0.833330
Gradient Based Corr Sharpness : 0.000000
Gradient Based Corr Brightness : 0.000000
Gradient Based Corr Toning Hue : 0.000000
Gradient Based Corr Toning Saturation : 0.000000
Gradient Based Corr Exposure 2012 : 0.214250
Gradient Based Corr Contrast 2012 : 0.619050
Gradient Based Corr Highlights 2012 : 0.000000
Gradient Based Corr Shadows 2012 : -0.071430
Gradient Based Corr Clarity 2012 : 1.000000
Gradient Based Corr Luminance Noise : 0.000000
Gradient Based Corr Moire : 0.000000
Gradient Based Corr Defringe : 0.095240
Gradient Based Corr Temperature : -0.095240
Gradient Based Corr Tint : 0.071430
Gradient Based Corr Mask What : Mask/Gradient
Gradient Based Corr Mask Value : 1.000000
Gradient Based Corr Mask Zero X : 0.490923
Gradient Based Corr Mask Zero Y : 0.000000
Gradient Based Corr Mask Full X : 0.488654
Gradient Based Corr Mask Full Y : 0.532258
Image Width : 300
Image Height : 169
Bits Per Sample : 8
Color Components : 3
Aperture : 6.3
Image Size : 300x169
Megapixels : 0.051
Scale Factor To 35 mm Equivalent : 4.7
Shutter Speed : 1/1000
Circle Of Confusion : 0.006 mm
Field Of View : 73.7 deg
Focal Length : 5.1 mm (35 mm equivalent: 24.0 mm)
Hyperfocal Distance : 0.65 m
Light Value : 15.6