Uber Exif Photo
Make : Canon
Camera Model Name : Canon PowerShot A570 IS
Software : Adobe Photoshop Lightroom 3.6 (Windows)
Modify Date : 2012:10:30 02:02:47
Exposure Time : 1/60
F Number : 2.6
ISO : 200
Date/Time Original : 2012:10:30 01:54:12
Create Date : 2012:10:30 01:54:12
Shutter Speed Value : 1/60
Aperture Value : 2.6
Exposure Compensation : 0
Max Aperture Value : 2.6
Subject Distance : 0.44 m
Metering Mode : Multi-segment
Flash : On, Red-eye reduction
Focal Length : 5.8 mm
Sensing Method : One-chip color area
Custom Rendered : Normal
Exposure Mode : Auto
White Balance : Auto
Digital Zoom Ratio : 1
Scene Capture Type : Standard
Lens Info : 5.8-23.2mm f/?
Lens Model : 5.8-23.2 mm
Profile Description : sRGB IEC61966-2.1
Lens : 5.8-23.2 mm
Approximate Focus Distance : 0.44
Flash Compensation : 0
Firmware : 1.01
Creator Tool : Adobe Photoshop Lightroom 3.6 (Windows)
Date Created : 2012:10:30 01:54:12
Format : image/jpeg
Version : 6.6
Process Version : 5.7
Incremental Temperature : 0
Incremental Tint : 0
Exposure : 0.00
Shadows : 5
Brightness : +32
Contrast : +31
Saturation : +3
Sharpness : 0
Luminance Smoothing : 0
Color Noise Reduction : 0
Chromatic Aberration R : 0
Chromatic Aberration B : 0
Vignette Amount : 0
Shadow Tint : 0
Red Hue : 0
Red Saturation : 0
Green Hue : 0
Green Saturation : 0
Blue Hue : 0
Blue Saturation : 0
Fill Light : 0
Vibrance : +15
Highlight Recovery : 0
Clarity : 0
Defringe : 0
Hue Adjustment Red : 0
Hue Adjustment Orange : 0
Hue Adjustment Yellow : 0
Hue Adjustment Green : 0
Hue Adjustment Aqua : 0
Hue Adjustment Blue : 0
Hue Adjustment Purple : 0
Hue Adjustment Magenta : 0
Saturation Adjustment Red : 0
Saturation Adjustment Orange : 0
Saturation Adjustment Yellow : 0
Saturation Adjustment Green : 0
Saturation Adjustment Aqua : 0
Saturation Adjustment Blue : 0
Saturation Adjustment Purple : 0
Saturation Adjustment Magenta : 0
Luminance Adjustment Red : 0
Luminance Adjustment Orange : 0
Luminance Adjustment Yellow : 0
Luminance Adjustment Green : 0
Luminance Adjustment Aqua : 0
Luminance Adjustment Blue : 0
Luminance Adjustment Purple : 0
Luminance Adjustment Magenta : 0
Split Toning Shadow Hue : 0
Split Toning Shadow Saturation : 0
Split Toning Highlight Hue : 0
Split Toning Highlight Saturation : 0
Split Toning Balance : 0
Parametric Shadows : 0
Parametric Darks : 0
Parametric Lights : 0
Parametric Highlights : 0
Parametric Shadow Split : 25
Parametric Midtone Split : 50
Parametric Highlight Split : 75
Sharpen Radius : +1.0
Sharpen Detail : 25
Sharpen Edge Masking : 0
Post Crop Vignette Amount : 0
Grain Amount : 0
Lens Profile Enable : 0
Lens Manual Distortion Amount : 0
Perspective Vertical : 0
Perspective Horizontal : 0
Perspective Rotate : 0.0
Perspective Scale : 100
Convert To Grayscale : False
Tone Curve Name : Strong Contrast
Camera Profile : Embedded
Lens Profile Setup : LensDefaults
Has Settings : True
Crop Top : 0
Crop Left : 0.363184
Crop Bottom : 1
Crop Right : 1
Crop Angle : 0
Crop Constrain To Warp : 0
Crop Width : 1956
Crop Height : 2304
Crop Unit : pixels
Has Crop : True
Already Applied : True
Tone Curve : 0, 0, 32, 16, 64, 50, 128, 128, 192, 202, 255, 255
Image Width : 300
Image Height : 255
Bits Per Sample : 8
Color Components : 3
Aperture : 2.6
Image Size : 300x255
Megapixels : 0.076
Scale Factor To 35 mm Equivalent : 6.1
Shutter Speed : 1/60
Circle Of Confusion : 0.005 mm
Depth Of Field : 0.15 m (0.38 - 0.53 m)
Field Of View : 54.3 deg
Focal Length : 5.8 mm (35 mm equivalent: 35.1 mm)
Hyperfocal Distance : 2.61 m
Light Value : 7.7
Lens ID : 5.8-23.2mm