Uber Exif Photo
Make : NIKON CORPORATION
Camera Model Name : NIKON D800E
Software : Adobe Photoshop Lightroom 4.4 (Windows)
Modify Date : 2013:04:30 07:20:45
Exposure Time : 1/50
F Number : 6.3
Exposure Program : Aperture-priority AE
ISO : 800
Sensitivity Type : Recommended Exposure Index
Date/Time Original : 2013:04:27 19:00:45
Create Date : 2013:04:27 19:00:45
Shutter Speed Value : 1/50
Aperture Value : 6.3
Exposure Compensation : -2
Max Aperture Value : 4.0
Metering Mode : Spot
Light Source : Unknown
Flash : Off, Did not fire
Focal Length : 98.0 mm
Sensing Method : One-chip color area
Scene Type : Directly photographed
Custom Rendered : Normal
Exposure Mode : Auto
White Balance : Auto
Digital Zoom Ratio : 1
Focal Length In 35mm Format : 98 mm
Scene Capture Type : Standard
Gain Control : Low gain up
Contrast : Normal
Saturation : Normal
Sharpness : Hard
Subject Distance Range : Unknown
Serial Number : 3011016
Lens Info : 24-120mm f/4
Lens Model : 24.0-120.0 mm f/4.0
Profile Description : sRGB IEC61966-2.1
Creator Tool : Adobe Photoshop Lightroom 4.4 (Windows)
Lens : 24.0-120.0 mm f/4.0
Image Number : 2699
Approximate Focus Distance : 4294967295
Date Created : 2013:04:27 19:00:45.30
Format : image/jpeg
Version : 7.4
Process Version : 6.7
Incremental Temperature : 0
Incremental Tint : 0
Luminance Smoothing : 0
Color Noise Reduction : 25
Vignette Amount : 0
Shadow Tint : 0
Red Hue : 0
Red Saturation : 0
Green Hue : 0
Green Saturation : 0
Blue Hue : 0
Blue Saturation : 0
Vibrance : 0
Hue Adjustment Red : 0
Hue Adjustment Orange : 0
Hue Adjustment Yellow : 0
Hue Adjustment Green : 0
Hue Adjustment Aqua : 0
Hue Adjustment Blue : 0
Hue Adjustment Purple : 0
Hue Adjustment Magenta : 0
Saturation Adjustment Red : 0
Saturation Adjustment Orange : +53
Saturation Adjustment Yellow : 0
Saturation Adjustment Green : 0
Saturation Adjustment Aqua : 0
Saturation Adjustment Blue : 0
Saturation Adjustment Purple : 0
Saturation Adjustment Magenta : 0
Luminance Adjustment Red : 0
Luminance Adjustment Orange : 0
Luminance Adjustment Yellow : 0
Luminance Adjustment Green : 0
Luminance Adjustment Aqua : 0
Luminance Adjustment Blue : 0
Luminance Adjustment Purple : 0
Luminance Adjustment Magenta : 0
Split Toning Shadow Hue : 0
Split Toning Shadow Saturation : 0
Split Toning Highlight Hue : 0
Split Toning Highlight Saturation : 0
Split Toning Balance : 0
Parametric Shadows : 0
Parametric Darks : 0
Parametric Lights : 0
Parametric Highlights : 0
Parametric Shadow Split : 25
Parametric Midtone Split : 50
Parametric Highlight Split : 75
Sharpen Radius : +2.0
Sharpen Detail : 25
Sharpen Edge Masking : 0
Post Crop Vignette Amount : -16
Post Crop Vignette Midpoint : 47
Post Crop Vignette Feather : 61
Post Crop Vignette Roundness : 0
Post Crop Vignette Style : Highlight Priority
Post Crop Vignette Highlight Contrast : 0
Grain Amount : 0
Color Noise Reduction Detail : 50
Lens Profile Enable : 0
Lens Manual Distortion Amount : 0
Perspective Vertical : 0
Perspective Horizontal : 0
Perspective Rotate : 0.0
Perspective Scale : 100
Auto Lateral CA : 0
Exposure 2012 : +0.80
Contrast 2012 : +28
Highlights 2012 : -100
Shadows 2012 : +100
Whites 2012 : +27
Blacks 2012 : -69
Clarity 2012 : +100
Defringe Purple Amount : 0
Defringe Purple Hue Lo : 30
Defringe Purple Hue Hi : 70
Defringe Green Amount : 0
Defringe Green Hue Lo : 40
Defringe Green Hue Hi : 60
Convert To Grayscale : False
Tone Curve Name 2012 : Linear
Camera Profile : Embedded
Lens Profile Setup : LensDefaults
Has Settings : True
Crop Top : 0.340317
Crop Left : 0.001394
Crop Bottom : 0.57195
Crop Right : 0.429965
Crop Angle : -0.466137
Crop Constrain To Warp : 0
Crop Width : 1000
Crop Height : 370
Crop Unit : pixels
Has Crop : True
Already Applied : True
Tone Curve PV2012 : 0, 0, 255, 255
Tone Curve PV2012 Red : 0, 0, 255, 255
Tone Curve PV2012 Green : 0, 0, 255, 255
Tone Curve PV2012 Blue : 0, 0, 255, 255
Paint Correction What : Correction
Paint Correction Amount : 1.000000
Paint Correction Active : true
Paint Correction Saturation : 0.000000
Paint Correction Sharpness : 0.000000
Paint Correction Brightness : 0.000000
Paint Correction Toning Hue : 230.000000
Paint Correction Toning Saturation : 0.000000
Paint Correction Exposure 2012 : -0.166750
Paint Correction Contrast 2012 : 0.000000
Paint Correction Highlights 2012 : 0.000000
Paint Correction Shadows 2012 : 0.000000
Paint Correction Clarity 2012 : 0.000000
Paint Correction Luminance Noise : 0.000000
Paint Correction Moire : 0.000000
Paint Correction Defringe : 0.000000
Paint Correction Temperature : 0.000000
Paint Correction Tint : 0.000000
Paint Correction Mask What : Mask/Paint
Paint Correction Mask Value : 0.593000
Paint Correction Mask Radius : 0.159295
Paint Correction Mask Flow : 1.000000
Paint Correction Mask Center Weight : 0.098225
Image Width : 300
Image Height : 111
Bits Per Sample : 8
Color Components : 3
Aperture : 6.3
Image Size : 300x111
Megapixels : 0.033
Scale Factor To 35 mm Equivalent : 1.0
Shutter Speed : 1/50
Create Date : 2013:04:27 19:00:45.30
Date/Time Original : 2013:04:27 19:00:45.30
Circle Of Confusion : 0.030 mm
Depth Of Field : inf (50.74 m - inf)
Field Of View : 20.8 deg
Focal Length : 98.0 mm (35 mm equivalent: 98.0 mm)
Hyperfocal Distance : 50.74 m
Light Value : 8.0
Lens ID : AF-S Nikkor 24-120mm f/4G ED VR