Uber Exif Photo
Copyright Flag : False
Make : NIKON CORPORATION
Camera Model Name : NIKON D70
Orientation : Horizontal (normal)
Software : Adobe Photoshop CS3 Windows
Modify Date : 2010:01:02 19:27:45
Time Zone Offset : 2 2
Exposure Time : 1/50
F Number : 3.8
Exposure Program : Program AE
ISO : 400
Date/Time Original : 2009:04:26 11:05:26
Create Date : 2009:04:26 11:05:26
Shutter Speed Value : 1/50
Aperture Value : 3.8
Exposure Compensation : 0
Max Aperture Value : 3.6
Metering Mode : Multi-segment
Light Source : Cloudy
Focal Length : 32.0 mm
Color Space : Uncalibrated
Exif Image Width : 800
Exif Image Height : 532
Sensing Method : One-chip color area
Scene Type : Directly photographed
CFA Pattern : [Blue,Green][Green,Red]
Custom Rendered : Normal
Exposure Mode : Auto
White Balance : Manual
Digital Zoom Ratio : 1
Focal Length In 35mm Format : 48 mm
Scene Capture Type : Standard
Gain Control : None
Contrast : Low
Saturation : Normal
Sharpness : Normal
Subject Distance Range : Unknown
Profile Description : Adobe RGB (1998)
Date/Time Digitized : 2009:04:26 11:05:26.10+02:00
Creator Tool : Adobe Photoshop CS3 Windows
Rating : 0
Lens Info : 28-200mm f/3.5-5.6
Lens : 28.0-200.0 mm f/3.5-5.6
Image Number : 8944
Version : 4.0
Raw File Name : DSC_8936.NEF
Color Temperature : 4150
Tint : +21
Exposure : +0.45
Shadows : 33
Brightness : +50
Luminance Smoothing : 0
Color Noise Reduction : 25
Chromatic Aberration R : 0
Chromatic Aberration B : 0
Vignette Amount : 0
Shadow Tint : 0
Red Hue : 0
Red Saturation : 0
Green Hue : 0
Green Saturation : 0
Blue Hue : 0
Blue Saturation : 0
Fill Light : 54
Vibrance : 0
Highlight Recovery : 100
Hue Adjustment Red : 0
Hue Adjustment Orange : 0
Hue Adjustment Yellow : 0
Hue Adjustment Green : 0
Hue Adjustment Aqua : 0
Hue Adjustment Blue : 0
Hue Adjustment Purple : 0
Hue Adjustment Magenta : 0
Saturation Adjustment Red : 0
Saturation Adjustment Orange : 0
Saturation Adjustment Yellow : 0
Saturation Adjustment Green : 0
Saturation Adjustment Aqua : 0
Saturation Adjustment Blue : 0
Saturation Adjustment Purple : 0
Saturation Adjustment Magenta : 0
Luminance Adjustment Red : 0
Luminance Adjustment Orange : 0
Luminance Adjustment Yellow : 0
Luminance Adjustment Green : 0
Luminance Adjustment Aqua : 0
Luminance Adjustment Blue : 0
Luminance Adjustment Purple : 0
Luminance Adjustment Magenta : 0
Split Toning Shadow Hue : 0
Split Toning Shadow Saturation : 0
Split Toning Highlight Hue : 0
Split Toning Highlight Saturation : 0
Split Toning Balance : 0
Parametric Shadows : 0
Parametric Darks : 0
Parametric Lights : 0
Parametric Highlights : 0
Parametric Shadow Split : 25
Parametric Midtone Split : 50
Parametric Highlight Split : 75
Convert To Grayscale : False
Tone Curve Name : Medium Contrast
Camera Profile : ACR 2.4
Has Settings : True
Has Crop : False
Already Applied : True
Format : image/jpeg
Color Mode : RGB
ICC Profile Name : Adobe RGB (1998)
Flash Fired : False
Flash Return : No return detection
Flash Mode : Unknown
Flash Function : False
Flash Red Eye Mode : False
Tone Curve : 0, 0, 32, 22, 64, 56, 128, 128, 192, 196, 255, 255
Image Width : 300
Image Height : 200
Bits Per Sample : 8
Color Components : 3
Aperture : 3.8
Image Size : 300x200
Megapixels : 0.060
Scale Factor To 35 mm Equivalent : 1.5
Shutter Speed : 1/50
Create Date : 2009:04:26 11:05:26.10
Date/Time Original : 2009:04:26 11:05:26.10
Modify Date : 2010:01:02 19:27:45.10
Flash : No Flash
Circle Of Confusion : 0.020 mm
Field Of View : 41.1 deg
Focal Length : 32.0 mm (35 mm equivalent: 48.0 mm)
Hyperfocal Distance : 13.45 m
Light Value : 7.5
Lens ID : 28.0-200.0mm f/3.5-5.6