Uber Exif Photo
Copyright Flag : False
Photometric Interpretation : RGB
Make : NIKON CORPORATION
Camera Model Name : NIKON D70
Orientation : Horizontal (normal)
Samples Per Pixel : 3
Planar Configuration : Chunky
Software : Adobe Photoshop CS6 (Windows)
Modify Date : 2013:05:11 11:42:31
Exposure Time : 1/30
F Number : 5.3
Exposure Program : Program AE
ISO : 560
Date/Time Original : 2008:01:30 18:52:53
Create Date : 2008:01:30 18:52:53
Shutter Speed Value : 1/30
Aperture Value : 5.3
Exposure Compensation : 0
Max Aperture Value : 5.1
Metering Mode : Multi-segment
Light Source : Cloudy
Flash : No Flash
Focal Length : 92.0 mm
Color Space : Uncalibrated
Exif Image Width : 1500
Exif Image Height : 997
Sensing Method : One-chip color area
Scene Type : Directly photographed
CFA Pattern : [Blue,Green][Green,Red]
Custom Rendered : Normal
Exposure Mode : Auto
White Balance : Manual
Digital Zoom Ratio : 1
Focal Length In 35mm Format : 138 mm
Scene Capture Type : Standard
Gain Control : None
Contrast : Normal
Saturation : Normal
Sharpness : Normal
Subject Distance Range : Unknown
Profile Description : Adobe RGB (1998)
Creator Tool : Adobe Photoshop CS3 Windows
Rating : 0
Lens Info : 28-200mm f/3.5-5.6
Lens : 28.0-200.0 mm f/3.5-5.6
Image Number : 8622
Version : 4.0
Raw File Name : DSC_8615.NEF
Color Temperature : 5450
Tint : -3
Exposure : 0.00
Shadows : 45
Brightness : +86
Luminance Smoothing : 0
Color Noise Reduction : 25
Chromatic Aberration R : 0
Chromatic Aberration B : 0
Vignette Amount : 0
Shadow Tint : 0
Red Hue : 0
Red Saturation : 0
Green Hue : 0
Green Saturation : 0
Blue Hue : 0
Blue Saturation : 0
Fill Light : 52
Vibrance : 0
Highlight Recovery : 100
Hue Adjustment Red : 0
Hue Adjustment Orange : 0
Hue Adjustment Yellow : 0
Hue Adjustment Green : 0
Hue Adjustment Aqua : 0
Hue Adjustment Blue : 0
Hue Adjustment Purple : 0
Hue Adjustment Magenta : 0
Saturation Adjustment Red : 0
Saturation Adjustment Orange : 0
Saturation Adjustment Yellow : 0
Saturation Adjustment Green : 0
Saturation Adjustment Aqua : 0
Saturation Adjustment Blue : 0
Saturation Adjustment Purple : 0
Saturation Adjustment Magenta : 0
Luminance Adjustment Red : 0
Luminance Adjustment Orange : 0
Luminance Adjustment Yellow : 0
Luminance Adjustment Green : 0
Luminance Adjustment Aqua : 0
Luminance Adjustment Blue : 0
Luminance Adjustment Purple : 0
Luminance Adjustment Magenta : 0
Split Toning Shadow Hue : 0
Split Toning Shadow Saturation : 0
Split Toning Highlight Hue : 0
Split Toning Highlight Saturation : 0
Split Toning Balance : 0
Parametric Shadows : 0
Parametric Darks : 0
Parametric Lights : 0
Parametric Highlights : 0
Parametric Shadow Split : 25
Parametric Midtone Split : 50
Parametric Highlight Split : 75
Convert To Grayscale : False
Tone Curve Name : Medium Contrast
Camera Profile : ACR 2.4
Has Settings : True
Has Crop : False
Already Applied : True
Format : image/jpeg
Color Mode : RGB
ICC Profile Name : Adobe RGB (1998)
Date Created : 2008:01:30 18:52:53.09
Marked : False
Tone Curve : 0, 0, 32, 22, 64, 56, 128, 128, 192, 196, 255, 255
Image Width : 300
Image Height : 199
Bits Per Sample : 8
Color Components : 3
Aperture : 5.3
Image Size : 300x199
Megapixels : 0.060
Scale Factor To 35 mm Equivalent : 1.5
Shutter Speed : 1/30
Create Date : 2008:01:30 18:52:53.90
Date/Time Original : 2008:01:30 18:52:53.90
Modify Date : 2013:05:11 11:42:31.90
Circle Of Confusion : 0.020 mm
Field Of View : 14.9 deg
Focal Length : 92.0 mm (35 mm equivalent: 138.0 mm)
Hyperfocal Distance : 79.73 m
Light Value : 7.2
Lens ID : 28.0-200.0mm f/3.5-5.6