Uber Exif Photo
By-line : Randy Giesbrecht / Black Knight
By-line Title : Black Knight Holdings NPS
Object Name : 2012 USA Photo Trip
Original Transmission Reference : 2012 USA Photo Trip
Keywords : 2012 USA Photo Trip, Utah, colorado, washington, montana, new mexico, steam train, Deloris colorado
Copyright Notice : (C)2012 Randy Giesbrecht, all rights reserved
Copyright Flag : True
Make : NIKON CORPORATION
Camera Model Name : NIKON D4
Orientation : Horizontal (normal)
Software : Adobe Photoshop CS5.1 Macintosh
Modify Date : 2013:06:19 09:01:33
Artist : Randy Giesbrecht / Black Knight Holdings
Copyright : (C)2012 Randy Giesbrecht, all rights reserved
Exposure Time : 1/500
F Number : 7.1
Exposure Program : Manual
ISO : 800
Date/Time Original : 2012:09:26 12:32:07
Create Date : 2012:09:26 12:32:07
Shutter Speed Value : 1/500
Aperture Value : 7.1
Exposure Compensation : 0
Max Aperture Value : 2.8
Subject Distance : 4294967295 m
Metering Mode : Multi-segment
Light Source : Unknown
Flash : No Flash
Focal Length : 38.0 mm
Color Space : Uncalibrated
Exif Image Width : 4928
Exif Image Height : 3280
Sensing Method : One-chip color area
Scene Type : Directly photographed
CFA Pattern : [Red,Green][Green,Blue]
Custom Rendered : Normal
Exposure Mode : Manual
White Balance : Auto
Digital Zoom Ratio : 1
Focal Length In 35mm Format : 38 mm
Scene Capture Type : Standard
Gain Control : Low gain up
Contrast : Normal
Saturation : High
Sharpness : Hard
Subject Distance Range : Unknown
Serial Number : 2017359
Lens Info : 24-70mm f/2.8
Lens Model : 24.0-70.0 mm f/2.8
Profile Description : ProPhoto RGB
Rating : 1
Label :
Creator Tool : Adobe Photoshop CS5.1 Macintosh
Format : image/jpeg
Authors Position : Black Knight Holdings NPS
Date Created : 2012:09:26 12:32:07.004
Color Mode : RGB
ICC Profile Name : ProPhoto RGB
Transmission Reference : 2012 USA Photo Trip
Credit : Randy Giesbrecht
Rating Percent : 1
Lens : 24.0-70.0 mm f/2.8
Image Number : 6120
Approximate Focus Distance : 4294967295
Marked : True
Raw File Name : RG1_6078.NEF
Version : 6.7
Process Version : 6.7
Color Temperature : 4800
Tint : +1
Exposure : 0.00
Shadows : 5
Brightness : +50
Luminance Smoothing : 0
Color Noise Reduction : 25
Vignette Amount : 0
Shadow Tint : 0
Red Hue : 0
Red Saturation : 0
Green Hue : 0
Green Saturation : 0
Blue Hue : 0
Blue Saturation : 0
Fill Light : 0
Vibrance : +26
Highlight Recovery : 0
Clarity : 0
Defringe : 0
Hue Adjustment Red : 0
Hue Adjustment Orange : 0
Hue Adjustment Yellow : 0
Hue Adjustment Green : 0
Hue Adjustment Aqua : 0
Hue Adjustment Blue : 0
Hue Adjustment Purple : 0
Hue Adjustment Magenta : 0
Saturation Adjustment Red : 0
Saturation Adjustment Orange : 0
Saturation Adjustment Yellow : 0
Saturation Adjustment Green : 0
Saturation Adjustment Aqua : 0
Saturation Adjustment Blue : 0
Saturation Adjustment Purple : 0
Saturation Adjustment Magenta : 0
Luminance Adjustment Red : 0
Luminance Adjustment Orange : 0
Luminance Adjustment Yellow : 0
Luminance Adjustment Green : 0
Luminance Adjustment Aqua : 0
Luminance Adjustment Blue : 0
Luminance Adjustment Purple : 0
Luminance Adjustment Magenta : 0
Split Toning Shadow Hue : 0
Split Toning Shadow Saturation : 0
Split Toning Highlight Hue : 0
Split Toning Highlight Saturation : 0
Split Toning Balance : 0
Parametric Shadows : 0
Parametric Darks : 0
Parametric Lights : 0
Parametric Highlights : 0
Parametric Shadow Split : 25
Parametric Midtone Split : 50
Parametric Highlight Split : 75
Sharpen Radius : +1.0
Sharpen Detail : 25
Sharpen Edge Masking : 0
Post Crop Vignette Amount : 0
Grain Amount : 0
Color Noise Reduction Detail : 50
Lens Profile Enable : 1
Lens Manual Distortion Amount : 0
Perspective Vertical : 0
Perspective Horizontal : 0
Perspective Rotate : 0.0
Perspective Scale : 100
Auto Lateral CA : 0
Exposure 2012 : -0.40
Contrast 2012 : +24
Highlights 2012 : -100
Shadows 2012 : +83
Whites 2012 : -4
Blacks 2012 : -63
Clarity 2012 : +52
Convert To Grayscale : False
Tone Curve Name : Medium Contrast
Tone Curve Name 2012 : Linear
Camera Profile : Adobe Standard
Lens Profile Setup : LensDefaults
Lens Profile Name : Adobe (Nikon AF-S NIKKOR 24-70mm f/2.8G ED)
Lens Profile Filename : NIKON D3X (Nikon FX 24-70mm f2.8 G ED) - RAW.lcp
Lens Profile Distortion Scale : 100
Lens Profile Chromatic Aberration Scale : 100
Lens Profile Vignetting Scale : 100
Has Settings : True
Crop Top : 0
Crop Left : 0
Crop Bottom : 1
Crop Right : 1
Crop Angle : 0
Crop Constrain To Warp : 0
Has Crop : True
Already Applied : True
Rights : (C)2012 Randy Giesbrecht, all rights reserved
Creator : Randy Giesbrecht / Black Knight Holdings
Title : 2012 USA Photo Trip
Subject : 2012 USA Photo Trip, Utah, colorado, washington, montana, new mexico, steam train, Deloris colorado
Usage Terms : For consideration only, no reproduction without prior permission
Tone Curve : 0, 0, 32, 22, 64, 56, 128, 128, 192, 196, 255, 255
Tone Curve Red : 0, 0, 255, 255
Tone Curve Green : 0, 0, 255, 255
Tone Curve Blue : 0, 0, 255, 255
Tone Curve PV2012 : 0, 0, 255, 255
Tone Curve PV2012 Red : 0, 0, 255, 255
Tone Curve PV2012 Green : 0, 0, 255, 255
Tone Curve PV2012 Blue : 0, 0, 255, 255
Creator Address : 2764 Mountview Street
Creator City : Abbotsford
Creator Region : BC
Creator Postal Code : V2S 3L7
Creator Country : Canada
Creator Work Telephone : 1-(604)-309-1738
Creator Work Email : crpix@telus.net
Creator Work URL : blackknightphoto.com
Image Width : 300
Image Height : 200
Bits Per Sample : 8
Color Components : 3
Aperture : 7.1
Image Size : 300x200
Megapixels : 0.060
Scale Factor To 35 mm Equivalent : 1.0
Shutter Speed : 1/500
Create Date : 2012:09:26 12:32:07.40
Date/Time Original : 2012:09:26 12:32:07.40
Modify Date : 2013:06:19 09:01:33.40
Circle Of Confusion : 0.030 mm
Depth Of Field : inf (6.77 m - inf)
Field Of View : 50.7 deg
Focal Length : 38.0 mm (35 mm equivalent: 38.0 mm)
Hyperfocal Distance : 6.77 m
Light Value : 11.6
Lens ID : AF-S Zoom-Nikkor 24-70mm f/2.8G ED