Uber Exif Photo
Keywords : André Bonnano Fotógrafo, Bonnano Studio, Estúdio de Fotografia, www.bonnano.com.br, www.bonnanostudio.com.br
By-line : André Bonnano
By-line Title : Fotógrafo
Copyright Notice : © 2012 André Bonnano - Todos os Direitos Reservados
Copyright Flag : True
URL : www.bonnanostudio.com.br
Make : NIKON CORPORATION
Camera Model Name : NIKON D7000
Software : Adobe Photoshop Lightroom 5.0 (Windows)
Modify Date : 2013:07:23 11:24:28
Artist : André Bonnano
Copyright : © 2012 André Bonnano - Todos os Direitos Reservados
Exposure Time : 1/100
F Number : 16.0
Exposure Program : Manual
ISO : 100
Sensitivity Type : Recommended Exposure Index
Date/Time Original : 2013:05:28 15:53:36
Create Date : 2013:05:28 15:53:36
Shutter Speed Value : 1/100
Aperture Value : 16.0
Exposure Compensation : 0
Max Aperture Value : 3.4
Metering Mode : Center-weighted average
Light Source : Flash
Flash : Off, Did not fire
Focal Length : 105.0 mm
User Comment : Bonnano Studio - Rimele
Sensing Method : One-chip color area
Scene Type : Directly photographed
CFA Pattern : [Red,Green][Green,Blue]
Custom Rendered : Normal
Exposure Mode : Manual
White Balance : Manual
Digital Zoom Ratio : 1
Focal Length In 35mm Format : 157 mm
Scene Capture Type : Standard
Gain Control : None
Contrast : Normal
Saturation : Normal
Sharpness : Normal
Subject Distance Range : Unknown
Serial Number : 3071068
Lens Info : 105mm f/2.8
Lens Model : 105.0 mm f/2.8
Profile Description : sRGB IEC61966-2.1
Format : image/jpeg
Creator Tool : Adobe Photoshop Lightroom 5.0 (Windows)
Rating : 3
Lens : 105.0 mm f/2.8
Image Number : 31946
Approximate Focus Distance : 0.79
Date Created : 2013:05:28 15:53:36.50
Authors Position : Fotógrafo
Marked : True
Web Statement : www.bonnanostudio.com.br
Version : 8.1
Process Version : 6.7
Color Temperature : 5550
Tint : -1
Luminance Smoothing : 0
Color Noise Reduction : 25
Vignette Amount : 0
Shadow Tint : 0
Red Hue : 0
Red Saturation : 0
Green Hue : 0
Green Saturation : 0
Blue Hue : 0
Blue Saturation : 0
Vibrance : 0
Hue Adjustment Red : 0
Hue Adjustment Orange : +13
Hue Adjustment Yellow : 0
Hue Adjustment Green : 0
Hue Adjustment Aqua : 0
Hue Adjustment Blue : 0
Hue Adjustment Purple : 0
Hue Adjustment Magenta : 0
Saturation Adjustment Red : 0
Saturation Adjustment Orange : +36
Saturation Adjustment Yellow : +18
Saturation Adjustment Green : -100
Saturation Adjustment Aqua : -100
Saturation Adjustment Blue : 0
Saturation Adjustment Purple : 0
Saturation Adjustment Magenta : 0
Luminance Adjustment Red : 0
Luminance Adjustment Orange : +27
Luminance Adjustment Yellow : +13
Luminance Adjustment Green : 0
Luminance Adjustment Aqua : 0
Luminance Adjustment Blue : 0
Luminance Adjustment Purple : 0
Luminance Adjustment Magenta : 0
Split Toning Shadow Hue : 0
Split Toning Shadow Saturation : 0
Split Toning Highlight Hue : 0
Split Toning Highlight Saturation : 0
Split Toning Balance : 0
Parametric Shadows : 0
Parametric Darks : 0
Parametric Lights : 0
Parametric Highlights : 0
Parametric Shadow Split : 25
Parametric Midtone Split : 50
Parametric Highlight Split : 75
Sharpen Radius : +1.0
Sharpen Detail : 25
Sharpen Edge Masking : 0
Post Crop Vignette Amount : -33
Post Crop Vignette Midpoint : 50
Post Crop Vignette Feather : 50
Post Crop Vignette Roundness : 0
Post Crop Vignette Style : Highlight Priority
Post Crop Vignette Highlight Contrast : 0
Grain Amount : 0
Color Noise Reduction Detail : 50
Lens Profile Enable : 0
Lens Manual Distortion Amount : 0
Perspective Vertical : 0
Perspective Horizontal : 0
Perspective Rotate : 0.0
Perspective Scale : 100
Perspective Aspect : 0
Perspective Upright : Off
Auto Lateral CA : 0
Exposure 2012 : +0.36
Contrast 2012 : 0
Highlights 2012 : 0
Shadows 2012 : 0
Whites 2012 : 0
Blacks 2012 : 0
Clarity 2012 : 0
Defringe Purple Amount : 0
Defringe Purple Hue Lo : 30
Defringe Purple Hue Hi : 70
Defringe Green Amount : 0
Defringe Green Hue Lo : 40
Defringe Green Hue Hi : 60
Convert To Grayscale : False
Tone Curve Name 2012 : Linear
Camera Profile : Adobe Standard
Lens Profile Setup : LensDefaults
Has Settings : True
Crop Top : 0
Crop Left : 0.002996
Crop Bottom : 1
Crop Right : 0.997004
Crop Angle : 0.158714
Crop Constrain To Warp : 0
Has Crop : True
Already Applied : True
Creator : André Bonnano
Rights : © 2012 André Bonnano - Todos os Direitos Reservados
Subject : André Bonnano Fotógrafo, Bonnano Studio, Estúdio de Fotografia, www.bonnano.com.br, www.bonnanostudio.com.br
Usage Terms : Essas imagens estão protegidas pela Lei n.º 9.610 de 19/02/98. Proibida a cópia ou reprodução sem autorização prévia.
Creator Work Telephone : +55 11 96631-1221
Creator Region : São Paulo
Creator Country : Brasil
Creator City : São Paulo
Creator Work Email : andre@bonnanostudio.com.br
Creator Work URL : www.bonnanostudio.com.br
Tone Curve PV2012 : 0, 0, 255, 255
Tone Curve PV2012 Red : 0, 0, 255, 255
Tone Curve PV2012 Green : 0, 0, 255, 255
Tone Curve PV2012 Blue : 0, 0, 255, 255
Image Width : 300
Image Height : 199
Bits Per Sample : 8
Color Components : 3
Aperture : 16.0
Image Size : 300x199
Megapixels : 0.060
Scale Factor To 35 mm Equivalent : 1.5
Shutter Speed : 1/100
Create Date : 2013:05:28 15:53:36.50
Date/Time Original : 2013:05:28 15:53:36.50
Circle Of Confusion : 0.020 mm
Depth Of Field : 0.03 m (0.77 - 0.81 m)
Field Of View : 13.1 deg
Focal Length : 105.0 mm (35 mm equivalent: 157.0 mm)
Hyperfocal Distance : 34.29 m
Light Value : 14.6
Lens ID : Sigma Macro 105mm F2.8 EX DG