Uber Exif Photo
Make : NIKON CORPORATION
Camera Model Name : NIKON D300
Orientation : Horizontal (normal)
Software : Adobe Photoshop Elements 9.0 Macintosh
Modify Date : 2013:09:26 08:08:51
Exposure Time : 1/1000
F Number : 9.0
Exposure Program : Aperture-priority AE
ISO : 220
Date/Time Original : 2013:09:25 17:13:08
Create Date : 2013:09:25 17:13:08
Shutter Speed Value : 1/1000
Aperture Value : 9.0
Exposure Compensation : -1/3
Max Aperture Value : 5.3
Subject Distance : 28.2 m
Metering Mode : Spot
Light Source : Unknown
Focal Length : 300.0 mm
Color Space : sRGB
Exif Image Width : 2347
Exif Image Height : 1844
Sensing Method : One-chip color area
Scene Type : Directly photographed
CFA Pattern : [Red,Green][Green,Blue]
Custom Rendered : Normal
Exposure Mode : Auto
White Balance : Auto
Digital Zoom Ratio : 1
Focal Length In 35mm Format : 450 mm
Scene Capture Type : Standard
Gain Control : None
Contrast : Normal
Saturation : Normal
Sharpness : Hard
Subject Distance Range : Unknown
Serial Number : 6055215
Lens Info : 80-400mm f/4.5-5.6
Lens Model : 80.0-400.0 mm f/4.5-5.6
Profile Description : sRGB IEC61966-2.1
Rating Percent : 0
Date/Time Digitized : 2013:09:25 17:13:08-05:00
Creator Tool : Nikon Transfer 2.3 M
Rating : 0
Lens : 80.0-400.0 mm f/4.5-5.6
Image Number : 19452
Approximate Focus Distance : 28.2
Date Created : 2013:09:25
Color Mode : RGB
ICC Profile Name : sRGB IEC61966-2.1
Format : image/jpeg
Raw File Name : DSC_9250.NEF
Version : 6.5
Process Version : 5.7
Color Temperature : 6100
Tint : +9
Exposure : +0.80
Shadows : 6
Brightness : +13
Luminance Smoothing : 0
Color Noise Reduction : 25
Chromatic Aberration R : 0
Chromatic Aberration B : 0
Vignette Amount : 0
Shadow Tint : 0
Red Hue : 0
Red Saturation : 0
Green Hue : 0
Green Saturation : 0
Blue Hue : 0
Blue Saturation : 0
Fill Light : 0
Vibrance : +29
Highlight Recovery : 0
Clarity : +33
Defringe : 0
Hue Adjustment Red : 0
Hue Adjustment Orange : 0
Hue Adjustment Yellow : 0
Hue Adjustment Green : 0
Hue Adjustment Aqua : 0
Hue Adjustment Blue : 0
Hue Adjustment Purple : 0
Hue Adjustment Magenta : 0
Saturation Adjustment Red : 0
Saturation Adjustment Orange : 0
Saturation Adjustment Yellow : 0
Saturation Adjustment Green : 0
Saturation Adjustment Aqua : 0
Saturation Adjustment Blue : 0
Saturation Adjustment Purple : 0
Saturation Adjustment Magenta : 0
Luminance Adjustment Red : 0
Luminance Adjustment Orange : 0
Luminance Adjustment Yellow : 0
Luminance Adjustment Green : 0
Luminance Adjustment Aqua : 0
Luminance Adjustment Blue : 0
Luminance Adjustment Purple : 0
Luminance Adjustment Magenta : 0
Split Toning Shadow Hue : 0
Split Toning Shadow Saturation : 0
Split Toning Highlight Hue : 0
Split Toning Highlight Saturation : 0
Split Toning Balance : 0
Parametric Shadows : 0
Parametric Darks : 0
Parametric Lights : 0
Parametric Highlights : 0
Parametric Shadow Split : 25
Parametric Midtone Split : 50
Parametric Highlight Split : 75
Sharpen Radius : +1.0
Sharpen Detail : 31
Sharpen Edge Masking : 0
Post Crop Vignette Amount : 0
Grain Amount : 0
Color Noise Reduction Detail : 50
Lens Profile Enable : 0
Lens Manual Distortion Amount : 0
Perspective Vertical : 0
Perspective Horizontal : 0
Perspective Rotate : 0.0
Perspective Scale : 100
Convert To Grayscale : False
Tone Curve Name : Medium Contrast
Camera Profile : Adobe Standard
Lens Profile Setup : LensDefaults
Has Settings : True
Crop Top : 0
Crop Left : 0.025641
Crop Bottom : 1
Crop Right : 0.974359
Crop Angle : 1.305074
Crop Constrain To Warp : 1
Crop Width : 2
Crop Height : 3
Crop Unit : Unknown (3)
Has Crop : True
Already Applied : True
Flash Fired : False
Flash Return : No return detection
Flash Mode : Unknown
Flash Function : False
Flash Red Eye Mode : False
Tone Curve : 0, 0, 32, 22, 64, 56, 128, 128, 192, 196, 255, 255
Image Width : 300
Image Height : 236
Bits Per Sample : 8
Color Components : 3
Aperture : 9.0
Image Size : 300x236
Megapixels : 0.071
Scale Factor To 35 mm Equivalent : 1.5
Shutter Speed : 1/1000
Create Date : 2013:09:25 17:13:08.35
Date/Time Original : 2013:09:25 17:13:08.35
Modify Date : 2013:09:26 08:08:51.35
Flash : No Flash
Circle Of Confusion : 0.020 mm
Depth Of Field : 3.16 m (26.71 - 29.87 m)
Field Of View : 4.6 deg
Focal Length : 300.0 mm (35 mm equivalent: 450.0 mm)
Hyperfocal Distance : 499.23 m
Light Value : 15.2
Lens ID : AF VR Zoom-Nikkor 80-400mm f/4.5-5.6D ED