Uber Exif Photo
Destination :
File Format : No ObjectData
File Version : 0
Service Identifier :
Product ID :
Date Sent :
Time Sent :
Object Name :
Category :
Release Date :
Release Time :
Expiration Date :
Expiration Time :
Special Instructions :
Originating Program :
Program Version :
By-line :
By-line Title :
City :
Province-State :
Country-Primary Location Code :
Country-Primary Location Name :
Original Transmission Reference :
Headline :
Credit :
Source :
Copyright Notice :
Caption-Abstract :
Writer-Editor :
Language Identifier :
Make : NIKON CORPORATION
Camera Model Name : NIKON D300
Orientation : Horizontal (normal)
Software : Capture NX 1.3.5 W
Modify Date : 2013:10:07 07:07:30
Exposure Time : 1/40
F Number : 16.0
Exposure Program : Manual
ISO : 200
Date/Time Original : 2011:06:27 12:46:32
Create Date : 2011:06:27 12:46:32
Shutter Speed Value : 0.6
Aperture Value : 16.0
Exposure Compensation : -2/3
Max Aperture Value : 3.1
Subject Distance : 0.67 m
Metering Mode : Center-weighted average
Light Source : Unknown
Focal Length : 105.0 mm
Maker Note Version : 2.10
Image Data Size : 1918429
Nikon Capture Version : Capture NX 1.3.5 W
IFD0 Offset : 1183
Preview IFD Offset : 1083
NEF Bit Depth : n/a (JPEG)
Color Space : Uncalibrated
Exif Image Width : 4288
Exif Image Height : 2848
Sensing Method : One-chip color area
Scene Type : Directly photographed
CFA Pattern : [Red,Green][Green,Blue]
Custom Rendered : Normal
Exposure Mode : Manual
White Balance : Auto
Digital Zoom Ratio : 1
Focal Length In 35mm Format : 157 mm
Scene Capture Type : Standard
Gain Control : None
Contrast : High
Saturation : High
Sharpness : Soft
Subject Distance Range : Unknown
Serial Number : 5024400
Lens Info : 105mm f/2.8
Lens Model : 105.0 mm f/2.8
Profile Description : sRGB IEC61966-2.1
Creator Tool : Adobe Photoshop CS3 Windows
Lens : 105.0 mm f/2.8
Image Number : 8364
Approximate Focus Distance : 0.67
Date Created : 2011:06:27
Color Mode : RGB
ICC Profile Name : sRGB IEC61966-2.1
Version : 6.4.1
Process Version : 5.7
Color Temperature : 3458
Tint : -150
Exposure : -0.18
Shadows : 19
Brightness : +10
Luminance Smoothing : 32
Color Noise Reduction : 25
Chromatic Aberration R : 0
Chromatic Aberration B : 0
Vignette Amount : 0
Shadow Tint : 0
Red Hue : 0
Red Saturation : 0
Green Hue : 0
Green Saturation : 0
Blue Hue : 0
Blue Saturation : 0
Fill Light : 0
Highlight Recovery : 100
Clarity : +71
Defringe : 0
Gray Mixer Red : -15
Gray Mixer Orange : -21
Gray Mixer Yellow : +100
Gray Mixer Green : +100
Gray Mixer Aqua : +50
Gray Mixer Blue : +15
Gray Mixer Purple : +12
Gray Mixer Magenta : -4
Split Toning Shadow Hue : 0
Split Toning Shadow Saturation : 0
Split Toning Highlight Hue : 0
Split Toning Highlight Saturation : 0
Split Toning Balance : 0
Parametric Shadows : 0
Parametric Darks : 0
Parametric Lights : 0
Parametric Highlights : 0
Parametric Shadow Split : 25
Parametric Midtone Split : 50
Parametric Highlight Split : 75
Sharpen Radius : +0.8
Sharpen Detail : 9
Sharpen Edge Masking : 0
Post Crop Vignette Amount : 0
Grain Amount : 0
Luminance Noise Reduction Detail : 50
Color Noise Reduction Detail : 50
Luminance Noise Reduction Contrast : 0
Lens Profile Enable : 0
Lens Manual Distortion Amount : 0
Perspective Vertical : 0
Perspective Horizontal : 0
Perspective Rotate : 0.0
Perspective Scale : 100
Convert To Grayscale : True
Tone Curve Name : Medium Contrast
Camera Profile : Adobe Standard
Lens Profile Setup : LensDefaults
Has Settings : True
Has Crop : False
Already Applied : True
Date/Time Digitized : 2011:06:27 12:46:32-04:00
Format : image/jpeg
Tone Curve : 0, 0, 32, 22, 64, 56, 128, 128, 192, 196, 255, 255
Paint Correction What : Correction
Paint Correction Amount : 1.000000
Paint Correction Active : true
Paint Correction Exposure : 0.129000
Paint Correction Saturation : 0.000000
Paint Correction Contrast : 0.000000
Paint Correction Clarity : 0.000000
Paint Correction Sharpness : 0.000000
Paint Correction Brightness : 0.000000
Paint Correction Toning Hue : 233.000000
Paint Correction Toning Saturation : 0.000000
Paint Correction Mask What : Mask/Paint
Paint Correction Mask Value : 1.000000
Paint Correction Mask Radius : 0.051716
Paint Correction Mask Flow : 1.000000
Paint Correction Mask Center Weight : 0.043623
Flash Fired : True
Flash Return : Return detected
Flash Mode : On
Flash Function : False
Flash Red Eye Mode : False
Image Width : 300
Image Height : 199
Bits Per Sample : 8
Color Components : 3
Aperture : 16.0
Image Size : 300x199
Megapixels : 0.060
Scale Factor To 35 mm Equivalent : 1.5
Shutter Speed : 1/40
Create Date : 2011:06:27 12:46:32.33
Date/Time Original : 2011:06:27 12:46:32.33
Flash : On, Return detected
Circle Of Confusion : 0.020 mm
Depth Of Field : 0.02 m (0.66 - 0.68 m)
Field Of View : 13.1 deg
Focal Length : 105.0 mm (35 mm equivalent: 157.0 mm)
Hyperfocal Distance : 34.29 m
Light Value : 12.3
Lens ID : AF-S VR Micro-Nikkor 105mm f/2.8G IF-ED