Uber Exif Photo
By-line : Copyright_Alan_E_Jones_2012
Copyright Notice : Copyright_Alan_E_Jones_2012
Make : NIKON CORPORATION
Camera Model Name : NIKON D300
Orientation : Horizontal (normal)
Software : Adobe Photoshop CS5 Windows
Modify Date : 2013:10:20 20:18:26
Artist : Copyright_Alan_E_Jones_2012
Copyright : Copyright_Alan_E_Jones_2012
Exposure Time : 1/1000
F Number : 11.0
Exposure Program : Shutter speed priority AE
ISO : 320
Date/Time Original : 2012:08:09 12:09:42
Create Date : 2012:08:09 12:09:42
Shutter Speed Value : 1/1000
Aperture Value : 11.0
Exposure Compensation : 0
Max Aperture Value : 4.8
Subject Distance : 4294967295 m
Metering Mode : Multi-segment
Light Source : Unknown
Flash : No Flash
Focal Length : 160.0 mm
User Comment : Copyright 2008 Alan E Jones
Color Space : Uncalibrated
Exif Image Width : 4288
Exif Image Height : 2039
Sensing Method : One-chip color area
Scene Type : Directly photographed
CFA Pattern : [Red,Green][Green,Blue]
Custom Rendered : Normal
Exposure Mode : Auto
White Balance : Auto
Digital Zoom Ratio : 1
Focal Length In 35mm Format : 240 mm
Scene Capture Type : Standard
Gain Control : None
Contrast : Normal
Saturation : Normal
Sharpness : Normal
Subject Distance Range : Unknown
Profile Description : ProPhoto RGB
Rating : 0
Label :
Creator Tool : Ver.1.10
Format : image/jpeg
Serial Number : 8009146
Lens Info : 70-200mm f/2.8
Lens : 70.0-200.0 mm f/2.8
Image Number : 14256
Approximate Focus Distance : 4294967295
Date Created : 2012:08:09 12:09:42.043+01:00
Color Mode : RGB
ICC Profile Name : ProPhoto RGB
DNG Version : 1.3
DNG Backward Version : 1.1
Camera Raw Compatibility : 2.4
Lightroom Compatibility : 1.0
Has Mosaic Data : True
Lossy Compression : False
Floating Point : False
Has Transparency : False
Image Length : 2848
Original Image Width : 4288
Original Image Length : 2848
Preview Width : 1024
Preview Length : 680
Has Fast Load Data : False
Original Raw File Name : DSC_4228.NEF
Has Embedded Original Raw File : False
Raw File Name : CAD_West_dng-61.dng
Version : 6.0
Process Version : 5.7
Color Temperature : 5600
Tint : +7
Exposure : 0.00
Shadows : 5
Brightness : +50
Luminance Smoothing : 0
Color Noise Reduction : 25
Chromatic Aberration R : 0
Chromatic Aberration B : 0
Vignette Amount : 0
Shadow Tint : 0
Red Hue : 0
Red Saturation : 0
Green Hue : 0
Green Saturation : 0
Blue Hue : 0
Blue Saturation : 0
Fill Light : 0
Vibrance : 0
Highlight Recovery : 0
Clarity : 0
Defringe : 0
Hue Adjustment Red : 0
Hue Adjustment Orange : 0
Hue Adjustment Yellow : 0
Hue Adjustment Green : 0
Hue Adjustment Aqua : 0
Hue Adjustment Blue : 0
Hue Adjustment Purple : 0
Hue Adjustment Magenta : 0
Saturation Adjustment Red : 0
Saturation Adjustment Orange : 0
Saturation Adjustment Yellow : 0
Saturation Adjustment Green : 0
Saturation Adjustment Aqua : 0
Saturation Adjustment Blue : 0
Saturation Adjustment Purple : 0
Saturation Adjustment Magenta : 0
Luminance Adjustment Red : 0
Luminance Adjustment Orange : 0
Luminance Adjustment Yellow : 0
Luminance Adjustment Green : 0
Luminance Adjustment Aqua : 0
Luminance Adjustment Blue : -22
Luminance Adjustment Purple : 0
Luminance Adjustment Magenta : 0
Split Toning Shadow Hue : 0
Split Toning Shadow Saturation : 0
Split Toning Highlight Hue : 0
Split Toning Highlight Saturation : 0
Split Toning Balance : 0
Parametric Shadows : +80
Parametric Darks : +25
Parametric Lights : 0
Parametric Highlights : 0
Parametric Shadow Split : 25
Parametric Midtone Split : 50
Parametric Highlight Split : 75
Sharpen Radius : +1.0
Sharpen Detail : 25
Sharpen Edge Masking : 0
Post Crop Vignette Amount : 0
Grain Amount : 0
Color Noise Reduction Detail : 50
Convert To Grayscale : False
Tone Curve Name : Medium Contrast
Camera Profile : Camera Vivid
Has Settings : True
Crop Top : 0
Crop Left : 0
Crop Bottom : 0.715827
Crop Right : 1
Crop Angle : 0
Has Crop : True
Already Applied : True
Creator : Copyright_Alan_E_Jones_2012
Rights : Copyright_Alan_E_Jones_2012
Tone Curve : 0, 0, 32, 22, 64, 56, 128, 128, 192, 196, 255, 255
Image Width : 300
Image Height : 143
Bits Per Sample : 8
Color Components : 3
Aperture : 11.0
Image Size : 300x143
Megapixels : 0.043
Scale Factor To 35 mm Equivalent : 1.5
Shutter Speed : 1/1000
Create Date : 2012:08:09 12:09:42.43
Date/Time Original : 2012:08:09 12:09:42.43
Modify Date : 2013:10:20 20:18:26.43
Circle Of Confusion : 0.020 mm
Depth Of Field : inf (116.18 m - inf)
Field Of View : 8.6 deg
Focal Length : 160.0 mm (35 mm equivalent: 240.0 mm)
Hyperfocal Distance : 116.18 m
Light Value : 15.2
Lens ID : AF-S VR Zoom-Nikkor 70-200mm f/2.8G IF-ED