Uber Exif Photo
By-line : Wim Hazenhoek
Copyright Notice : WIMHAZENHOEK
Make : NIKON CORPORATION
Camera Model Name : NIKON D3
Orientation : Horizontal (normal)
Software : Capture NX 2.4.4 W
Modify Date : 2013:11:03 17:43:23
Artist : Wim Hazenhoek
Copyright : WIMHAZENHOEK
Exposure Time : 25
F Number : 11.0
Exposure Program : Manual
ISO : 125
Date/Time Original : 2013:11:03 15:40:09
Create Date : 2013:11:03 15:40:09
Shutter Speed Value : 0.7
Aperture Value : 11.0
Exposure Compensation : 0
Max Aperture Value : 4.0
Subject Distance : 4294967295 m
Metering Mode : Multi-segment
Light Source : Unknown
Focal Length : 19.0 mm
Maker Note Version : 2.11
Image Data Size : 2429922
Nikon Capture Version : Capture NX 2.4.4 W
IFD0 Offset : 1134
Preview IFD Offset : 1034
NEF Bit Depth : n/a (JPEG)
Color Space : Uncalibrated
Exif Image Width : 2600
Exif Image Height : 1625
Sensing Method : One-chip color area
Scene Type : Directly photographed
Custom Rendered : Normal
Exposure Mode : Manual
White Balance : Auto
Digital Zoom Ratio : 1
Focal Length In 35mm Format : 19 mm
Scene Capture Type : Standard
Gain Control : None
Contrast : Normal
Saturation : Normal
Sharpness : Normal
Subject Distance Range : Unknown
Profile Description : sRGB IEC61966-2.1
Rating : 5
Creator Tool : Adobe Photoshop Lightroom
Rating Percent : 99
Date Created : 2013:11:03
Date/Time Digitized : 2013:11:03 15:40:09.00+01:00
Serial Number : 2039518
Lens Info : 16-35mm f/4
Lens : 16.0-35.0 mm f/4.0
Image Number : 77893
Version : 6.1
Process Version : 5.7
Incremental Temperature : -11
Incremental Tint : 0
Exposure : -0.35
Shadows : 15
Brightness : -9
Luminance Smoothing : 0
Color Noise Reduction : 0
Chromatic Aberration R : 0
Chromatic Aberration B : 0
Vignette Amount : 0
Shadow Tint : 0
Red Hue : 0
Red Saturation : 0
Green Hue : 0
Green Saturation : 0
Blue Hue : 0
Blue Saturation : 0
Fill Light : 0
Vibrance : -1
Highlight Recovery : 0
Clarity : -11
Defringe : 0
Hue Adjustment Red : +9
Hue Adjustment Orange : 0
Hue Adjustment Yellow : +9
Hue Adjustment Green : +11
Hue Adjustment Aqua : +24
Hue Adjustment Blue : -22
Hue Adjustment Purple : 0
Hue Adjustment Magenta : 0
Saturation Adjustment Red : +37
Saturation Adjustment Orange : 0
Saturation Adjustment Yellow : -19
Saturation Adjustment Green : +39
Saturation Adjustment Aqua : +14
Saturation Adjustment Blue : -39
Saturation Adjustment Purple : 0
Saturation Adjustment Magenta : 0
Luminance Adjustment Red : +29
Luminance Adjustment Orange : 0
Luminance Adjustment Yellow : 0
Luminance Adjustment Green : +34
Luminance Adjustment Aqua : +29
Luminance Adjustment Blue : 0
Luminance Adjustment Purple : 0
Luminance Adjustment Magenta : 0
Split Toning Shadow Hue : 0
Split Toning Shadow Saturation : 0
Split Toning Highlight Hue : 132
Split Toning Highlight Saturation : 0
Split Toning Balance : -24
Parametric Shadows : +33
Parametric Darks : 0
Parametric Lights : 0
Parametric Highlights : 0
Parametric Shadow Split : 25
Parametric Midtone Split : 50
Parametric Highlight Split : 75
Sharpen Radius : +1.0
Sharpen Detail : 25
Sharpen Edge Masking : 0
Post Crop Vignette Amount : 0
Grain Amount : 0
Lens Profile Enable : 1
Lens Manual Distortion Amount : 0
Perspective Vertical : 0
Perspective Horizontal : 0
Perspective Rotate : 0.0
Perspective Scale : 100
Convert To Grayscale : False
Tone Curve Name : Linear
Camera Profile : Embedded
Lens Profile Setup : Custom
Lens Profile Name : Adobe (Nikon AF-S NIKKOR 14-24mm f/2.8G ED)
Lens Profile Filename : NIKON D3X (Nikon FX 14-24mm f2.8 G ED).lcp
Lens Profile Distortion Scale : 100
Lens Profile Chromatic Aberration Scale : 100
Lens Profile Vignetting Scale : 100
Has Settings : True
Has Crop : False
Already Applied : True
Creator City : Appingedam
Creator Country : Nederland
Creator Work Email : whazenhoek@gmail .com
Creator Work Telephone : 0622537001
Creator Work URL : Flickr
Creator : Wim Hazenhoek
Rights : WIMHAZENHOEK
Flash Fired : False
Flash Return : No return detection
Flash Mode : Unknown
Flash Function : False
Flash Red Eye Mode : False
Tone Curve : 0, 0, 255, 255
Image Width : 300
Image Height : 188
Bits Per Sample : 8
Color Components : 3
Aperture : 11.0
Image Size : 300x188
Megapixels : 0.056
Scale Factor To 35 mm Equivalent : 1.0
Shutter Speed : 25
Create Date : 2013:11:03 15:40:09.00
Date/Time Original : 2013:11:03 15:40:09.00
Flash : No Flash
Circle Of Confusion : 0.030 mm
Depth Of Field : inf (1.09 m - inf)
Field Of View : 86.9 deg
Focal Length : 19.0 mm (35 mm equivalent: 19.0 mm)
Hyperfocal Distance : 1.09 m
Light Value : 2.0
Lens ID : AF-S Nikkor 16-35mm f/4G ED VR