Uber Exif Photo
By-line : WIMHAZENHOEK
Copyright Notice : WIMHAZENHOEK
Make : NIKON CORPORATION
Camera Model Name : NIKON D3
Orientation : Horizontal (normal)
Software : Capture NX 2.4.5 W
Modify Date : 2014:01:10 23:08:32
Artist : WIMHAZENHOEK
Copyright : WIMHAZENHOEK
Exposure Time : 30
F Number : 9.0
Exposure Program : Manual
ISO : 200
Date/Time Original : 2013:11:15 20:15:20
Create Date : 2013:11:15 20:15:20
Shutter Speed Value : 0.7
Aperture Value : 9.0
Exposure Compensation : 0
Max Aperture Value : 4.0
Subject Distance : 4294967295 m
Metering Mode : Multi-segment
Light Source : Unknown
Focal Length : 20.0 mm
Maker Note Version : 2.11
Image Data Size : 3059379
Nikon Capture Version : Capture NX 2.4.5 W
IFD0 Offset : 1134
Preview IFD Offset : 1034
NEF Bit Depth : n/a (JPEG)
Color Space : Uncalibrated
Exif Image Width : 2600
Exif Image Height : 1729
Sensing Method : One-chip color area
Scene Type : Directly photographed
Custom Rendered : Normal
Exposure Mode : Manual
White Balance : Auto
Digital Zoom Ratio : 1
Focal Length In 35mm Format : 20 mm
Scene Capture Type : Standard
Gain Control : None
Contrast : Normal
Saturation : Normal
Sharpness : Normal
Subject Distance Range : Unknown
Profile Description : sRGB IEC61966-2.1
Date/Time Digitized : 2013:11:15 20:15:20.16+01:00
Creator Tool : Adobe Photoshop Lightroom
Serial Number : 2039518
Lens Info : 16-35mm f/4
Lens : 16.0-35.0 mm f/4.0
Image Number : 78142
Version : 6.1
Process Version : 5.7
Incremental Temperature : -19
Incremental Tint : 0
Exposure : 0.00
Shadows : 5
Brightness : +48
Luminance Smoothing : 33
Color Noise Reduction : 49
Chromatic Aberration R : 0
Chromatic Aberration B : 0
Vignette Amount : 0
Shadow Tint : 0
Red Hue : 0
Red Saturation : 0
Green Hue : 0
Green Saturation : 0
Blue Hue : 0
Blue Saturation : 0
Fill Light : 14
Vibrance : +9
Highlight Recovery : 0
Clarity : 0
Defringe : 0
Hue Adjustment Red : 0
Hue Adjustment Orange : 0
Hue Adjustment Yellow : -9
Hue Adjustment Green : +6
Hue Adjustment Aqua : 0
Hue Adjustment Blue : +24
Hue Adjustment Purple : 0
Hue Adjustment Magenta : 0
Saturation Adjustment Red : -47
Saturation Adjustment Orange : 0
Saturation Adjustment Yellow : -52
Saturation Adjustment Green : +19
Saturation Adjustment Aqua : 0
Saturation Adjustment Blue : 0
Saturation Adjustment Purple : 0
Saturation Adjustment Magenta : 0
Luminance Adjustment Red : -52
Luminance Adjustment Orange : 0
Luminance Adjustment Yellow : -52
Luminance Adjustment Green : -14
Luminance Adjustment Aqua : 0
Luminance Adjustment Blue : +34
Luminance Adjustment Purple : 0
Luminance Adjustment Magenta : 0
Split Toning Shadow Hue : 0
Split Toning Shadow Saturation : 0
Split Toning Highlight Hue : 0
Split Toning Highlight Saturation : 0
Split Toning Balance : 0
Parametric Shadows : +2
Parametric Darks : 0
Parametric Lights : -12
Parametric Highlights : -100
Parametric Shadow Split : 25
Parametric Midtone Split : 50
Parametric Highlight Split : 75
Sharpen Radius : +1.8
Sharpen Detail : 38
Sharpen Edge Masking : 0
Post Crop Vignette Amount : 0
Grain Amount : 0
Luminance Noise Reduction Detail : 50
Color Noise Reduction Detail : 50
Luminance Noise Reduction Contrast : 0
Lens Profile Enable : 0
Lens Manual Distortion Amount : 0
Perspective Vertical : 0
Perspective Horizontal : 0
Perspective Rotate : 0.0
Perspective Scale : 100
Convert To Grayscale : False
Tone Curve Name : Linear
Camera Profile : Embedded
Lens Profile Setup : LensDefaults
Has Settings : True
Has Crop : False
Already Applied : True
Flash Fired : False
Flash Return : No return detection
Flash Mode : Unknown
Flash Function : False
Flash Red Eye Mode : False
Creator : WIMHAZENHOEK
Rights : WIMHAZENHOEK
Tone Curve : 0, 0, 255, 255
Image Width : 300
Image Height : 200
Bits Per Sample : 8
Color Components : 3
Aperture : 9.0
Image Size : 300x200
Megapixels : 0.060
Scale Factor To 35 mm Equivalent : 1.0
Shutter Speed : 30
Create Date : 2013:11:15 20:15:20.16
Date/Time Original : 2013:11:15 20:15:20.16
Flash : No Flash
Circle Of Confusion : 0.030 mm
Depth Of Field : inf (1.48 m - inf)
Field Of View : 84.0 deg
Focal Length : 20.0 mm (35 mm equivalent: 20.0 mm)
Hyperfocal Distance : 1.48 m
Light Value : 0.4
Lens ID : AF-S Nikkor 16-35mm f/4G ED VR