Uber Exif Photo
By-line : Vytenis Malisauskas
Copyright Notice : Carrigphotos
Make : NIKON CORPORATION
Camera Model Name : NIKON D800
Orientation : Horizontal (normal)
Software : ViewNX 2.2 M
Modify Date : 2014:02:16 18:54:14
Artist : Vytenis Malisauskas
Copyright : Carrigphotos
Exposure Time : 1/200
F Number : 3.5
Exposure Program : Manual
ISO : 100
Date/Time Original : 2014:02:09 18:31:24
Create Date : 2014:02:09 18:31:24
Shutter Speed Value : 2.7
Aperture Value : 3.5
Exposure Compensation : 0
Max Aperture Value : 2.8
Metering Mode : Multi-segment
Light Source : Flash
Flash : Off, Did not fire
Focal Length : 45.0 mm
Maker Note Version : 2.10
Image Data Size : 196667
Nikon Capture Version : ViewNX 2.2 M
IFD0 Offset : 1186
Preview IFD Offset : 1086
NEF Bit Depth : 8 x 3
Color Space : Uncalibrated
Exif Image Width : 653
Exif Image Height : 1000
Sensing Method : One-chip color area
Scene Type : Directly photographed
Custom Rendered : Normal
Exposure Mode : Manual
White Balance : Manual
Digital Zoom Ratio : 1
Focal Length In 35mm Format : 45 mm
Scene Capture Type : Standard
Gain Control : None
Contrast : Normal
Saturation : Normal
Sharpness : Normal
Subject Distance Range : Unknown
Serial Number : 2048817
Lens Info : 28-80mm f/2.8
Profile Description : Nikon sRGB 4.0.0.3002
Rating Percent : 0
Format : image/jpeg
Creator Tool : Capture NX 2.4.5 M
Rating : 0
Lens : 28.0-80.0 mm f/2.8
Image Number : 2071
Date Created : 2014:02:09 18:31:24
Color Mode : RGB
ICC Profile Name : Nikon sRGB 4.0.0.3002
Raw File Name : VMC_2092crop.jpg
Version : 6.7
Process Version : 5.7
Incremental Temperature : 0
Incremental Tint : 0
Exposure : 0.00
Shadows : 0
Brightness : 0
Luminance Smoothing : 0
Color Noise Reduction : 0
Vignette Amount : 0
Shadow Tint : 0
Red Hue : 0
Red Saturation : 0
Green Hue : 0
Green Saturation : 0
Blue Hue : 0
Blue Saturation : 0
Fill Light : 0
Vibrance : 0
Highlight Recovery : 0
Clarity : 0
Defringe : 0
Hue Adjustment Red : 0
Hue Adjustment Orange : 0
Hue Adjustment Yellow : 0
Hue Adjustment Green : 0
Hue Adjustment Aqua : 0
Hue Adjustment Blue : 0
Hue Adjustment Purple : 0
Hue Adjustment Magenta : 0
Saturation Adjustment Red : +7
Saturation Adjustment Orange : -6
Saturation Adjustment Yellow : 0
Saturation Adjustment Green : 0
Saturation Adjustment Aqua : 0
Saturation Adjustment Blue : 0
Saturation Adjustment Purple : 0
Saturation Adjustment Magenta : 0
Luminance Adjustment Red : 0
Luminance Adjustment Orange : +10
Luminance Adjustment Yellow : 0
Luminance Adjustment Green : 0
Luminance Adjustment Aqua : 0
Luminance Adjustment Blue : 0
Luminance Adjustment Purple : 0
Luminance Adjustment Magenta : 0
Split Toning Shadow Hue : 0
Split Toning Shadow Saturation : 0
Split Toning Highlight Hue : 0
Split Toning Highlight Saturation : 0
Split Toning Balance : 0
Parametric Shadows : 0
Parametric Darks : 0
Parametric Lights : 0
Parametric Highlights : 0
Parametric Shadow Split : 25
Parametric Midtone Split : 50
Parametric Highlight Split : 75
Sharpen Radius : +1.0
Sharpen Detail : 25
Sharpen Edge Masking : 0
Post Crop Vignette Amount : 0
Grain Amount : 0
Lens Profile Enable : 0
Lens Manual Distortion Amount : 0
Perspective Vertical : 0
Perspective Horizontal : 0
Perspective Rotate : 0.0
Perspective Scale : 100
Auto Lateral CA : 0
Exposure 2012 : 0.00
Contrast 2012 : 0
Highlights 2012 : 0
Shadows 2012 : 0
Whites 2012 : 0
Blacks 2012 : 0
Clarity 2012 : 0
Convert To Grayscale : False
Tone Curve Name : Linear
Tone Curve Name 2012 : Linear
Camera Profile : Embedded
Lens Profile Setup : LensDefaults
Has Settings : True
Has Crop : False
Already Applied : True
Creator : Vytenis Malisauskas
Rights : Carrigphotos
Tone Curve : 0, 0, 255, 255
Tone Curve Red : 0, 0, 255, 255
Tone Curve Green : 0, 0, 255, 255
Tone Curve Blue : 0, 0, 255, 255
Tone Curve PV2012 : 0, 0, 255, 255
Tone Curve PV2012 Red : 0, 0, 255, 255
Tone Curve PV2012 Green : 0, 0, 255, 255
Tone Curve PV2012 Blue : 0, 0, 255, 255
Image Width : 196
Image Height : 300
Bits Per Sample : 8
Color Components : 3
Aperture : 3.5
Image Size : 196x300
Megapixels : 0.059
Scale Factor To 35 mm Equivalent : 1.0
Shutter Speed : 1/200
Create Date : 2014:02:09 18:31:24.70
Date/Time Original : 2014:02:09 18:31:24.7
Circle Of Confusion : 0.030 mm
Field Of View : 43.6 deg
Focal Length : 45.0 mm (35 mm equivalent: 45.0 mm)
Hyperfocal Distance : 19.26 m
Light Value : 11.3
Lens ID : 28.0-80.0mm f/2.8