Uber Exif Photo
By-line : ANDREW PAQUETTE
Photometric Interpretation : RGB
Make : NIKON CORPORATION
Camera Model Name : NIKON D800
Orientation : Horizontal (normal)
Samples Per Pixel : 3
Planar Configuration : Chunky
Software : Adobe Photoshop CS6 (Windows)
Modify Date : 2014:04:05 21:04:07
Artist : ANDREW PAQUETTE
Exposure Time : 1/60
F Number : 1.4
Exposure Program : Aperture-priority AE
ISO : 400
Sensitivity Type : Recommended Exposure Index
Date/Time Original : 2014:04:04 19:34:40
Create Date : 2014:04:04 19:34:40
Shutter Speed Value : 1/60
Aperture Value : 1.4
Exposure Compensation : 0
Max Aperture Value : 1.4
Metering Mode : Spot
Light Source : Unknown
Flash : On, Return detected
Focal Length : 35.0 mm
Color Space : Uncalibrated
Exif Image Width : 1844
Exif Image Height : 1231
Sensing Method : One-chip color area
Scene Type : Directly photographed
CFA Pattern : [Red,Green][Green,Blue]
Custom Rendered : Normal
Exposure Mode : Auto
White Balance : Auto
Digital Zoom Ratio : 1
Focal Length In 35mm Format : 35 mm
Scene Capture Type : Standard
Gain Control : Low gain up
Contrast : Normal
Saturation : Normal
Sharpness : Normal
Subject Distance Range : Unknown
Serial Number : 6087608
Lens Info : 35mm f/1.4
Lens Model : 35.0 mm f/1.4
Profile Description : Adobe RGB (1998)
Format : image/jpeg
Creator Tool : Adobe Photoshop Lightroom 5.3 (Windows)
Lens : 35.0 mm f/1.4
Image Number : 28681
Approximate Focus Distance : 0.4
Date Created : 2014:04:04 19:34:40.002
Color Mode : RGB
ICC Profile Name : Adobe RGB (1998)
Version : 8.3
Process Version : 6.7
Auto White Version : 134348800
Color Temperature : 4300
Tint : +6
Luminance Smoothing : 0
Color Noise Reduction : 25
Vignette Amount : 0
Shadow Tint : 0
Red Hue : 0
Red Saturation : 0
Green Hue : 0
Green Saturation : 0
Blue Hue : 0
Blue Saturation : 0
Vibrance : +72
Hue Adjustment Red : 0
Hue Adjustment Orange : 0
Hue Adjustment Yellow : 0
Hue Adjustment Green : 0
Hue Adjustment Aqua : 0
Hue Adjustment Blue : 0
Hue Adjustment Purple : 0
Hue Adjustment Magenta : 0
Saturation Adjustment Red : 0
Saturation Adjustment Orange : 0
Saturation Adjustment Yellow : 0
Saturation Adjustment Green : 0
Saturation Adjustment Aqua : 0
Saturation Adjustment Blue : 0
Saturation Adjustment Purple : 0
Saturation Adjustment Magenta : 0
Luminance Adjustment Red : 0
Luminance Adjustment Orange : 0
Luminance Adjustment Yellow : 0
Luminance Adjustment Green : 0
Luminance Adjustment Aqua : 0
Luminance Adjustment Blue : 0
Luminance Adjustment Purple : 0
Luminance Adjustment Magenta : 0
Split Toning Shadow Hue : 0
Split Toning Shadow Saturation : 0
Split Toning Highlight Hue : 0
Split Toning Highlight Saturation : 0
Split Toning Balance : 0
Parametric Shadows : 0
Parametric Darks : 0
Parametric Lights : 0
Parametric Highlights : 0
Parametric Shadow Split : 25
Parametric Midtone Split : 50
Parametric Highlight Split : 75
Sharpen Radius : +1.0
Sharpen Detail : 25
Sharpen Edge Masking : 0
Post Crop Vignette Amount : 0
Grain Amount : 0
Color Noise Reduction Detail : 50
Color Noise Reduction Smoothness : 50
Lens Profile Enable : 0
Lens Manual Distortion Amount : 0
Perspective Vertical : 0
Perspective Horizontal : 0
Perspective Rotate : 0.0
Perspective Scale : 100
Perspective Aspect : 0
Perspective Upright : Off
Auto Lateral CA : 0
Exposure 2012 : +0.25
Contrast 2012 : +24
Highlights 2012 : 0
Shadows 2012 : 0
Whites 2012 : 0
Blacks 2012 : -9
Clarity 2012 : +31
Defringe Purple Amount : 0
Defringe Purple Hue Lo : 30
Defringe Purple Hue Hi : 70
Defringe Green Amount : 0
Defringe Green Hue Lo : 40
Defringe Green Hue Hi : 60
Convert To Grayscale : False
Tone Curve Name 2012 : Linear
Camera Profile : Adobe Standard
Lens Profile Setup : LensDefaults
Has Settings : True
Has Crop : False
Already Applied : True
Creator : ANDREW PAQUETTE
Tone Curve PV2012 : 0, 0, 255, 255
Tone Curve PV2012 Red : 0, 0, 255, 255
Tone Curve PV2012 Green : 0, 0, 255, 255
Tone Curve PV2012 Blue : 0, 0, 255, 255
Image Width : 300
Image Height : 200
Bits Per Sample : 8
Color Components : 3
Aperture : 1.4
Image Size : 300x200
Megapixels : 0.060
Scale Factor To 35 mm Equivalent : 1.0
Shutter Speed : 1/60
Create Date : 2014:04:04 19:34:40.20
Date/Time Original : 2014:04:04 19:34:40.20
Circle Of Confusion : 0.030 mm
Depth Of Field : 0.010 m (0.395 - 0.405 m)
Field Of View : 54.4 deg
Focal Length : 35.0 mm (35 mm equivalent: 35.0 mm)
Hyperfocal Distance : 29.12 m
Light Value : 4.9
Lens ID : AF-S Nikkor 35mm f/1.4G